Workbook

Sheet PROCEDIMIENTOS
A1: Procedimientos
A2: Datos PROVEEDOR
A3: 1 | B3: Proveedor | C3: Detallar Proveedor mas en parentesis codigo proveedor. Ejemplo Apolo Import (29)
A4: Datos SKUS (Registrar los datos correctos del SKUs)
A5: =+A3+1 -> 2 | B5: Código Interno | C5: Detallar Código Interno
A6: =+A5+1 -> 3 | B6: Código Barras | C6: Detallar Código de Barras
A7: =+A6+1 -> 4 | B7: Descripción Producto | C7: Detallar el Producto según CATASTRO
A8: Datos STOCK
A9: =+A7+1 -> 5 | B9: ABASTO | C9: Detallar STOCK de la Sucursal ABASTO
A10: 6 | B10: MARIANO | C10: Detallar STOCK de la Sucursal MARIANO
A11: 7 | B11: CAPIATA
A12: 8 | B12: LUQUE
A13: Datos del Costo-Precio actual.
A14: 9 | B14: Costo | C14: Detallar Costo actual
A15: =+A14+1 -> 10 | B15: PVP MIN | C15: Detallar Precio Minorista
A16: =+A15+1 -> 11 | B16: Mg MIN | C16: Margen Minorista - COLUMNA FORMULADA
A18: =+A16+1 -> 12 | B18: PVP MAY | C18: Detallar Precio Mayorista
A19: =+A18+1 -> 13 | B19: Mg May | C19: Margen Mayorista - COLUMNA FORMULADA
A20: =+A19+1 -> 14 | B20: Cant May | C20: Detallar Cantidad para el descuento en el Mayorista
A22: =+A20+1 -> 15 | B22: PVP DIST | C22: Detallar Precio DISTRIBUIDOR
A23: =+A22+1 -> 16 | B23: Mg May | C23: Margen DISTRIBUIDOR - COLUMNA FORMULADA
A24: =+A23+1 -> 17 | B24: Cant DIST | C24: Detallar Cantidad para el descuento en el DISTRIBUIDOR
A25: OFERTA a ser APLICADA
A26: 18 | B26: PVP MIN | C26: Detallar Precio MINORISTA
A27: 19 | B27: Mg MIN | C27: Margen Minorista - COLUMNA FORMULADA
A29: 20 | B29: PVP MAY | C29: Detallar Precio MAYORISTA - Segundo Precio
A30: 21 | B30: Mg May | C30: Margen Mayorista - COLUMNA FORMULADA
A31: 22 | B31: Cant May | C31: Detallar Cantidad para el descuento en el Mayorista
A33: 23 | B33: PVP DIST | C33: Detallar Precio DISTRIBUIDOR - Tercer Precio
A34: 24 | B34: Mg DIST | C34: Margen Distribuidor - COLUMNA FORMULADA
A35: 25 | B35: Cant DIST | C35: Detallar Cantidad para el descuento en el Distribuidor
A38: RECONOCIMIENTO
A39: 26 | B39: COSTO o VENTA | C39: Detallar si el descuento a reconocer sera por COSTO o VENTA.
A40: 27 | B40: % | C40: En caso que el Proveedor menciona % de descuento detallar, calcular en la siguiente columna valor a reconocer.
A41: 28 | B41: VALOR A RECONOCER | C41: Detallar el valor a reconocer por cada SKUs.
A43: IMPLANTACION
A44: 29 | B44: PUBLICADA | C44: Detallar publicación con un SI o NO.
A45: 30 | B45: ESPACIO | C45: Detallar GONDOLA / ISLA
A46: 31 | B46: CARTELERIA | C46: Determinar la implantación CARTELERIA o SEÑALIZACIONES
C47: Organizar los espacios en cartelería, no ser mayor a dos carteles por módulo.
...

Sheet ACCION MKT
A1: Seleccionar de BASE | D1: FORMULADO | Q1: PROPUESTA | Z1: Completar | AA1: Completar | AB1: Formulado | AC1: Formulado | AD1: Formulado | AH1: Completar | AL1: Completar | AZ1: Formulado
A2: TIPO ACCION | C2: AHORRO FINDE | D2: COSTO / PVP ACTUAL | Q2: OFERTA | AA2: RECONOCIMIENTO | AD2: PROYECCION / INVERSION | AH2: OBSERVACIONES | AL2: COMPETENCIA | AZ2: STOCK ACTUAL
A3: COD INT | B3: CODIGO BARRAS | C3: DESCRIPCIÓN PRODUCTO | D3: COSTO MATRIZ | E3: COSTO PROM | F3: PVP MIN | G3: M.U% | H3: M.D% | I3: PVP MAY | J3: UDES MAY | K3: M.U% | L3: M.D% | M3: PVP DIST. | N3: UDES DIST | O3: M.U% | P3: M.D% | Q3: PVP MIN | R3: M.U% | S3: MD% | T3: PVP MAY | U3: UDES MAY | V3: M.U% | W3: PVP DIST. | X3: UDES DIST | Y3: M.U% | AA3: PROV INV PROV | AB3: IA INV ADIC | AC3: IP INV PROPIA | AD3: UND MES | AE3: PROY UNID | AF3: VENTA | AG3: INVERSION | AH3: ACTIVADO NO ACTIVO | AI3: MOD PVP | AJ3: #TALON | AK3: Vigencia | AL3: SUPERMAS | AO3: SAN CAYETANO | AR3: FORTIS | AU3: MODERNO | AW3: FARMACIA | AZ3: AB | BA3: MRA | BB3: CR1 | BC3: LUQ | BD3: ARA | BE3: MOG
A4: BEBIDAS | AA4: 1 | AB4: 2 | AC4: 3 | AD4: Dias INV | AE4: 3 | AG4: =SUM(AG5:AG34) -> 276825 | AL4: PVP MIN | AM4: PVP MAY | AN4: OFERTA | AO4: PVP MIN | AP4: PVP MAY | AQ4: OFERTA | AR4: PVP MIN | AS4: PVP MAY | AT4: OFERTA | AU4: PVP | AV4: OFERTA
A5: 37599 | B5: 7840138001196 | C5: RON BLANCO 475ml FORTIN | D5: =IFERROR(VLOOKUP($A5,LP!$B:$AV,47,FALSE)," ") -> 11627 | E5: =IFERROR(VLOOKUP($A5,LP!$B:$AW,48,FALSE)," ") -> 11627 | F5: =IFERROR(VLOOKUP($A5,LP!$B:$AX,49,FALSE)," ") -> 13900 | G5: =+IFERROR((F5/D5-1)," ") -> 0.19549325 | H5: =IFERROR(((F5-D5)/F5)," ") -> 0.16352518 | I5: =IFERROR(VLOOKUP($A5,LP!$B:$BA,52,FALSE)," ") -> 13500 | J5: =IFERROR(VLOOKUP($A5,LP!$B:$BB,53,FALSE)," ") -> 6 | K5: =+IFERROR((I5/D5-1)," ") -> 0.16109057 | L5: =IFERROR((I5-D5)/I5," ") -> 0.13874074 | M5: =IFERROR(VLOOKUP($A5,LP!$B:$BE,56,FALSE)," ") -> 13250 | N5: =IFERROR(VLOOKUP($A5,LP!$B:$BF,57,FALSE)," ") -> 12 | O5: =IFERROR(+M5/D5-1," ") -> 0.13958889 | P5: =IFERROR((M5-D5)/M5," ") -> 0.12249057 | Q5: 12900 | R5: =IFERROR((+(Q5+AA5)/D5-1)," ") -> 0.15248989 | S5: =+IFERROR(((Q5+AA5)/E5-1)," ") -> 0.15248989 | V5: =+(T5+AA5)/D5-1 -> -0.95699665 | Y5: =+(W5+AA5)/D5-1 -> -0.95699665 | Z5: 2 | AA5: 500 | AB5: =IF(Z5=2,(F5-Q5-AA5),IF(Z5=1,0,IF(Z5=3,0,IF(Z5=0," ")))) -> 500 | AC5: =IF(Z5=3,F5-Q5,IF(Z5=1,0,IF(Z5=2,0,IF(Z5=0," ")))) -> 0 | AD5: =IFERROR(VLOOKUP(A5,LP!$B:$BI,60,FALSE)," ") -> 22 | AE5: =+IFERROR(((AD5/30)*1.5)*AE$4," ") -> 3.3 | AF5: =+IFERROR((AE5*Q5)," ") -> 42570 | AG5: =+IFERROR((AC5+AB5)*AE5," ") -> 1650 | AH5: NO ACTIVO | AI5: NO | AZ5: =IFERROR(VLOOKUP($A5,STOCK!$A:$C,3,FALSE)," ") -> 6 | BA5: =IFERROR(VLOOKUP($A5,STOCK!$A:$D,4,FALSE)," ") -> 10 | BB5: =IFERROR(VLOOKUP($A5,STOCK!$A:$E,5,FALSE)," ") -> 5 | BC5: =IFERROR(VLOOKUP(A5,STOCK!$A:$F,6,FALSE)," ") -> 4 | BD5: =IFERROR(VLOOKUP(A5,STOCK!$A:$G,7,FALSE)," ") -> 9 | BE5: =IFERROR(VLOOKUP(A5,STOCK!$A:$H,8,FALSE)," ") -> 12
A6: 37601 | B6: 7840138001202 | C6: RON CANELA 475ml FORTIN | D6: =IFERROR(VLOOKUP($A6,LP!$B:$AV,47,FALSE)," ") -> 11627 | E6: =IFERROR(VLOOKUP($A6,LP!$B:$AW,48,FALSE)," ") -> 11627 | F6: =IFERROR(VLOOKUP($A6,LP!$B:$AX,49,FALSE)," ") -> 13900 | G6: =+IFERROR((F6/D6-1)," ") -> 0.19549325 | H6: =IFERROR(((F6-D6)/F6)," ") -> 0.16352518 | I6: =IFERROR(VLOOKUP($A6,LP!$B:$BA,52,FALSE)," ") -> 13500 | J6: =IFERROR(VLOOKUP($A6,LP!$B:$BB,53,FALSE)," ") -> 6 | K6: =+IFERROR((I6/D6-1)," ") -> 0.16109057 | L6: =IFERROR((I6-D6)/I6," ") -> 0.13874074 | M6: =IFERROR(VLOOKUP($A6,LP!$B:$BE,56,FALSE)," ") -> 13250 | N6: =IFERROR(VLOOKUP($A6,LP!$B:$BF,57,FALSE)," ") -> 12 | O6: =IFERROR(+M6/D6-1," ") -> 0.13958889 | P6: =IFERROR((M6-D6)/M6," ") -> 0.12249057 | Q6: 12900 | R6: =IFERROR((+(Q6+AA6)/D6-1)," ") -> 0.15248989 | S6: =+IFERROR(((Q6+AA6)/E6-1)," ") -> 0.15248989 | V6: =+(T6+AA6)/D6-1 -> -0.95699665 | Y6: =+(W6+AA6)/D6-1 -> -0.95699665 | Z6: 2 | AA6: 500 | AB6: =IF(Z6=2,(F6-Q6-AA6),IF(Z6=1,0,IF(Z6=3,0,IF(Z6=0," ")))) -> 500 | AC6: =IF(Z6=3,F6-Q6,IF(Z6=1,0,IF(Z6=2,0,IF(Z6=0," ")))) -> 0 | AD6: =IFERROR(VLOOKUP(A6,LP!$B:$BI,60,FALSE)," ") -> 13 | AE6: =+IFERROR(((AD6/30)*1.5)*AE$4," ") -> 1.95 | AF6: =+IFERROR((AE6*Q6)," ") -> 25155 | AG6: =+IFERROR((AC6+AB6)*AE6," ") -> 975 | AH6: ACTIVADO | AI6: NO | AJ6: 12521 | AK6: 45437 | AZ6: =IFERROR(VLOOKUP($A6,STOCK!$A:$C,3,FALSE)," ") -> 58 | BA6: =IFERROR(VLOOKUP($A6,STOCK!$A:$D,4,FALSE)," ") -> 10 | BB6: =IFERROR(VLOOKUP($A6,STOCK!$A:$E,5,FALSE)," ") -> 6 | BC6: =IFERROR(VLOOKUP(A6,STOCK!$A:$F,6,FALSE)," ") -> 32 | BD6: =IFERROR(VLOOKUP(A6,STOCK!$A:$G,7,FALSE)," ") -> 21 | BE6: =IFERROR(VLOOKUP(A6,STOCK!$A:$H,8,FALSE)," ") -> 12
A7: 37597 | B7: 7840138001189 | C7: RON COCO 475ml FORTIN | D7: =IFERROR(VLOOKUP($A7,LP!$B:$AV,47,FALSE)," ") -> 11627 | E7: =IFERROR(VLOOKUP($A7,LP!$B:$AW,48,FALSE)," ") -> 11627 | F7: =IFERROR(VLOOKUP($A7,LP!$B:$AX,49,FALSE)," ") -> 13900 | G7: =+IFERROR((F7/D7-1)," ") -> 0.19549325 | H7: =IFERROR(((F7-D7)/F7)," ") -> 0.16352518 | I7: =IFERROR(VLOOKUP($A7,LP!$B:$BA,52,FALSE)," ") -> 13500 | J7: =IFERROR(VLOOKUP($A7,LP!$B:$BB,53,FALSE)," ") -> 6 | K7: =+IFERROR((I7/D7-1)," ") -> 0.16109057 | L7: =IFERROR((I7-D7)/I7," ") -> 0.13874074 | M7: =IFERROR(VLOOKUP($A7,LP!$B:$BE,56,FALSE)," ") -> 13250 | N7: =IFERROR(VLOOKUP($A7,LP!$B:$BF,57,FALSE)," ") -> 12 | O7: =IFERROR(+M7/D7-1," ") -> 0.13958889 | P7: =IFERROR((M7-D7)/M7," ") -> 0.12249057 | Q7: 12900 | R7: =IFERROR((+(Q7+AA7)/D7-1)," ") -> 0.15248989 | S7: =+IFERROR(((Q7+AA7)/E7-1)," ") -> 0.15248989 | Z7: 2 | AA7: 500 | AB7: =IF(Z7=2,(F7-Q7-AA7),IF(Z7=1,0,IF(Z7=3,0,IF(Z7=0," ")))) -> 500 | AC7: =IF(Z7=3,F7-Q7,IF(Z7=1,0,IF(Z7=2,0,IF(Z7=0," ")))) -> 0 | AD7: =IFERROR(VLOOKUP(A7,LP!$B:$BI,60,FALSE)," ") -> 61 | AE7: =+IFERROR(((AD7/30)*1.5)*AE$4," ") -> 9.15 | AF7: =+IFERROR((AE7*Q7)," ") -> 118035 | AG7: =+IFERROR((AC7+AB7)*AE7," ") -> 4575 | AH7: ACTIVADO | AI7: SI | AJ7: 12521 | AK7: 45442 | AZ7: =IFERROR(VLOOKUP($A7,STOCK!$A:$C,3,FALSE)," ") -> 17 | BA7: =IFERROR(VLOOKUP($A7,STOCK!$A:$D,4,FALSE)," ") -> 15 | BB7: =IFERROR(VLOOKUP($A7,STOCK!$A:$E,5,FALSE)," ") -> 1 | BC7: =IFERROR(VLOOKUP(A7,STOCK!$A:$F,6,FALSE)," ") -> 5 | BD7: =IFERROR(VLOOKUP(A7,STOCK!$A:$G,7,FALSE)," ") -> 23 | BE7: =IFERROR(VLOOKUP(A7,STOCK!$A:$H,8,FALSE)," ") -> 10
A8: 37600 | B8: 7840138001264 | C8: RON COCTEL FRUTOS ROJOS 475ml FORTIN | D8: =IFERROR(VLOOKUP($A8,LP!$B:$AV,47,FALSE)," ") -> 11627 | E8: =IFERROR(VLOOKUP($A8,LP!$B:$AW,48,FALSE)," ") -> 11627 | F8: =IFERROR(VLOOKUP($A8,LP!$B:$AX,49,FALSE)," ") -> 13900 | G8: =+IFERROR((F8/D8-1)," ") -> 0.19549325 | H8: =IFERROR(((F8-D8)/F8)," ") -> 0.16352518 | I8: =IFERROR(VLOOKUP($A8,LP!$B:$BA,52,FALSE)," ") -> 13500 | J8: =IFERROR(VLOOKUP($A8,LP!$B:$BB,53,FALSE)," ") -> 6 | K8: =+IFERROR((I8/D8-1)," ") -> 0.16109057 | L8: =IFERROR((I8-D8)/I8," ") -> 0.13874074 | M8: =IFERROR(VLOOKUP($A8,LP!$B:$BE,56,FALSE)," ") -> 13250 | N8: =IFERROR(VLOOKUP($A8,LP!$B:$BF,57,FALSE)," ") -> 12 | O8: =IFERROR(+M8/D8-1," ") -> 0.13958889 | P8: =IFERROR((M8-D8)/M8," ") -> 0.12249057 | Q8: 12900 | R8: =IFERROR((+(Q8+AA8)/D8-1)," ") -> 0.15248989 | S8: =+IFERROR(((Q8+AA8)/E8-1)," ") -> 0.15248989 | Z8: 2 | AA8: 500 | AB8: =IF(Z8=2,(F8-Q8-AA8),IF(Z8=1,0,IF(Z8=3,0,IF(Z8=0," ")))) -> 500 | AC8: =IF(Z8=3,F8-Q8,IF(Z8=1,0,IF(Z8=2,0,IF(Z8=0," ")))) -> 0 | AD8: =IFERROR(VLOOKUP(A8,LP!$B:$BI,60,FALSE)," ") -> 221 | AE8: =+IFERROR(((AD8/30)*1.5)*AE$4," ") -> 33.15 | AF8: =+IFERROR((AE8*Q8)," ") -> 427635 | AG8: =+IFERROR((AC8+AB8)*AE8," ") -> 16575 | AZ8: =IFERROR(VLOOKUP($A8,STOCK!$A:$C,3,FALSE)," ") -> 12 | BA8: =IFERROR(VLOOKUP($A8,STOCK!$A:$D,4,FALSE)," ") -> 6 | BB8: =IFERROR(VLOOKUP($A8,STOCK!$A:$E,5,FALSE)," ") -> 21 | BC8: =IFERROR(VLOOKUP(A8,STOCK!$A:$F,6,FALSE)," ") -> 7 | BD8: =IFERROR(VLOOKUP(A8,STOCK!$A:$G,7,FALSE)," ") -> 39 | BE8: =IFERROR(VLOOKUP(A8,STOCK!$A:$H,8,FALSE)," ") -> 0
A9: 37598 | B9: 7840138001172 | C9: RON LIMON 475ml FORTIN | D9: =IFERROR(VLOOKUP($A9,LP!$B:$AV,47,FALSE)," ") -> 11627 | E9: =IFERROR(VLOOKUP($A9,LP!$B:$AW,48,FALSE)," ") -> 11627 | F9: =IFERROR(VLOOKUP($A9,LP!$B:$AX,49,FALSE)," ") -> 13900 | G9: =+IFERROR((F9/D9-1)," ") -> 0.19549325 | H9: =IFERROR(((F9-D9)/F9)," ") -> 0.16352518 | I9: =IFERROR(VLOOKUP($A9,LP!$B:$BA,52,FALSE)," ") -> 13500 | J9: =IFERROR(VLOOKUP($A9,LP!$B:$BB,53,FALSE)," ") -> 6 | K9: =+IFERROR((I9/D9-1)," ") -> 0.16109057 | L9: =IFERROR((I9-D9)/I9," ") -> 0.13874074 | M9: =IFERROR(VLOOKUP($A9,LP!$B:$BE,56,FALSE)," ") -> 13250 | N9: =IFERROR(VLOOKUP($A9,LP!$B:$BF,57,FALSE)," ") -> 12 | O9: =IFERROR(+M9/D9-1," ") -> 0.13958889 | P9: =IFERROR((M9-D9)/M9," ") -> 0.12249057 | Q9: 12900 | R9: =IFERROR((+(Q9+AA9)/D9-1)," ") -> 0.15248989 | S9: =+IFERROR(((Q9+AA9)/E9-1)," ") -> 0.15248989 | Z9: 2 | AA9: 500 | AB9: =IF(Z9=2,(F9-Q9-AA9),IF(Z9=1,0,IF(Z9=3,0,IF(Z9=0," ")))) -> 500 | AC9: =IF(Z9=3,F9-Q9,IF(Z9=1,0,IF(Z9=2,0,IF(Z9=0," ")))) -> 0 | AD9: =IFERROR(VLOOKUP(A9,LP!$B:$BI,60,FALSE)," ") -> 50 | AE9: =+IFERROR(((AD9/30)*1.5)*AE$4," ") -> 7.5 | AF9: =+IFERROR((AE9*Q9)," ") -> 96750 | AG9: =+IFERROR((AC9+AB9)*AE9," ") -> 3750 | AZ9: =IFERROR(VLOOKUP($A9,STOCK!$A:$C,3,FALSE)," ") -> 45 | BA9: =IFERROR(VLOOKUP($A9,STOCK!$A:$D,4,FALSE)," ") -> 11 | BB9: =IFERROR(VLOOKUP($A9,STOCK!$A:$E,5,FALSE)," ") -> 8 | BC9: =IFERROR(VLOOKUP(A9,STOCK!$A:$F,6,FALSE)," ") -> 12 | BD9: =IFERROR(VLOOKUP(A9,STOCK!$A:$G,7,FALSE)," ") -> 9 | BE9: =IFERROR(VLOOKUP(A9,STOCK!$A:$H,8,FALSE)," ") -> 11
A10: 3473 | B10: 7840138000199 | C10: RON BLANCO 750ml FORTIN | D10: =IFERROR(VLOOKUP($A10,LP!$B:$AV,47,FALSE)," ") -> 14500 | E10: =IFERROR(VLOOKUP($A10,LP!$B:$AW,48,FALSE)," ") -> 14500 | F10: =IFERROR(VLOOKUP($A10,LP!$B:$AX,49,FALSE)," ") -> 16900 | G10: =+IFERROR((F10/D10-1)," ") -> 0.16551724 | H10: =IFERROR(((F10-D10)/F10)," ") -> 0.14201183 | I10: =IFERROR(VLOOKUP($A10,LP!$B:$BA,52,FALSE)," ") -> 16500 | J10: =IFERROR(VLOOKUP($A10,LP!$B:$BB,53,FALSE)," ") -> 3 | K10: =+IFERROR((I10/D10-1)," ") -> 0.13793103 | L10: =IFERROR((I10-D10)/I10," ") -> 0.12121212 | M10: =IFERROR(VLOOKUP($A10,LP!$B:$BE,56,FALSE)," ") -> 15900 | N10: =IFERROR(VLOOKUP($A10,LP!$B:$BF,57,FALSE)," ") -> 6 | O10: =IFERROR(+M10/D10-1," ") -> 0.096551723 | P10: =IFERROR((M10-D10)/M10," ") -> 0.088050313 | Q10: 15900 | R10: =IFERROR((+(Q10+AA10)/D10-1)," ") -> 0.16551724 | S10: =+IFERROR(((Q10+AA10)/E10-1)," ") -> 0.16551726 | V10: =+(T10+AA10)/D10-1 -> -0.93103448 | Y10: =+(W10+AA10)/D10-1 -> -0.93103448 | Z10: 1 | AA10: 1000 | AB10: =IF(Z10=2,(F10-Q10-AA10),IF(Z10=1,0,IF(Z10=3,0,IF(Z10=0," ")))) -> 0 | AC10: =IF(Z10=3,F10-Q10,IF(Z10=1,0,IF(Z10=2,0,IF(Z10=0," ")))) -> 0 | AD10: =IFERROR(VLOOKUP(A10,LP!$B:$BI,60,FALSE)," ") -> 205 | AE10: =+IFERROR(((AD10/30)*1.5)*AE$4," ") -> 30.75 | AF10: =+IFERROR((AE10*Q10)," ") -> 488925 | AG10: =+IFERROR((AC10+AB10)*AE10," ") -> 0 | AZ10: =IFERROR(VLOOKUP($A10,STOCK!$A:$C,3,FALSE)," ") -> 66 | BA10: =IFERROR(VLOOKUP($A10,STOCK!$A:$D,4,FALSE)," ") -> 0 | BB10: =IFERROR(VLOOKUP($A10,STOCK!$A:$E,5,FALSE)," ") -> 35 | BC10: =IFERROR(VLOOKUP(A10,STOCK!$A:$F,6,FALSE)," ") -> 7 | BD10: =IFERROR(VLOOKUP(A10,STOCK!$A:$G,7,FALSE)," ") -> 56 | BE10: =IFERROR(VLOOKUP(A10,STOCK!$A:$H,8,FALSE)," ") -> 35
A11: 21318 | B11: 7840138001059 | C11: RON CANELA 750ml FORTIN | D11: =IFERROR(VLOOKUP($A11,LP!$B:$AV,47,FALSE)," ") -> 14500 | E11: =IFERROR(VLOOKUP($A11,LP!$B:$AW,48,FALSE)," ") -> 14499.813 | F11: =IFERROR(VLOOKUP($A11,LP!$B:$AX,49,FALSE)," ") -> 16900 | G11: =+IFERROR((F11/D11-1)," ") -> 0.16551724 | H11: =IFERROR(((F11-D11)/F11)," ") -> 0.14201183 | I11: =IFERROR(VLOOKUP($A11,LP!$B:$BA,52,FALSE)," ") -> 16500 | J11: =IFERROR(VLOOKUP($A11,LP!$B:$BB,53,FALSE)," ") -> 3 | K11: =+IFERROR((I11/D11-1)," ") -> 0.13793103 | L11: =IFERROR((I11-D11)/I11," ") -> 0.12121212 | M11: =IFERROR(VLOOKUP($A11,LP!$B:$BE,56,FALSE)," ") -> 15900 | N11: =IFERROR(VLOOKUP($A11,LP!$B:$BF,57,FALSE)," ") -> 6 | O11: =IFERROR(+M11/D11-1," ") -> 0.096551723 | P11: =IFERROR((M11-D11)/M11," ") -> 0.088050313 | Q11: 15900 | R11: =IFERROR((+(Q11+AA11)/D11-1)," ") -> 0.16551724 | S11: =+IFERROR(((Q11+AA11)/E11-1)," ") -> 0.1655323 | V11: =+(T11+AA11)/D11-1 -> -0.93103448 | Y11: =+(W11+AA11)/D11-1 -> -0.93103448 | Z11: 1 | AA11: 1000 | AB11: =IF(Z11=2,(F11-Q11-AA11),IF(Z11=1,0,IF(Z11=3,0,IF(Z11=0," ")))) -> 0 | AC11: =IF(Z11=3,F11-Q11,IF(Z11=1,0,IF(Z11=2,0,IF(Z11=0," ")))) -> 0 | AD11: =IFERROR(VLOOKUP(A11,LP!$B:$BI,60,FALSE)," ") -> 52 | AE11: =+IFERROR(((AD11/30)*1.5)*AE$4," ") -> 7.8 | AF11: =+IFERROR((AE11*Q11)," ") -> 124020 | AG11: =+IFERROR((AC11+AB11)*AE11," ") -> 0 | AZ11: =IFERROR(VLOOKUP($A11,STOCK!$A:$C,3,FALSE)," ") -> 11 | BA11: =IFERROR(VLOOKUP($A11,STOCK!$A:$D,4,FALSE)," ") -> 26 | BB11: =IFERROR(VLOOKUP($A11,STOCK!$A:$E,5,FALSE)," ") -> 6 | BC11: =IFERROR(VLOOKUP(A11,STOCK!$A:$F,6,FALSE)," ") -> 5 | BD11: =IFERROR(VLOOKUP(A11,STOCK!$A:$G,7,FALSE)," ") -> 35 | BE11: =IFERROR(VLOOKUP(A11,STOCK!$A:$H,8,FALSE)," ") -> 12
A12: 3471 | B12: 7840138000281 | C12: RON COCO 750ml FORTIN | D12: =IFERROR(VLOOKUP($A12,LP!$B:$AV,47,FALSE)," ") -> 14500 | E12: =IFERROR(VLOOKUP($A12,LP!$B:$AW,48,FALSE)," ") -> 14500 | F12: =IFERROR(VLOOKUP($A12,LP!$B:$AX,49,FALSE)," ") -> 16900 | G12: =+IFERROR((F12/D12-1)," ") -> 0.16551724 | H12: =IFERROR(((F12-D12)/F12)," ") -> 0.14201183 | I12: =IFERROR(VLOOKUP($A12,LP!$B:$BA,52,FALSE)," ") -> 16500 | J12: =IFERROR(VLOOKUP($A12,LP!$B:$BB,53,FALSE)," ") -> 3 | K12: =+IFERROR((I12/D12-1)," ") -> 0.13793103 | L12: =IFERROR((I12-D12)/I12," ") -> 0.12121212 | M12: =IFERROR(VLOOKUP($A12,LP!$B:$BE,56,FALSE)," ") -> 15900 | N12: =IFERROR(VLOOKUP($A12,LP!$B:$BF,57,FALSE)," ") -> 6 | O12: =IFERROR(+M12/D12-1," ") -> 0.096551723 | P12: =IFERROR((M12-D12)/M12," ") -> 0.088050313 | Q12: 15900 | R12: =IFERROR((+(Q12+AA12)/D12-1)," ") -> 0.096551723 | S12: =+IFERROR(((Q12+AA12)/E12-1)," ") -> 0.096551739 | Z12: 3 | AB12: =IF(Z12=2,(F12-Q12-AA12),IF(Z12=1,0,IF(Z12=3,0,IF(Z12=0," ")))) -> 0 | AC12: =IF(Z12=3,F12-Q12,IF(Z12=1,0,IF(Z12=2,0,IF(Z12=0," ")))) -> 1000 | AD12: =IFERROR(VLOOKUP(A12,LP!$B:$BI,60,FALSE)," ") -> 308 | AE12: =+IFERROR(((AD12/30)*1.5)*AE$4," ") -> 46.2 | AF12: =+IFERROR((AE12*Q12)," ") -> 734580 | AG12: =+IFERROR((AC12+AB12)*AE12," ") -> 46200 | AZ12: =IFERROR(VLOOKUP($A12,STOCK!$A:$C,3,FALSE)," ") -> 81 | BA12: =IFERROR(VLOOKUP($A12,STOCK!$A:$D,4,FALSE)," ") -> 50 | BB12: =IFERROR(VLOOKUP($A12,STOCK!$A:$E,5,FALSE)," ") -> 39 | BC12: =IFERROR(VLOOKUP(A12,STOCK!$A:$F,6,FALSE)," ") -> 34 | BD12: =IFERROR(VLOOKUP(A12,STOCK!$A:$G,7,FALSE)," ") -> 63 | BE12: =IFERROR(VLOOKUP(A12,STOCK!$A:$H,8,FALSE)," ") -> 36
A13: 27635 | B13: 7840138001257 | C13: RON COCTEL FRUTOS ROJOS 750ml FORTIN | D13: =IFERROR(VLOOKUP($A13,LP!$B:$AV,47,FALSE)," ") -> 14500 | E13: =IFERROR(VLOOKUP($A13,LP!$B:$AW,48,FALSE)," ") -> 14500 | F13: =IFERROR(VLOOKUP($A13,LP!$B:$AX,49,FALSE)," ") -> 16900 | G13: =+IFERROR((F13/D13-1)," ") -> 0.16551724 | H13: =IFERROR(((F13-D13)/F13)," ") -> 0.14201183 | I13: =IFERROR(VLOOKUP($A13,LP!$B:$BA,52,FALSE)," ") -> 16500 | J13: =IFERROR(VLOOKUP($A13,LP!$B:$BB,53,FALSE)," ") -> 3 | K13: =+IFERROR((I13/D13-1)," ") -> 0.13793103 | L13: =IFERROR((I13-D13)/I13," ") -> 0.12121212 | M13: =IFERROR(VLOOKUP($A13,LP!$B:$BE,56,FALSE)," ") -> 15900 | N13: =IFERROR(VLOOKUP($A13,LP!$B:$BF,57,FALSE)," ") -> 6 | O13: =IFERROR(+M13/D13-1," ") -> 0.096551723 | P13: =IFERROR((M13-D13)/M13," ") -> 0.088050313 | Q13: 15900 | R13: =IFERROR((+(Q13+AA13)/D13-1)," ") -> 0.096551723 | S13: =+IFERROR(((Q13+AA13)/E13-1)," ") -> 0.096551739 | Z13: 3 | AB13: =IF(Z13=2,(F13-Q13-AA13),IF(Z13=1,0,IF(Z13=3,0,IF(Z13=0," ")))) -> 0 | AC13: =IF(Z13=3,F13-Q13,IF(Z13=1,0,IF(Z13=2,0,IF(Z13=0," ")))) -> 1000 | AD13: =IFERROR(VLOOKUP(A13,LP!$B:$BI,60,FALSE)," ") -> 1196 | AE13: =+IFERROR(((AD13/30)*1.5)*AE$4," ") -> 179.4 | AF13: =+IFERROR((AE13*Q13)," ") -> 2852460 | AG13: =+IFERROR((AC13+AB13)*AE13," ") -> 179400 | AZ13: =IFERROR(VLOOKUP($A13,STOCK!$A:$C,3,FALSE)," ") -> 148 | BA13: =IFERROR(VLOOKUP($A13,STOCK!$A:$D,4,FALSE)," ") -> 194 | BB13: =IFERROR(VLOOKUP($A13,STOCK!$A:$E,5,FALSE)," ") -> 132 | BC13: =IFERROR(VLOOKUP(A13,STOCK!$A:$F,6,FALSE)," ") -> 119 | BD13: =IFERROR(VLOOKUP(A13,STOCK!$A:$G,7,FALSE)," ") -> 172 | BE13: =IFERROR(VLOOKUP(A13,STOCK!$A:$H,8,FALSE)," ") -> 126
A14: 3472 | B14: 7840138000144 | C14: RON LIMON 750ml FORTIN | D14: =IFERROR(VLOOKUP($A14,LP!$B:$AV,47,FALSE)," ") -> 14500 | E14: =IFERROR(VLOOKUP($A14,LP!$B:$AW,48,FALSE)," ") -> 14500 | F14: =IFERROR(VLOOKUP($A14,LP!$B:$AX,49,FALSE)," ") -> 16900 | G14: =+IFERROR((F14/D14-1)," ") -> 0.16551724 | H14: =IFERROR(((F14-D14)/F14)," ") -> 0.14201183 | I14: =IFERROR(VLOOKUP($A14,LP!$B:$BA,52,FALSE)," ") -> 16500 | J14: =IFERROR(VLOOKUP($A14,LP!$B:$BB,53,FALSE)," ") -> 3 | K14: =+IFERROR((I14/D14-1)," ") -> 0.13793103 | L14: =IFERROR((I14-D14)/I14," ") -> 0.12121212 | M14: =IFERROR(VLOOKUP($A14,LP!$B:$BE,56,FALSE)," ") -> 15900 | N14: =IFERROR(VLOOKUP($A14,LP!$B:$BF,57,FALSE)," ") -> 6 | O14: =IFERROR(+M14/D14-1," ") -> 0.096551723 | P14: =IFERROR((M14-D14)/M14," ") -> 0.088050313 | Q14: 15900 | R14: =IFERROR((+(Q14+AA14)/D14-1)," ") -> 0.096551723 | S14: =+IFERROR(((Q14+AA14)/E14-1)," ") -> 0.096551739 | Z14: 3 | AB14: =IF(Z14=2,(F14-Q14-AA14),IF(Z14=1,0,IF(Z14=3,0,IF(Z14=0," ")))) -> 0 | AC14: =IF(Z14=3,F14-Q14,IF(Z14=1,0,IF(Z14=2,0,IF(Z14=0," ")))) -> 1000 | AD14: =IFERROR(VLOOKUP(A14,LP!$B:$BI,60,FALSE)," ") -> 158 | AE14: =+IFERROR(((AD14/30)*1.5)*AE$4," ") -> 23.7 | AF14: =+IFERROR((AE14*Q14)," ") -> 376830 | AG14: =+IFERROR((AC14+AB14)*AE14," ") -> 23700 | AZ14: =IFERROR(VLOOKUP($A14,STOCK!$A:$C,3,FALSE)," ") -> 29 | BA14: =IFERROR(VLOOKUP($A14,STOCK!$A:$D,4,FALSE)," ") -> 19 | BB14: =IFERROR(VLOOKUP($A14,STOCK!$A:$E,5,FALSE)," ") -> 27 | BC14: =IFERROR(VLOOKUP(A14,STOCK!$A:$F,6,FALSE)," ") -> 19 | BD14: =IFERROR(VLOOKUP(A14,STOCK!$A:$G,7,FALSE)," ") -> 19 | BE14: =IFERROR(VLOOKUP(A14,STOCK!$A:$H,8,FALSE)," ") -> 21
D15: =IFERROR(VLOOKUP($A15,LP!$B:$AV,47,FALSE)," ") | E15: =IFERROR(VLOOKUP($A15,LP!$B:$AW,48,FALSE)," ") | F15: =IFERROR(VLOOKUP($A15,LP!$B:$AX,49,FALSE)," ") | G15: =+IFERROR((F15/D15-1)," ") | H15: =IFERROR(((F15-D15)/F15)," ") | I15: =IFERROR(VLOOKUP($A15,LP!$B:$BA,52,FALSE)," ") | J15: =IFERROR(VLOOKUP($A15,LP!$B:$BB,53,FALSE)," ") | K15: =+IFERROR((I15/D15-1)," ") | L15: =IFERROR((I15-D15)/I15," ") | M15: =IFERROR(VLOOKUP($A15,LP!$B:$BE,56,FALSE)," ") | N15: =IFERROR(VLOOKUP($A15,LP!$B:$BF,57,FALSE)," ") | O15: =IFERROR(+M15/D15-1," ") | P15: =IFERROR((M15-D15)/M15," ") | R15: =IFERROR((+(Q15+AA15)/D15-1)," ") | S15: =+IFERROR(((Q15+AA15)/E15-1)," ") | AB15: =IF(Z15=2,(F15-Q15-AA15),IF(Z15=1,0,IF(Z15=3,0,IF(Z15=0," ")))) | AC15: =IF(Z15=3,F15-Q15,IF(Z15=1,0,IF(Z15=2,0,IF(Z15=0," ")))) | AD15: =IFERROR(VLOOKUP(A15,LP!$B:$BI,60,FALSE)," ") | AE15: =+IFERROR(((AD15/30)*1.5)*AE$4," ") | AF15: =+IFERROR((AE15*Q15)," ") | AG15: =+IFERROR((AC15+AB15)*AE15," ") | AZ15: =IFERROR(VLOOKUP($A15,STOCK!$A:$C,3,FALSE)," ") | BA15: =IFERROR(VLOOKUP($A15,STOCK!$A:$D,4,FALSE)," ") | BB15: =IFERROR(VLOOKUP($A15,STOCK!$A:$E,5,FALSE)," ") | BC15: =IFERROR(VLOOKUP(A15,STOCK!$A:$F,6,FALSE)," ") | BD15: =IFERROR(VLOOKUP(A15,STOCK!$A:$G,7,FALSE)," ") | BE15: =IFERROR(VLOOKUP(A15,STOCK!$A:$H,8,FALSE)," ")
D16: =IFERROR(VLOOKUP($A16,LP!$B:$AV,47,FALSE)," ") | E16: =IFERROR(VLOOKUP($A16,LP!$B:$AW,48,FALSE)," ") | F16: =IFERROR(VLOOKUP($A16,LP!$B:$AX,49,FALSE)," ") | G16: =+IFERROR((F16/D16-1)," ") | H16: =IFERROR(((F16-D16)/F16)," ") | I16: =IFERROR(VLOOKUP($A16,LP!$B:$BA,52,FALSE)," ") | J16: =IFERROR(VLOOKUP($A16,LP!$B:$BB,53,FALSE)," ") | K16: =+IFERROR((I16/D16-1)," ") | L16: =IFERROR((I16-D16)/I16," ") | M16: =IFERROR(VLOOKUP($A16,LP!$B:$BE,56,FALSE)," ") | N16: =IFERROR(VLOOKUP($A16,LP!$B:$BF,57,FALSE)," ") | O16: =IFERROR(+M16/D16-1," ") | P16: =IFERROR((M16-D16)/M16," ") | R16: =IFERROR((+(Q16+AA16)/D16-1)," ") | S16: =+IFERROR(((Q16+AA16)/E16-1)," ") | AB16: =IF(Z16=2,(F16-Q16-AA16),IF(Z16=1,0,IF(Z16=3,0,IF(Z16=0," ")))) | AC16: =IF(Z16=3,F16-Q16,IF(Z16=1,0,IF(Z16=2,0,IF(Z16=0," ")))) | AD16: =IFERROR(VLOOKUP(A16,LP!$B:$BI,60,FALSE)," ") | AE16: =+IFERROR(((AD16/30)*1.5)*AE$4," ") | AF16: =+IFERROR((AE16*Q16)," ") | AG16: =+IFERROR((AC16+AB16)*AE16," ") | AZ16: =IFERROR(VLOOKUP($A16,STOCK!$A:$C,3,FALSE)," ") | BA16: =IFERROR(VLOOKUP($A16,STOCK!$A:$D,4,FALSE)," ") | BB16: =IFERROR(VLOOKUP($A16,STOCK!$A:$E,5,FALSE)," ") | BC16: =IFERROR(VLOOKUP(A16,STOCK!$A:$F,6,FALSE)," ") | BD16: =IFERROR(VLOOKUP(A16,STOCK!$A:$G,7,FALSE)," ") | BE16: =IFERROR(VLOOKUP(A16,STOCK!$A:$H,8,FALSE)," ")
D17: =IFERROR(VLOOKUP($A17,LP!$B:$AV,47,FALSE)," ") | E17: =IFERROR(VLOOKUP($A17,LP!$B:$AW,48,FALSE)," ") | F17: =IFERROR(VLOOKUP($A17,LP!$B:$AX,49,FALSE)," ") | G17: =+IFERROR((F17/D17-1)," ") | H17: =IFERROR(((F17-D17)/F17)," ") | I17: =IFERROR(VLOOKUP($A17,LP!$B:$BA,52,FALSE)," ") | J17: =IFERROR(VLOOKUP($A17,LP!$B:$BB,53,FALSE)," ") | K17: =+IFERROR((I17/D17-1)," ") | L17: =IFERROR((I17-D17)/I17," ") | M17: =IFERROR(VLOOKUP($A17,LP!$B:$BE,56,FALSE)," ") | N17: =IFERROR(VLOOKUP($A17,LP!$B:$BF,57,FALSE)," ") | O17: =IFERROR(+M17/D17-1," ") | P17: =IFERROR((M17-D17)/M17," ") | R17: =IFERROR((+(Q17+AA17)/D17-1)," ") | S17: =+IFERROR(((Q17+AA17)/E17-1)," ") | AB17: =IF(Z17=2,(F17-Q17-AA17),IF(Z17=1,0,IF(Z17=3,0,IF(Z17=0," ")))) | AC17: =IF(Z17=3,F17-Q17,IF(Z17=1,0,IF(Z17=2,0,IF(Z17=0," ")))) | AD17: =IFERROR(VLOOKUP(A17,LP!$B:$BI,60,FALSE)," ") | AE17: =+IFERROR(((AD17/30)*1.5)*AE$4," ") | AF17: =+IFERROR((AE17*Q17)," ") | AG17: =+IFERROR((AC17+AB17)*AE17," ") | AZ17: =IFERROR(VLOOKUP($A17,STOCK!$A:$C,3,FALSE)," ") | BA17: =IFERROR(VLOOKUP($A17,STOCK!$A:$D,4,FALSE)," ") | BB17: =IFERROR(VLOOKUP($A17,STOCK!$A:$E,5,FALSE)," ") | BC17: =IFERROR(VLOOKUP(A17,STOCK!$A:$F,6,FALSE)," ") | BD17: =IFERROR(VLOOKUP(A17,STOCK!$A:$G,7,FALSE)," ") | BE17: =IFERROR(VLOOKUP(A17,STOCK!$A:$H,8,FALSE)," ")
D18: =IFERROR(VLOOKUP($A18,LP!$B:$AV,47,FALSE)," ") | E18: =IFERROR(VLOOKUP($A18,LP!$B:$AW,48,FALSE)," ") | F18: =IFERROR(VLOOKUP($A18,LP!$B:$AX,49,FALSE)," ") | G18: =+IFERROR((F18/D18-1)," ") | H18: =IFERROR(((F18-D18)/F18)," ") | I18: =IFERROR(VLOOKUP($A18,LP!$B:$BA,52,FALSE)," ") | J18: =IFERROR(VLOOKUP($A18,LP!$B:$BB,53,FALSE)," ") | K18: =+IFERROR((I18/D18-1)," ") | L18: =IFERROR((I18-D18)/I18," ") | M18: =IFERROR(VLOOKUP($A18,LP!$B:$BE,56,FALSE)," ") | N18: =IFERROR(VLOOKUP($A18,LP!$B:$BF,57,FALSE)," ") | O18: =IFERROR(+M18/D18-1," ") | P18: =IFERROR((M18-D18)/M18," ") | R18: =IFERROR((+(Q18+AA18)/D18-1)," ") | S18: =+IFERROR(((Q18+AA18)/E18-1)," ") | AB18: =IF(Z18=2,(F18-Q18-AA18),IF(Z18=1,0,IF(Z18=3,0,IF(Z18=0," ")))) | AC18: =IF(Z18=3,F18-Q18,IF(Z18=1,0,IF(Z18=2,0,IF(Z18=0," ")))) | AD18: =IFERROR(VLOOKUP(A18,LP!$B:$BI,60,FALSE)," ") | AE18: =+IFERROR(((AD18/30)*1.5)*AE$4," ") | AF18: =+IFERROR((AE18*Q18)," ") | AG18: =+IFERROR((AC18+AB18)*AE18," ") | AZ18: =IFERROR(VLOOKUP($A18,STOCK!$A:$C,3,FALSE)," ") | BA18: =IFERROR(VLOOKUP($A18,STOCK!$A:$D,4,FALSE)," ") | BB18: =IFERROR(VLOOKUP($A18,STOCK!$A:$E,5,FALSE)," ") | BC18: =IFERROR(VLOOKUP(A18,STOCK!$A:$F,6,FALSE)," ") | BD18: =IFERROR(VLOOKUP(A18,STOCK!$A:$G,7,FALSE)," ") | BE18: =IFERROR(VLOOKUP(A18,STOCK!$A:$H,8,FALSE)," ")
D19: =IFERROR(VLOOKUP($A19,LP!$B:$AV,47,FALSE)," ") | E19: =IFERROR(VLOOKUP($A19,LP!$B:$AW,48,FALSE)," ") | F19: =IFERROR(VLOOKUP($A19,LP!$B:$AX,49,FALSE)," ") | G19: =+IFERROR((F19/D19-1)," ") | H19: =IFERROR(((F19-D19)/F19)," ") | I19: =IFERROR(VLOOKUP($A19,LP!$B:$BA,52,FALSE)," ") | J19: =IFERROR(VLOOKUP($A19,LP!$B:$BB,53,FALSE)," ") | K19: =+IFERROR((I19/D19-1)," ") | L19: =IFERROR((I19-D19)/I19," ") | M19: =IFERROR(VLOOKUP($A19,LP!$B:$BE,56,FALSE)," ") | N19: =IFERROR(VLOOKUP($A19,LP!$B:$BF,57,FALSE)," ") | O19: =IFERROR(+M19/D19-1," ") | P19: =IFERROR((M19-D19)/M19," ") | R19: =IFERROR((+(Q19+AA19)/D19-1)," ") | S19: =+IFERROR(((Q19+AA19)/E19-1)," ") | AB19: =IF(Z19=2,(F19-Q19-AA19),IF(Z19=1,0,IF(Z19=3,0,IF(Z19=0," ")))) | AC19: =IF(Z19=3,F19-Q19,IF(Z19=1,0,IF(Z19=2,0,IF(Z19=0," ")))) | AD19: =IFERROR(VLOOKUP(A19,LP!$B:$BI,60,FALSE)," ") | AE19: =+IFERROR(((AD19/30)*1.5)*AE$4," ") | AF19: =+IFERROR((AE19*Q19)," ") | AG19: =+IFERROR((AC19+AB19)*AE19," ") | AZ19: =IFERROR(VLOOKUP($A19,STOCK!$A:$C,3,FALSE)," ") | BA19: =IFERROR(VLOOKUP($A19,STOCK!$A:$D,4,FALSE)," ") | BB19: =IFERROR(VLOOKUP($A19,STOCK!$A:$E,5,FALSE)," ") | BC19: =IFERROR(VLOOKUP(A19,STOCK!$A:$F,6,FALSE)," ") | BD19: =IFERROR(VLOOKUP(A19,STOCK!$A:$G,7,FALSE)," ") | BE19: =IFERROR(VLOOKUP(A19,STOCK!$A:$H,8,FALSE)," ")
D20: =IFERROR(VLOOKUP($A20,LP!$B:$AV,47,FALSE)," ") | E20: =IFERROR(VLOOKUP($A20,LP!$B:$AW,48,FALSE)," ") | F20: =IFERROR(VLOOKUP($A20,LP!$B:$AX,49,FALSE)," ") | G20: =+IFERROR((F20/D20-1)," ") | H20: =IFERROR(((F20-D20)/F20)," ") | I20: =IFERROR(VLOOKUP($A20,LP!$B:$BA,52,FALSE)," ") | J20: =IFERROR(VLOOKUP($A20,LP!$B:$BB,53,FALSE)," ") | K20: =+IFERROR((I20/D20-1)," ") | L20: =IFERROR((I20-D20)/I20," ") | M20: =IFERROR(VLOOKUP($A20,LP!$B:$BE,56,FALSE)," ") | N20: =IFERROR(VLOOKUP($A20,LP!$B:$BF,57,FALSE)," ") | O20: =IFERROR(+M20/D20-1," ") | P20: =IFERROR((M20-D20)/M20," ") | R20: =IFERROR((+(Q20+AA20)/D20-1)," ") | S20: =+IFERROR(((Q20+AA20)/E20-1)," ") | AB20: =IF(Z20=2,(F20-Q20-AA20),IF(Z20=1,0,IF(Z20=3,0,IF(Z20=0," ")))) | AC20: =IF(Z20=3,F20-Q20,IF(Z20=1,0,IF(Z20=2,0,IF(Z20=0," ")))) | AD20: =IFERROR(VLOOKUP(A20,LP!$B:$BI,60,FALSE)," ") | AE20: =+IFERROR(((AD20/30)*1.5)*AE$4," ") | AF20: =+IFERROR((AE20*Q20)," ") | AG20: =+IFERROR((AC20+AB20)*AE20," ") | AZ20: =IFERROR(VLOOKUP($A20,STOCK!$A:$C,3,FALSE)," ") | BA20: =IFERROR(VLOOKUP($A20,STOCK!$A:$D,4,FALSE)," ") | BB20: =IFERROR(VLOOKUP($A20,STOCK!$A:$E,5,FALSE)," ") | BC20: =IFERROR(VLOOKUP(A20,STOCK!$A:$F,6,FALSE)," ") | BD20: =IFERROR(VLOOKUP(A20,STOCK!$A:$G,7,FALSE)," ") | BE20: =IFERROR(VLOOKUP(A20,STOCK!$A:$H,8,FALSE)," ")
D21: =IFERROR(VLOOKUP($A21,LP!$B:$AV,47,FALSE)," ") | E21: =IFERROR(VLOOKUP($A21,LP!$B:$AW,48,FALSE)," ") | F21: =IFERROR(VLOOKUP($A21,LP!$B:$AX,49,FALSE)," ") | G21: =+IFERROR((F21/D21-1)," ") | H21: =IFERROR(((F21-D21)/F21)," ") | I21: =IFERROR(VLOOKUP($A21,LP!$B:$BA,52,FALSE)," ") | J21: =IFERROR(VLOOKUP($A21,LP!$B:$BB,53,FALSE)," ") | K21: =+IFERROR((I21/D21-1)," ") | L21: =IFERROR((I21-D21)/I21," ") | M21: =IFERROR(VLOOKUP($A21,LP!$B:$BE,56,FALSE)," ") | N21: =IFERROR(VLOOKUP($A21,LP!$B:$BF,57,FALSE)," ") | O21: =IFERROR(+M21/D21-1," ") | P21: =IFERROR((M21-D21)/M21," ") | R21: =IFERROR((+(Q21+AA21)/D21-1)," ") | S21: =+IFERROR(((Q21+AA21)/E21-1)," ") | AB21: =IF(Z21=2,(F21-Q21-AA21),IF(Z21=1,0,IF(Z21=3,0,IF(Z21=0," ")))) | AC21: =IF(Z21=3,F21-Q21,IF(Z21=1,0,IF(Z21=2,0,IF(Z21=0," ")))) | AD21: =IFERROR(VLOOKUP(A21,LP!$B:$BI,60,FALSE)," ") | AE21: =+IFERROR(((AD21/30)*1.5)*AE$4," ") | AF21: =+IFERROR((AE21*Q21)," ") | AG21: =+IFERROR((AC21+AB21)*AE21," ") | AZ21: =IFERROR(VLOOKUP($A21,STOCK!$A:$C,3,FALSE)," ") | BA21: =IFERROR(VLOOKUP($A21,STOCK!$A:$D,4,FALSE)," ") | BB21: =IFERROR(VLOOKUP($A21,STOCK!$A:$E,5,FALSE)," ") | BC21: =IFERROR(VLOOKUP(A21,STOCK!$A:$F,6,FALSE)," ") | BD21: =IFERROR(VLOOKUP(A21,STOCK!$A:$G,7,FALSE)," ") | BE21: =IFERROR(VLOOKUP(A21,STOCK!$A:$H,8,FALSE)," ")
D22: =IFERROR(VLOOKUP($A22,LP!$B:$AV,47,FALSE)," ") | E22: =IFERROR(VLOOKUP($A22,LP!$B:$AW,48,FALSE)," ") | F22: =IFERROR(VLOOKUP($A22,LP!$B:$AX,49,FALSE)," ") | G22: =+IFERROR((F22/D22-1)," ") | H22: =IFERROR(((F22-D22)/F22)," ") | I22: =IFERROR(VLOOKUP($A22,LP!$B:$BA,52,FALSE)," ") | J22: =IFERROR(VLOOKUP($A22,LP!$B:$BB,53,FALSE)," ") | K22: =+IFERROR((I22/D22-1)," ") | L22: =IFERROR((I22-D22)/I22," ") | M22: =IFERROR(VLOOKUP($A22,LP!$B:$BE,56,FALSE)," ") | N22: =IFERROR(VLOOKUP($A22,LP!$B:$BF,57,FALSE)," ") | O22: =IFERROR(+M22/D22-1," ") | P22: =IFERROR((M22-D22)/M22," ") | R22: =IFERROR((+(Q22+AA22)/D22-1)," ") | S22: =+IFERROR(((Q22+AA22)/E22-1)," ") | AB22: =IF(Z22=2,(F22-Q22-AA22),IF(Z22=1,0,IF(Z22=3,0,IF(Z22=0," ")))) | AC22: =IF(Z22=3,F22-Q22,IF(Z22=1,0,IF(Z22=2,0,IF(Z22=0," ")))) | AD22: =IFERROR(VLOOKUP(A22,LP!$B:$BI,60,FALSE)," ") | AE22: =+IFERROR(((AD22/30)*1.5)*AE$4," ") | AF22: =+IFERROR((AE22*Q22)," ") | AG22: =+IFERROR((AC22+AB22)*AE22," ") | AZ22: =IFERROR(VLOOKUP($A22,STOCK!$A:$C,3,FALSE)," ") | BA22: =IFERROR(VLOOKUP($A22,STOCK!$A:$D,4,FALSE)," ") | BB22: =IFERROR(VLOOKUP($A22,STOCK!$A:$E,5,FALSE)," ") | BC22: =IFERROR(VLOOKUP(A22,STOCK!$A:$F,6,FALSE)," ") | BD22: =IFERROR(VLOOKUP(A22,STOCK!$A:$G,7,FALSE)," ") | BE22: =IFERROR(VLOOKUP(A22,STOCK!$A:$H,8,FALSE)," ")
D23: =IFERROR(VLOOKUP($A23,LP!$B:$AV,47,FALSE)," ") | E23: =IFERROR(VLOOKUP($A23,LP!$B:$AW,48,FALSE)," ") | F23: =IFERROR(VLOOKUP($A23,LP!$B:$AX,49,FALSE)," ") | G23: =+IFERROR((F23/D23-1)," ") | H23: =IFERROR(((F23-D23)/F23)," ") | I23: =IFERROR(VLOOKUP($A23,LP!$B:$BA,52,FALSE)," ") | J23: =IFERROR(VLOOKUP($A23,LP!$B:$BB,53,FALSE)," ") | K23: =+IFERROR((I23/D23-1)," ") | L23: =IFERROR((I23-D23)/I23," ") | M23: =IFERROR(VLOOKUP($A23,LP!$B:$BE,56,FALSE)," ") | N23: =IFERROR(VLOOKUP($A23,LP!$B:$BF,57,FALSE)," ") | O23: =IFERROR(+M23/D23-1," ") | P23: =IFERROR((M23-D23)/M23," ") | R23: =IFERROR((+(Q23+AA23)/D23-1)," ") | S23: =+IFERROR(((Q23+AA23)/E23-1)," ") | AB23: =IF(Z23=2,(F23-Q23-AA23),IF(Z23=1,0,IF(Z23=3,0,IF(Z23=0," ")))) | AC23: =IF(Z23=3,F23-Q23,IF(Z23=1,0,IF(Z23=2,0,IF(Z23=0," ")))) | AD23: =IFERROR(VLOOKUP(A23,LP!$B:$BI,60,FALSE)," ") | AE23: =+IFERROR(((AD23/30)*1.5)*AE$4," ") | AF23: =+IFERROR((AE23*Q23)," ") | AG23: =+IFERROR((AC23+AB23)*AE23," ") | AZ23: =IFERROR(VLOOKUP($A23,STOCK!$A:$C,3,FALSE)," ") | BA23: =IFERROR(VLOOKUP($A23,STOCK!$A:$D,4,FALSE)," ") | BB23: =IFERROR(VLOOKUP($A23,STOCK!$A:$E,5,FALSE)," ") | BC23: =IFERROR(VLOOKUP(A23,STOCK!$A:$F,6,FALSE)," ") | BD23: =IFERROR(VLOOKUP(A23,STOCK!$A:$G,7,FALSE)," ") | BE23: =IFERROR(VLOOKUP(A23,STOCK!$A:$H,8,FALSE)," ")
D24: =IFERROR(VLOOKUP($A24,LP!$B:$AV,47,FALSE)," ") | E24: =IFERROR(VLOOKUP($A24,LP!$B:$AW,48,FALSE)," ") | F24: =IFERROR(VLOOKUP($A24,LP!$B:$AX,49,FALSE)," ") | G24: =+IFERROR((F24/D24-1)," ") | H24: =IFERROR(((F24-D24)/F24)," ") | I24: =IFERROR(VLOOKUP($A24,LP!$B:$BA,52,FALSE)," ") | J24: =IFERROR(VLOOKUP($A24,LP!$B:$BB,53,FALSE)," ") | K24: =+IFERROR((I24/D24-1)," ") | L24: =IFERROR((I24-D24)/I24," ") | M24: =IFERROR(VLOOKUP($A24,LP!$B:$BE,56,FALSE)," ") | N24: =IFERROR(VLOOKUP($A24,LP!$B:$BF,57,FALSE)," ") | O24: =IFERROR(+M24/D24-1," ") | P24: =IFERROR((M24-D24)/M24," ") | R24: =IFERROR((+(Q24+AA24)/D24-1)," ") | S24: =+IFERROR(((Q24+AA24)/E24-1)," ") | AB24: =IF(Z24=2,(F24-Q24-AA24),IF(Z24=1,0,IF(Z24=3,0,IF(Z24=0," ")))) | AC24: =IF(Z24=3,F24-Q24,IF(Z24=1,0,IF(Z24=2,0,IF(Z24=0," ")))) | AD24: =IFERROR(VLOOKUP(A24,LP!$B:$BI,60,FALSE)," ") | AE24: =+IFERROR(((AD24/30)*1.5)*AE$4," ") | AF24: =+IFERROR((AE24*Q24)," ") | AG24: =+IFERROR((AC24+AB24)*AE24," ") | AZ24: =IFERROR(VLOOKUP($A24,STOCK!$A:$C,3,FALSE)," ") | BA24: =IFERROR(VLOOKUP($A24,STOCK!$A:$D,4,FALSE)," ") | BB24: =IFERROR(VLOOKUP($A24,STOCK!$A:$E,5,FALSE)," ") | BC24: =IFERROR(VLOOKUP(A24,STOCK!$A:$F,6,FALSE)," ") | BD24: =IFERROR(VLOOKUP(A24,STOCK!$A:$G,7,FALSE)," ") | BE24: =IFERROR(VLOOKUP(A24,STOCK!$A:$H,8,FALSE)," ")
D25: =IFERROR(VLOOKUP($A25,LP!$B:$AV,47,FALSE)," ") | E25: =IFERROR(VLOOKUP($A25,LP!$B:$AW,48,FALSE)," ") | F25: =IFERROR(VLOOKUP($A25,LP!$B:$AX,49,FALSE)," ") | G25: =+IFERROR((F25/D25-1)," ") | H25: =IFERROR(((F25-D25)/F25)," ") | I25: =IFERROR(VLOOKUP($A25,LP!$B:$BA,52,FALSE)," ") | J25: =IFERROR(VLOOKUP($A25,LP!$B:$BB,53,FALSE)," ") | K25: =+IFERROR((I25/D25-1)," ") | L25: =IFERROR((I25-D25)/I25," ") | M25: =IFERROR(VLOOKUP($A25,LP!$B:$BE,56,FALSE)," ") | N25: =IFERROR(VLOOKUP($A25,LP!$B:$BF,57,FALSE)," ") | O25: =IFERROR(+M25/D25-1," ") | P25: =IFERROR((M25-D25)/M25," ") | R25: =IFERROR((+(Q25+AA25)/D25-1)," ") | S25: =+IFERROR(((Q25+AA25)/E25-1)," ") | AB25: =IF(Z25=2,(F25-Q25-AA25),IF(Z25=1,0,IF(Z25=3,0,IF(Z25=0," ")))) | AC25: =IF(Z25=3,F25-Q25,IF(Z25=1,0,IF(Z25=2,0,IF(Z25=0," ")))) | AD25: =IFERROR(VLOOKUP(A25,LP!$B:$BI,60,FALSE)," ") | AE25: =+IFERROR(((AD25/30)*1.5)*AE$4," ") | AF25: =+IFERROR((AE25*Q25)," ") | AG25: =+IFERROR((AC25+AB25)*AE25," ") | AZ25: =IFERROR(VLOOKUP($A25,STOCK!$A:$C,3,FALSE)," ") | BA25: =IFERROR(VLOOKUP($A25,STOCK!$A:$D,4,FALSE)," ") | BB25: =IFERROR(VLOOKUP($A25,STOCK!$A:$E,5,FALSE)," ") | BC25: =IFERROR(VLOOKUP(A25,STOCK!$A:$F,6,FALSE)," ") | BD25: =IFERROR(VLOOKUP(A25,STOCK!$A:$G,7,FALSE)," ") | BE25: =IFERROR(VLOOKUP(A25,STOCK!$A:$H,8,FALSE)," ")
D26: =IFERROR(VLOOKUP($A26,LP!$B:$AV,47,FALSE)," ") | E26: =IFERROR(VLOOKUP($A26,LP!$B:$AW,48,FALSE)," ") | F26: =IFERROR(VLOOKUP($A26,LP!$B:$AX,49,FALSE)," ") | G26: =+IFERROR((F26/D26-1)," ") | H26: =IFERROR(((F26-D26)/F26)," ") | I26: =IFERROR(VLOOKUP($A26,LP!$B:$BA,52,FALSE)," ") | J26: =IFERROR(VLOOKUP($A26,LP!$B:$BB,53,FALSE)," ") | K26: =+IFERROR((I26/D26-1)," ") | L26: =IFERROR((I26-D26)/I26," ") | M26: =IFERROR(VLOOKUP($A26,LP!$B:$BE,56,FALSE)," ") | N26: =IFERROR(VLOOKUP($A26,LP!$B:$BF,57,FALSE)," ") | O26: =IFERROR(+M26/D26-1," ") | P26: =IFERROR((M26-D26)/M26," ") | R26: =IFERROR((+(Q26+AA26)/D26-1)," ") | S26: =+IFERROR(((Q26+AA26)/E26-1)," ") | AB26: =IF(Z26=2,(F26-Q26-AA26),IF(Z26=1,0,IF(Z26=3,0,IF(Z26=0," ")))) | AC26: =IF(Z26=3,F26-Q26,IF(Z26=1,0,IF(Z26=2,0,IF(Z26=0," ")))) | AD26: =IFERROR(VLOOKUP(A26,LP!$B:$BI,60,FALSE)," ") | AE26: =+IFERROR(((AD26/30)*1.5)*AE$4," ") | AF26: =+IFERROR((AE26*Q26)," ") | AG26: =+IFERROR((AC26+AB26)*AE26," ") | AZ26: =IFERROR(VLOOKUP($A26,STOCK!$A:$C,3,FALSE)," ") | BA26: =IFERROR(VLOOKUP($A26,STOCK!$A:$D,4,FALSE)," ") | BB26: =IFERROR(VLOOKUP($A26,STOCK!$A:$E,5,FALSE)," ") | BC26: =IFERROR(VLOOKUP(A26,STOCK!$A:$F,6,FALSE)," ") | BD26: =IFERROR(VLOOKUP(A26,STOCK!$A:$G,7,FALSE)," ") | BE26: =IFERROR(VLOOKUP(A26,STOCK!$A:$H,8,FALSE)," ")
... D34: =IFERROR(VLOOKUP($A34,LP!$B:$AV,47,FALSE)," ") | E34: =IFERROR(VLOOKUP($A34,LP!$B:$AW,48,FALSE)," ") | F34: =IFERROR(VLOOKUP($A34,LP!$B:$AX,49,FALSE)," ") | G34: =+IFERROR((F34/D34-1)," ") | H34: =IFERROR(((F34-D34)/F34)," ") | I34: =IFERROR(VLOOKUP($A34,LP!$B:$BA,52,FALSE)," ") | J34: =IFERROR(VLOOKUP($A34,LP!$B:$BB,53,FALSE)," ") | K34: =+IFERROR((I34/D34-1)," ") | L34: =IFERROR((I34-D34)/I34," ") | M34: =IFERROR(VLOOKUP($A34,LP!$B:$BE,56,FALSE)," ") | N34: =IFERROR(VLOOKUP($A34,LP!$B:$BF,57,FALSE)," ") | O34: =IFERROR(+M34/D34-1," ") | P34: =IFERROR((M34-D34)/M34," ") | R34: =IFERROR((+(Q34+AA34)/D34-1)," ") | S34: =+IFERROR(((Q34+AA34)/E34-1)," ") | AB34: =IF(Z34=2,(F34-Q34-AA34),IF(Z34=1,0,IF(Z34=3,0,IF(Z34=0," ")))) | AC34: =IF(Z34=3,F34-Q34,IF(Z34=1,0,IF(Z34=2,0,IF(Z34=0," ")))) | AD34: =IFERROR(VLOOKUP(A34,LP!$B:$BI,60,FALSE)," ") | AE34: =+IFERROR(((AD34/30)*1.5)*AE$4," ") | AF34: =+IFERROR((AE34*Q34)," ") | AG34: =+IFERROR((AC34+AB34)*AE34," ") | AZ34: =IFERROR(VLOOKUP($A34,STOCK!$A:$C,3,FALSE)," ") | BA34: =IFERROR(VLOOKUP($A34,STOCK!$A:$D,4,FALSE)," ") | BB34: =IFERROR(VLOOKUP($A34,STOCK!$A:$E,5,FALSE)," ") | BC34: =IFERROR(VLOOKUP(A34,STOCK!$A:$F,6,FALSE)," ") | BD34: =IFERROR(VLOOKUP(A34,STOCK!$A:$G,7,FALSE)," ") | BE34: =IFERROR(VLOOKUP(A34,STOCK!$A:$H,8,FALSE)," ")

Sheet PL OFERTA
AI1: COMPETENCIA | AR1: MERCADEO
A2: OFERTA | C2: PROVEEDOR: | E2: =VLOOKUP(#REF!,LP!B:M,12,FALSE) -> #REF! | F2: COSTO - PVP ACTUAL | S2: OFERTA A SER APLICADA | AD2: Aplica POR: | AE2: RECONOCIMIENTO | AI2: SUPER MAS | AL2: SAN CAYETANO | AP2: MODERNO | AR2: TOPE x ACCION CORTO VTO | AX2: STOCK | BD2: ROTACION
S3: SELL IN | T3: PROMEDIO(1) SELL IN(2) MATRIZ(0) | AD3: COSTO (1) VENTA (0) FIJO (3)
A4: Sucursales | B4: TILDAR | C4: COD | D4: CODIGO BARRAS | E4: DESCRIPCIÓN PRODUCTO | F4: COSTO MATRIZ | G4: COSTO PRO | H4: PVP MIN | I4: M.U% | J4: M.D% | K4: PVP MAY | L4: CANT | M4: M.U% | N4: M.D% | O4: PVP DIST. | P4: CANT | Q4: M.U% | R4: M.D% | V4: PVP MIN | W4: M.U% | X4: PVP MAY | Y4: UDES MAY | Z4: M.U% | AA4: PVP DIST. | AB4: UDES DIST | AC4: M.U% | AF4: % | AG4: VALOR FIJO | AH4: VALOR a RECONOCER | AI4: PVP MIN | AJ4: PVP MAY | AK4: OFERTA | AL4: PVP MIN | AM4: PVP MAY | AN4: PVP DIST | AO4: OFERTA | AP4: PVP | AQ4: OFERTA | AR4: ABAS | AS4: MRA | AT4: CR1 | AU4: LUQ | AV4: ARAT | AW4: MOG | AX4: ABAS | AY4: MRA | AZ4: CR1 | BA4: LUQ | BB4: ARAT | BC4: MOG | BD4: ABAS | BE4: MRA | BF4: CR1 | BG4: LUQ | BH4: ARAT | BI4: MOG
A5: #TALONARIO | C5: 15655 | D5: 7840050006880 | E5: CERVEZA Lata 269ml 15un SKOL | F5: =IFERROR(VLOOKUP($C5,LP!$B:$BH,47,FALSE)," ") -> 49830 | G5: =IFERROR(VLOOKUP($C5,LP!$B:$BH,48,FALSE)," ") -> 49990.149 | H5: =IFERROR(VLOOKUP($C5,LP!$B:$BH,49,FALSE)," ") -> 53900 | I5: =+IFERROR((H5/F5-1)," ") -> 0.081677704 | J5: =IFERROR(((H5-F5)/H5)," ") -> 0.075510204 | K5: =IFERROR(VLOOKUP($C5,LP!$B:$BH,52,FALSE)," ") -> 0 | L5: =IFERROR(VLOOKUP($C5,LP!$B:$BH,53,FALSE)," ") -> 0 | M5: =+IFERROR((K5/F5-1)," ") -> -1 | N5: =IFERROR((K5-F5)/K5," ") | O5: =IFERROR(VLOOKUP($C5,LP!$B:$BH,56,FALSE)," ") -> 0 | P5: =IFERROR(VLOOKUP($C5,LP!$B:$BH,57,FALSE)," ") -> 0 | Q5: =IFERROR(+O5/F5-1," ") -> -1 | R5: =IFERROR((O5-F5)/O5," ") | U5: =+IF(T5=1,"PROMEDIO",IF(T5=3,"SELL IN","MATRIZ")) -> MATRIZ | V5: 47900 | W5: =+IFERROR(IF($U5="PROMEDIO",$V5/($G5-$AH5)-1,IF($U5="SELL IN",$V5/($S5-$AH5)-1,IF($U5="MATRIZ",$V5/($F5-$AH5)-1))),0) -> 0.048713738 | Z5: =+IFERROR(IF($U5="PROMEDIO",$X5/($G5-$AH5)-1,IF($U5="SELL IN",$X5/($S5-$AH5)-1,IF($U5="MATRIZ",$X5/($F5-$AH5)-1))),0) -> -1 | AC5: =+IFERROR(IF($U5="PROMEDIO",$AA5/($G5-$AH5)-1,IF($U5="SELL IN",$AA5/($S5-$AH5)-1,IF($U5="MATRIZ",$AA5/($F5-$AH5)-1))),0) -> -1 | AD5: 3 | AE5: =IFERROR(IF(OR(AD5=1,AD5="",AD5=" "),"COSTO",IF(AD5=3,"FIJO","VENTA")),"") -> FIJO | AF5: 0.084 | AG5: =+AG6*15 -> 4155 | AH5: =IFERROR(IF(AE5="COSTO",AF5*F5,IF(AE5="VENTA",AF5*H5,IF(AE5="FIJO",AG5)))," ") -> 4155 | AX5: =IFERROR(VLOOKUP($C5,LP!$B:$AO,35,0), " ") -> 0 | AY5: =IFERROR(VLOOKUP($C5,LP!$B:$AO,36,0), " ") -> 0 | AZ5: =IFERROR(VLOOKUP($C5,LP!$B:$AO,37,0), " ") -> 0 | BA5: =IFERROR(VLOOKUP($C5,LP!$B:$AO,38,0), " ") -> 0 | BB5: =IFERROR(VLOOKUP($C5,LP!$B:$AO,39,0), " ") -> 0 | BC5: =IFERROR(VLOOKUP($C5,LP!$B:$AO,40,0), " ") -> 0 | BD5: =IFERROR(VLOOKUP($C5,LP!$B:$BH,41,FALSE)," ") -> Q | BE5: =IFERROR(VLOOKUP($C5,LP!$B:$BH,42,FALSE)," ") -> Q | BF5: =IFERROR(VLOOKUP($C5,LP!$B:$BH,43,FALSE)," ") -> Q | BG5: =IFERROR(VLOOKUP($C5,LP!$B:$BH,44,FALSE)," ") -> Q | BH5: =IFERROR(VLOOKUP($C5,LP!$B:$BH,45,FALSE)," ") -> Q | BI5: =IFERROR(VLOOKUP($C5,LP!$B:$BH,46,FALSE)," ") -> Q
A6: VIGENCIA | C6: 15645 | D6: 7891149103102 | E6: CERVEZA Lata 269ml SKOL | F6: =IFERROR(VLOOKUP($C6,LP!$B:$BH,47,FALSE)," ") -> 3442 | G6: =IFERROR(VLOOKUP($C6,LP!$B:$BH,48,FALSE)," ") -> 3332.6766 | H6: =IFERROR(VLOOKUP($C6,LP!$B:$BH,49,FALSE)," ") -> 3750 | I6: =+IFERROR((H6/F6-1)," ") -> 0.089482859 | J6: =IFERROR(((H6-F6)/H6)," ") -> 0.082133333 | K6: =IFERROR(VLOOKUP($C6,LP!$B:$BH,52,FALSE)," ") -> 3593.3333 | L6: =IFERROR(VLOOKUP($C6,LP!$B:$BH,53,FALSE)," ") -> 15 | M6: =+IFERROR((K6/F6-1)," ") -> 0.043966685 | N6: =IFERROR((K6-F6)/K6," ") -> 0.042115027 | O6: =IFERROR(VLOOKUP($C6,LP!$B:$BH,56,FALSE)," ") -> 0 | P6: =IFERROR(VLOOKUP($C6,LP!$B:$BH,57,FALSE)," ") -> 0 | Q6: =IFERROR(+O6/F6-1," ") -> -1 | R6: =IFERROR((O6-F6)/O6," ") | U6: =+IF(T6=1,"PROMEDIO",IF(T6=3,"SELL IN","MATRIZ")) -> MATRIZ | V6: 3250 | W6: =+IFERROR(IF($U6="PROMEDIO",$V6/($G6-$AH6)-1,IF($U6="SELL IN",$V6/($S6-$AH6)-1,IF($U6="MATRIZ",$V6/($F6-$AH6)-1))),0) -> 0.02685624 | Z6: =+IFERROR(IF($U6="PROMEDIO",$X6/($G6-$AH6)-1,IF($U6="SELL IN",$X6/($S6-$AH6)-1,IF($U6="MATRIZ",$X6/($F6-$AH6)-1))),0) -> -1 | AC6: =+IFERROR(IF($U6="PROMEDIO",$AA6/($G6-$AH6)-1,IF($U6="SELL IN",$AA6/($S6-$AH6)-1,IF($U6="MATRIZ",$AA6/($F6-$AH6)-1))),0) -> -1 | AD6: 3 | AE6: =IFERROR(IF(OR(AD6=1,AD6="",AD6=" "),"COSTO",IF(AD6=3,"FIJO","VENTA")),"") -> FIJO | AF6: 0.084 | AG6: 277 | AH6: =IFERROR(IF(AE6="COSTO",AF6*F6,IF(AE6="VENTA",AF6*H6,IF(AE6="FIJO",AG6)))," ") -> 277 | AX6: =IFERROR(VLOOKUP($C6,LP!$B:$AO,35,0), " ") -> 7966 | AY6: =IFERROR(VLOOKUP($C6,LP!$B:$AO,36,0), " ") -> 10465 | AZ6: =IFERROR(VLOOKUP($C6,LP!$B:$AO,37,0), " ") -> 6395 | BA6: =IFERROR(VLOOKUP($C6,LP!$B:$AO,38,0), " ") -> 4369 | BB6: =IFERROR(VLOOKUP($C6,LP!$B:$AO,39,0), " ") -> 9013 | BC6: =IFERROR(VLOOKUP($C6,LP!$B:$AO,40,0), " ") -> 8152 | BD6: =IFERROR(VLOOKUP($C6,LP!$B:$BH,41,FALSE)," ") -> 47.034048 | BE6: =IFERROR(VLOOKUP($C6,LP!$B:$BH,42,FALSE)," ") -> 37.303945 | BF6: =IFERROR(VLOOKUP($C6,LP!$B:$BH,43,FALSE)," ") -> 62.087379 | BG6: =IFERROR(VLOOKUP($C6,LP!$B:$BH,44,FALSE)," ") -> 42.171815 | BH6: =IFERROR(VLOOKUP($C6,LP!$B:$BH,45,FALSE)," ") -> 56.33125 | BI6: =IFERROR(VLOOKUP($C6,LP!$B:$BH,46,FALSE)," ") -> 383.32288
A7: INICIO | B7: 45471 | C7: 12378 | D7: 7840050003933 | E7: CERVEZA Lata 269ml 12un OURO FINO | F7: =IFERROR(VLOOKUP($C7,LP!$B:$BH,47,FALSE)," ") -> 32832 | G7: =IFERROR(VLOOKUP($C7,LP!$B:$BH,48,FALSE)," ") -> 33047.462 | H7: =IFERROR(VLOOKUP($C7,LP!$B:$BH,49,FALSE)," ") -> 35900 | I7: =+IFERROR((H7/F7-1)," ") -> 0.093445419 | J7: =IFERROR(((H7-F7)/H7)," ") -> 0.08545961 | K7: =IFERROR(VLOOKUP($C7,LP!$B:$BH,52,FALSE)," ") -> 0 | L7: =IFERROR(VLOOKUP($C7,LP!$B:$BH,53,FALSE)," ") -> 0 | M7: =+IFERROR((K7/F7-1)," ") -> -1 | N7: =IFERROR((K7-F7)/K7," ") | O7: =IFERROR(VLOOKUP($C7,LP!$B:$BH,56,FALSE)," ") -> 0 | P7: =IFERROR(VLOOKUP($C7,LP!$B:$BH,57,FALSE)," ") -> 0 | Q7: =IFERROR(+O7/F7-1," ") -> -1 | R7: =IFERROR((O7-F7)/O7," ") | U7: =+IF(T7=1,"PROMEDIO",IF(T7=3,"SELL IN","MATRIZ")) -> MATRIZ | V7: 34900 | W7: =+IFERROR(IF($U7="PROMEDIO",$V7/($G7-$AH7)-1,IF($U7="SELL IN",$V7/($S7-$AH7)-1,IF($U7="MATRIZ",$V7/($F7-$AH7)-1))),0) -> 0.062987329 | Z7: =+IFERROR(IF($U7="PROMEDIO",$X7/($G7-$AH7)-1,IF($U7="SELL IN",$X7/($S7-$AH7)-1,IF($U7="MATRIZ",$X7/($F7-$AH7)-1))),0) -> -1 | AC7: =+IFERROR(IF($U7="PROMEDIO",$AA7/($G7-$AH7)-1,IF($U7="SELL IN",$AA7/($S7-$AH7)-1,IF($U7="MATRIZ",$AA7/($F7-$AH7)-1))),0) -> -1 | AD7: 1 | AE7: =IFERROR(IF(OR(AD7=1,AD7="",AD7=" "),"COSTO",IF(AD7=3,"FIJO","VENTA")),"") -> COSTO | AH7: =IFERROR(IF(AE7="COSTO",AF7*F7,IF(AE7="VENTA",AF7*H7,IF(AE7="FIJO",AG7)))," ") -> 0 | AX7: =IFERROR(VLOOKUP($C7,LP!$B:$AO,35,0), " ") -> 0 | AY7: =IFERROR(VLOOKUP($C7,LP!$B:$AO,36,0), " ") -> 0 | AZ7: =IFERROR(VLOOKUP($C7,LP!$B:$AO,37,0), " ") -> 0 | BA7: =IFERROR(VLOOKUP($C7,LP!$B:$AO,38,0), " ") -> 0 | BB7: =IFERROR(VLOOKUP($C7,LP!$B:$AO,39,0), " ") -> 0 | BC7: =IFERROR(VLOOKUP($C7,LP!$B:$AO,40,0), " ") -> 0 | BD7: =IFERROR(VLOOKUP($C7,LP!$B:$BH,41,FALSE)," ") -> Q | BE7: =IFERROR(VLOOKUP($C7,LP!$B:$BH,42,FALSE)," ") -> Q | BF7: =IFERROR(VLOOKUP($C7,LP!$B:$BH,43,FALSE)," ") -> Q | BG7: =IFERROR(VLOOKUP($C7,LP!$B:$BH,44,FALSE)," ") -> Q | BH7: =IFERROR(VLOOKUP($C7,LP!$B:$BH,45,FALSE)," ") -> Q | BI7: =IFERROR(VLOOKUP($C7,LP!$B:$BH,46,FALSE)," ") -> Q
A8: FINALIZA | B8: 45473 | C8: 6586 | D8: 7840050002639 | E8: CERVEZA Lata 269ml OURO FINO | F8: =IFERROR(VLOOKUP($C8,LP!$B:$BH,47,FALSE)," ") -> 2736 | G8: =IFERROR(VLOOKUP($C8,LP!$B:$BH,48,FALSE)," ") -> 2753.9552 | H8: =IFERROR(VLOOKUP($C8,LP!$B:$BH,49,FALSE)," ") -> 3250 | I8: =+IFERROR((H8/F8-1)," ") -> 0.1878655 | J8: =IFERROR(((H8-F8)/H8)," ") -> 0.15815385 | K8: =IFERROR(VLOOKUP($C8,LP!$B:$BH,52,FALSE)," ") -> 2991.6667 | L8: =IFERROR(VLOOKUP($C8,LP!$B:$BH,53,FALSE)," ") -> 12 | M8: =+IFERROR((K8/F8-1)," ") -> 0.09344542 | N8: =IFERROR((K8-F8)/K8," ") -> 0.085459611 | O8: =IFERROR(VLOOKUP($C8,LP!$B:$BH,56,FALSE)," ") -> 0 | P8: =IFERROR(VLOOKUP($C8,LP!$B:$BH,57,FALSE)," ") -> 0 | Q8: =IFERROR(+O8/F8-1," ") -> -1 | R8: =IFERROR((O8-F8)/O8," ") | U8: =+IF(T8=1,"PROMEDIO",IF(T8=3,"SELL IN","MATRIZ")) -> MATRIZ | V8: 2950 | W8: =+IFERROR(IF($U8="PROMEDIO",$V8/($G8-$AH8)-1,IF($U8="SELL IN",$V8/($S8-$AH8)-1,IF($U8="MATRIZ",$V8/($F8-$AH8)-1))),0) -> 0.078216374 | Z8: =+IFERROR(IF($U8="PROMEDIO",$X8/($G8-$AH8)-1,IF($U8="SELL IN",$X8/($S8-$AH8)-1,IF($U8="MATRIZ",$X8/($F8-$AH8)-1))),0) -> -1 | AC8: =+IFERROR(IF($U8="PROMEDIO",$AA8/($G8-$AH8)-1,IF($U8="SELL IN",$AA8/($S8-$AH8)-1,IF($U8="MATRIZ",$AA8/($F8-$AH8)-1))),0) -> -1 | AD8: 1 | AE8: =IFERROR(IF(OR(AD8=1,AD8="",AD8=" "),"COSTO",IF(AD8=3,"FIJO","VENTA")),"") -> COSTO | AH8: =IFERROR(IF(AE8="COSTO",AF8*F8,IF(AE8="VENTA",AF8*H8,IF(AE8="FIJO",AG8)))," ") -> 0 | AX8: =IFERROR(VLOOKUP($C8,LP!$B:$AO,35,0), " ") -> 5910 | AY8: =IFERROR(VLOOKUP($C8,LP!$B:$AO,36,0), " ") -> 6287 | AZ8: =IFERROR(VLOOKUP($C8,LP!$B:$AO,37,0), " ") -> 1255 | BA8: =IFERROR(VLOOKUP($C8,LP!$B:$AO,38,0), " ") -> 2410 | BB8: =IFERROR(VLOOKUP($C8,LP!$B:$AO,39,0), " ") -> 2882 | BC8: =IFERROR(VLOOKUP($C8,LP!$B:$AO,40,0), " ") -> 3520 | BD8: =IFERROR(VLOOKUP($C8,LP!$B:$BH,41,FALSE)," ") -> 99.887324 | BE8: =IFERROR(VLOOKUP($C8,LP!$B:$BH,42,FALSE)," ") -> 51.003245 | BF8: =IFERROR(VLOOKUP($C8,LP!$B:$BH,43,FALSE)," ") -> 41.556291 | BG8: =IFERROR(VLOOKUP($C8,LP!$B:$BH,44,FALSE)," ") -> 38.052632 | BH8: =IFERROR(VLOOKUP($C8,LP!$B:$BH,45,FALSE)," ") -> 37.299396 | BI8: =IFERROR(VLOOKUP($C8,LP!$B:$BH,46,FALSE)," ") -> 910.34483
C9: 37481 | D9: 17898334962084 | E9: CERVEZA PREMIUM LAGER Lata 269ml 12un OPA BIER | F9: =IFERROR(VLOOKUP($C9,[2]LP!$B:$BH,47,FALSE)," ") -> 45600 | G9: =IFERROR(VLOOKUP($C9,[2]LP!$B:$BH,48,FALSE)," ") -> 45599.998 | H9: =IFERROR(VLOOKUP($C9,[2]LP!$B:$BH,49,FALSE)," ") -> 49900 | I9: =+IFERROR((H9/F9-1)," ") -> 0.094298246 | J9: =IFERROR(((H9-F9)/H9)," ") -> 0.086172345 | K9: =IFERROR(VLOOKUP($C9,[2]LP!$B:$BH,52,FALSE)," ") -> 0 | L9: =IFERROR(VLOOKUP($C9,[2]LP!$B:$BH,53,FALSE)," ") -> 0 | M9: =+IFERROR((K9/F9-1)," ") -> -1 | N9: =IFERROR((K9-F9)/K9," ") | O9: =IFERROR(VLOOKUP($C9,[2]LP!$B:$BH,56,FALSE)," ") -> 0 | P9: =IFERROR(VLOOKUP($C9,[2]LP!$B:$BH,57,FALSE)," ") -> 0 | Q9: =IFERROR(+O9/F9-1," ") -> -1 | R9: =IFERROR((O9-F9)/O9," ") | U9: =+IF(T9=1,"PROMEDIO",IF(T9=3,"SELL IN","MATRIZ")) -> MATRIZ | V9: 39900 | W9: =+IFERROR(IF($U9="PROMEDIO",$V9/($G9-$AH9)-1,IF($U9="SELL IN",$V9/($S9-$AH9)-1,IF($U9="MATRIZ",$V9/($F9-$AH9)-1))),0) -> 0.12 | Z9: =+IFERROR(IF($U9="PROMEDIO",$X9/($G9-$AH9)-1,IF($U9="SELL IN",$X9/($S9-$AH9)-1,IF($U9="MATRIZ",$X9/($F9-$AH9)-1))),0) -> -1 | AC9: =+IFERROR(IF($U9="PROMEDIO",$AA9/($G9-$AH9)-1,IF($U9="SELL IN",$AA9/($S9-$AH9)-1,IF($U9="MATRIZ",$AA9/($F9-$AH9)-1))),0) -> -1 | AD9: 3 | AE9: =IFERROR(IF(OR(AD9=1,AD9="",AD9=" "),"COSTO",IF(AD9=3,"FIJO","VENTA")),"") -> FIJO | AF9: 0.21875 | AG9: =+AH10*12 -> 9975.0001 | AH9: =IFERROR(IF(AE9="COSTO",AF9*F9,IF(AE9="VENTA",AF9*H9,IF(AE9="FIJO",AG9)))," ") -> 9975.0001 | AX9: =IFERROR(VLOOKUP($C9,[2]LP!$B:$AO,35,0), " ") | AY9: =IFERROR(VLOOKUP($C9,[2]LP!$B:$AO,36,0), " ") | AZ9: =IFERROR(VLOOKUP($C9,[2]LP!$B:$AO,37,0), " ") | BA9: =IFERROR(VLOOKUP($C9,[2]LP!$B:$AO,38,0), " ") | BB9: =IFERROR(VLOOKUP($C9,[2]LP!$B:$AO,39,0), " ") | BC9: =IFERROR(VLOOKUP($C9,[2]LP!$B:$AO,40,0), " ") | BD9: =IFERROR(VLOOKUP($C9,[2]LP!$B:$BH,41,FALSE)," ") -> SV | BE9: =IFERROR(VLOOKUP($C9,[2]LP!$B:$BH,42,FALSE)," ") -> SV | BF9: =IFERROR(VLOOKUP($C9,[2]LP!$B:$BH,43,FALSE)," ") -> SV | BG9: =IFERROR(VLOOKUP($C9,[2]LP!$B:$BH,44,FALSE)," ") -> SV | BH9: =IFERROR(VLOOKUP($C9,[2]LP!$B:$BH,45,FALSE)," ") -> SV | BI9: =IFERROR(VLOOKUP($C9,[2]LP!$B:$BH,46,FALSE)," ") -> SV
A10: ASUNTO CORREO: | C10: 37480 | D10: 7898334962087 | E10: CERVEZA PREMIUM LAGER Lata 269ml OPA BIER | F10: =IFERROR(VLOOKUP($C10,[2]LP!$B:$BH,47,FALSE)," ") -> 3800.0001 | G10: =IFERROR(VLOOKUP($C10,[2]LP!$B:$BH,48,FALSE)," ") -> 3799.9998 | H10: =IFERROR(VLOOKUP($C10,[2]LP!$B:$BH,49,FALSE)," ") -> 4250 | I10: =+IFERROR((H10/F10-1)," ") -> 0.11842104 | J10: =IFERROR(((H10-F10)/H10)," ") -> 0.10588234 | K10: =IFERROR(VLOOKUP($C10,[2]LP!$B:$BH,52,FALSE)," ") -> 4158.3333 | L10: =IFERROR(VLOOKUP($C10,[2]LP!$B:$BH,53,FALSE)," ") -> 12 | M10: =+IFERROR((K10/F10-1)," ") -> 0.09429823 | N10: =IFERROR((K10-F10)/K10," ") -> 0.086172332 | O10: =IFERROR(VLOOKUP($C10,[2]LP!$B:$BH,56,FALSE)," ") -> 0 | P10: =IFERROR(VLOOKUP($C10,[2]LP!$B:$BH,57,FALSE)," ") -> 0 | Q10: =IFERROR(+O10/F10-1," ") -> -1 | R10: =IFERROR((O10-F10)/O10," ") | U10: =+IF(T10=1,"PROMEDIO",IF(T10=3,"SELL IN","MATRIZ")) -> MATRIZ | V10: 4250 | W10: =+IFERROR(IF($U10="PROMEDIO",$V10/($G10-$AH10)-1,IF($U10="SELL IN",$V10/($S10-$AH10)-1,IF($U10="MATRIZ",$V10/($F10-$AH10)-1))),0) -> 0.43157893 | Z10: =+IFERROR(IF($U10="PROMEDIO",$X10/($G10-$AH10)-1,IF($U10="SELL IN",$X10/($S10-$AH10)-1,IF($U10="MATRIZ",$X10/($F10-$AH10)-1))),0) -> -1 | AC10: =+IFERROR(IF($U10="PROMEDIO",$AA10/($G10-$AH10)-1,IF($U10="SELL IN",$AA10/($S10-$AH10)-1,IF($U10="MATRIZ",$AA10/($F10-$AH10)-1))),0) -> -1 | AD10: 1 | AE10: =IFERROR(IF(OR(AD10=1,AD10="",AD10=" "),"COSTO",IF(AD10=3,"FIJO","VENTA")),"") -> COSTO | AF10: 0.21875 | AH10: =IFERROR(IF(AE10="COSTO",AF10*F10,IF(AE10="VENTA",AF10*H10,IF(AE10="FIJO",AG10)))," ") -> 831.25001 | AX10: =IFERROR(VLOOKUP($C10,[2]LP!$B:$AO,35,0), " ") | AY10: =IFERROR(VLOOKUP($C10,[2]LP!$B:$AO,36,0), " ") | AZ10: =IFERROR(VLOOKUP($C10,[2]LP!$B:$AO,37,0), " ") | BA10: =IFERROR(VLOOKUP($C10,[2]LP!$B:$AO,38,0), " ") | BB10: =IFERROR(VLOOKUP($C10,[2]LP!$B:$AO,39,0), " ") | BC10: =IFERROR(VLOOKUP($C10,[2]LP!$B:$AO,40,0), " ") | BD10: =IFERROR(VLOOKUP($C10,[2]LP!$B:$BH,41,FALSE)," ") -> 0 | BE10: =IFERROR(VLOOKUP($C10,[2]LP!$B:$BH,42,FALSE)," ") -> 0 | BF10: =IFERROR(VLOOKUP($C10,[2]LP!$B:$BH,43,FALSE)," ") -> 0 | BG10: =IFERROR(VLOOKUP($C10,[2]LP!$B:$BH,44,FALSE)," ") -> 0 | BH10: =IFERROR(VLOOKUP($C10,[2]LP!$B:$BH,45,FALSE)," ") -> 0 | BI10: =IFERROR(VLOOKUP($C10,[2]LP!$B:$BH,46,FALSE)," ") -> 0
C11: 3267 | D11: 7790290101602 | E11: FERNET 750ml BRANCA. | F11: 45858 | G11: =IFERROR(VLOOKUP($C11,[1]LP!$B:$BH,48,FALSE)," ") -> 44257.449 | H11: =IFERROR(VLOOKUP($C11,[1]LP!$B:$BH,49,FALSE)," ") -> 56900 | I11: =+IFERROR((H11/F11-1)," ") -> 0.24078678 | J11: =IFERROR(((H11-F11)/H11)," ") -> 0.19405975 | K11: =IFERROR(VLOOKUP($C11,[1]LP!$B:$BH,52,FALSE)," ") -> 55900 | L11: =IFERROR(VLOOKUP($C11,[1]LP!$B:$BH,53,FALSE)," ") -> 3 | M11: =+IFERROR((K11/F11-1)," ") -> 0.21898033 | N11: =IFERROR((K11-F11)/K11," ") -> 0.17964222 | O11: =IFERROR(VLOOKUP($C11,[1]LP!$B:$BH,56,FALSE)," ") -> 54900 | P11: =IFERROR(VLOOKUP($C11,[1]LP!$B:$BH,57,FALSE)," ") -> 6 | Q11: =IFERROR(+O11/F11-1," ") -> 0.19717388 | R11: =IFERROR((O11-F11)/O11," ") -> 0.16469945 | U11: =+IF(T11=1,"PROMEDIO",IF(T11=3,"SELL IN","MATRIZ")) -> MATRIZ | V11: 49900 | W11: =+IFERROR(IF($U11="PROMEDIO",$V11/($G11-$AH11)-1,IF($U11="SELL IN",$V11/($S11-$AH11)-1,IF($U11="MATRIZ",$V11/($F11-$AH11)-1))),0) -> 0.088141655 | Z11: =+IFERROR(IF($U11="PROMEDIO",$X11/($G11-$AH11)-1,IF($U11="SELL IN",$X11/($S11-$AH11)-1,IF($U11="MATRIZ",$X11/($F11-$AH11)-1))),0) -> -1 | AC11: =+IFERROR(IF($U11="PROMEDIO",$AA11/($G11-$AH11)-1,IF($U11="SELL IN",$AA11/($S11-$AH11)-1,IF($U11="MATRIZ",$AA11/($F11-$AH11)-1))),0) -> -1 | AD11: 3 | AE11: =IFERROR(IF(OR(AD11=1,AD11="",AD11=" "),"COSTO",IF(AD11=3,"FIJO","VENTA")),"") -> FIJO | AH11: =IFERROR(IF(AE11="COSTO",AF11*F11,IF(AE11="VENTA",AF11*H11,IF(AE11="FIJO",AG11)))," ") -> 0 | AX11: =IFERROR(VLOOKUP($C11,LP!$B:$AO,35,0), " ") -> 79 | AY11: =IFERROR(VLOOKUP($C11,LP!$B:$AO,36,0), " ") -> 49 | AZ11: =IFERROR(VLOOKUP($C11,LP!$B:$AO,37,0), " ") -> 79 | BA11: =IFERROR(VLOOKUP($C11,LP!$B:$AO,38,0), " ") -> 53 | BB11: =IFERROR(VLOOKUP($C11,LP!$B:$AO,39,0), " ") -> 67 | BC11: =IFERROR(VLOOKUP($C11,LP!$B:$AO,40,0), " ") -> 30 | BD11: =IFERROR(VLOOKUP($C11,LP!$B:$BH,41,FALSE)," ") -> 49.375 | BE11: =IFERROR(VLOOKUP($C11,LP!$B:$BH,42,FALSE)," ") -> 11.574803 | BF11: =IFERROR(VLOOKUP($C11,LP!$B:$BH,43,FALSE)," ") -> 107.72727 | BG11: =IFERROR(VLOOKUP($C11,LP!$B:$BH,44,FALSE)," ") -> 72.272727 | BH11: =IFERROR(VLOOKUP($C11,LP!$B:$BH,45,FALSE)," ") -> 74.444444 | BI11: =IFERROR(VLOOKUP($C11,LP!$B:$BH,46,FALSE)," ") -> 60
A12: DESC. UND | B12: FALSE | C12: 5697 | D12: 7840894000976 | E12: GASEOSA COLA 2Lts ISAAC | F12: =IFERROR(VLOOKUP($C12,LP!$B:$BH,47,FALSE)," ") -> 3250.0001 | G12: =IFERROR(VLOOKUP($C12,LP!$B:$BH,48,FALSE)," ") -> 3249.9773 | H12: =IFERROR(VLOOKUP($C12,LP!$B:$BH,49,FALSE)," ") -> 3650 | I12: =+IFERROR((H12/F12-1)," ") -> 0.12307691 | J12: =IFERROR(((H12-F12)/H12)," ") -> 0.10958903 | K12: =IFERROR(VLOOKUP($C12,LP!$B:$BH,52,FALSE)," ") -> 3550 | L12: =IFERROR(VLOOKUP($C12,LP!$B:$BH,53,FALSE)," ") -> 6 | M12: =+IFERROR((K12/F12-1)," ") -> 0.092307676 | N12: =IFERROR((K12-F12)/K12," ") -> 0.084507028 | O12: =IFERROR(VLOOKUP($C12,LP!$B:$BH,56,FALSE)," ") -> 0 | P12: =IFERROR(VLOOKUP($C12,LP!$B:$BH,57,FALSE)," ") -> 0 | Q12: =IFERROR(+O12/F12-1," ") -> -1 | R12: =IFERROR((O12-F12)/O12," ") | U12: =+IF(T12=1,"PROMEDIO",IF(T12=3,"SELL IN","MATRIZ")) -> MATRIZ | V12: 3350 | W12: =+IFERROR(IF($U12="PROMEDIO",$V12/($G12-$AH12)-1,IF($U12="SELL IN",$V12/($S12-$AH12)-1,IF($U12="MATRIZ",$V12/($F12-$AH12)-1))),0) -> 0.10835399 | Z12: =+IFERROR(IF($U12="PROMEDIO",$X12/($G12-$AH12)-1,IF($U12="SELL IN",$X12/($S12-$AH12)-1,IF($U12="MATRIZ",$X12/($F12-$AH12)-1))),0) -> -1 | AC12: =+IFERROR(IF($U12="PROMEDIO",$AA12/($G12-$AH12)-1,IF($U12="SELL IN",$AA12/($S12-$AH12)-1,IF($U12="MATRIZ",$AA12/($F12-$AH12)-1))),0) -> -1 | AD12: 1 | AE12: =IFERROR(IF(OR(AD12=1,AD12="",AD12=" "),"COSTO",IF(AD12=3,"FIJO","VENTA")),"") -> COSTO | AF12: 0.07 | AH12: =IFERROR(IF(AE12="COSTO",AF12*F12,IF(AE12="VENTA",AF12*H12,IF(AE12="FIJO",AG12)))," ") -> 227.5 | AX12: =IFERROR(VLOOKUP($C12,LP!$B:$AO,35,0), " ") -> 101 | AY12: =IFERROR(VLOOKUP($C12,LP!$B:$AO,36,0), " ") -> 145 | AZ12: =IFERROR(VLOOKUP($C12,LP!$B:$AO,37,0), " ") -> 109 | BA12: =IFERROR(VLOOKUP($C12,LP!$B:$AO,38,0), " ") -> 140 | BB12: =IFERROR(VLOOKUP($C12,LP!$B:$AO,39,0), " ") -> 78 | BC12: =IFERROR(VLOOKUP($C12,LP!$B:$AO,40,0), " ") -> 24 | BD12: =IFERROR(VLOOKUP($C12,LP!$B:$BH,41,FALSE)," ") -> 30 | BE12: =IFERROR(VLOOKUP($C12,LP!$B:$BH,42,FALSE)," ") -> 27.1875 | BF12: =IFERROR(VLOOKUP($C12,LP!$B:$BH,43,FALSE)," ") -> 112.75862 | BG12: =IFERROR(VLOOKUP($C12,LP!$B:$BH,44,FALSE)," ") -> 73.684211 | BH12: =IFERROR(VLOOKUP($C12,LP!$B:$BH,45,FALSE)," ") -> 9.790795 | BI12: =IFERROR(VLOOKUP($C12,LP!$B:$BH,46,FALSE)," ") -> 360
A13: TELEVENTAS | C13: 5698 | D13: 7840894001003 | E13: GASEOSA GUARANA 2Lts ISAAC | F13: =IFERROR(VLOOKUP($C13,LP!$B:$BH,47,FALSE)," ") -> 3250.0001 | G13: =IFERROR(VLOOKUP($C13,LP!$B:$BH,48,FALSE)," ") -> 3249.9983 | H13: =IFERROR(VLOOKUP($C13,LP!$B:$BH,49,FALSE)," ") -> 3650 | I13: =+IFERROR((H13/F13-1)," ") -> 0.12307691 | J13: =IFERROR(((H13-F13)/H13)," ") -> 0.10958903 | K13: =IFERROR(VLOOKUP($C13,LP!$B:$BH,52,FALSE)," ") -> 3550 | L13: =IFERROR(VLOOKUP($C13,LP!$B:$BH,53,FALSE)," ") -> 6 | M13: =+IFERROR((K13/F13-1)," ") -> 0.092307676 | N13: =IFERROR((K13-F13)/K13," ") -> 0.084507028 | O13: =IFERROR(VLOOKUP($C13,LP!$B:$BH,56,FALSE)," ") -> 0 | P13: =IFERROR(VLOOKUP($C13,LP!$B:$BH,57,FALSE)," ") -> 0 | Q13: =IFERROR(+O13/F13-1," ") -> -1 | R13: =IFERROR((O13-F13)/O13," ") | U13: =+IF(T13=1,"PROMEDIO",IF(T13=3,"SELL IN","MATRIZ")) -> MATRIZ | V13: 3350 | W13: =+IFERROR(IF($U13="PROMEDIO",$V13/($G13-$AH13)-1,IF($U13="SELL IN",$V13/($S13-$AH13)-1,IF($U13="MATRIZ",$V13/($F13-$AH13)-1))),0) -> 0.10835399 | Z13: =+IFERROR(IF($U13="PROMEDIO",$X13/($G13-$AH13)-1,IF($U13="SELL IN",$X13/($S13-$AH13)-1,IF($U13="MATRIZ",$X13/($F13-$AH13)-1))),0) -> -1 | AC13: =+IFERROR(IF($U13="PROMEDIO",$AA13/($G13-$AH13)-1,IF($U13="SELL IN",$AA13/($S13-$AH13)-1,IF($U13="MATRIZ",$AA13/($F13-$AH13)-1))),0) -> -1 | AD13: 1 | AE13: =IFERROR(IF(OR(AD13=1,AD13="",AD13=" "),"COSTO",IF(AD13=3,"FIJO","VENTA")),"") -> COSTO | AF13: 0.07 | AH13: =IFERROR(IF(AE13="COSTO",AF13*F13,IF(AE13="VENTA",AF13*H13,IF(AE13="FIJO",AG13)))," ") -> 227.5 | AX13: =IFERROR(VLOOKUP($C13,LP!$B:$AO,35,0), " ") -> 173 | AY13: =IFERROR(VLOOKUP($C13,LP!$B:$AO,36,0), " ") -> 402 | AZ13: =IFERROR(VLOOKUP($C13,LP!$B:$AO,37,0), " ") -> 75 | BA13: =IFERROR(VLOOKUP($C13,LP!$B:$AO,38,0), " ") -> 161 | BB13: =IFERROR(VLOOKUP($C13,LP!$B:$AO,39,0), " ") -> 92 | BC13: =IFERROR(VLOOKUP($C13,LP!$B:$AO,40,0), " ") -> 33 | BD13: =IFERROR(VLOOKUP($C13,LP!$B:$BH,41,FALSE)," ") -> 57.666667 | BE13: =IFERROR(VLOOKUP($C13,LP!$B:$BH,42,FALSE)," ") -> 60.909091 | BF13: =IFERROR(VLOOKUP($C13,LP!$B:$BH,43,FALSE)," ") -> 52.325581 | BG13: =IFERROR(VLOOKUP($C13,LP!$B:$BH,44,FALSE)," ") -> 52.5 | BH13: =IFERROR(VLOOKUP($C13,LP!$B:$BH,45,FALSE)," ") -> 9.787234 | BI13: =IFERROR(VLOOKUP($C13,LP!$B:$BH,46,FALSE)," ") -> 198
