Workbook

Sheet Total UA
B1: Tienda: | C1: UA - BH
B3: 2018
B5: Mês | C5: Venta Neta | D5: Unidades | E5: Facturas emitidas | F5: P.A. | G5: Ticket Promedio | H5: Precio Promedio
B6: Ene | C6: =+PLG!C6+SOL!C6+Mcal.!C6 -> 1.6733901e+09 | D6: =+PLG!D6+SOL!D6+Mcal.!D6 -> 10216 | E6: =+PLG!E6+SOL!E6+Mcal.!E6 -> 4463 | F6: =IF(D6=0,0,D6/E6) -> 2.2890432 | G6: =IF(C6=0,0,F6*H6) -> 374947.37 | H6: =IF(C6=0,0,C6/D6) -> 163800.91
B7: Feb | C7: =+PLG!C7+SOL!C7+Mcal.!C7 -> 1.6448026e+09 | D7: =+PLG!D7+SOL!D7+Mcal.!D7 -> 9041 | E7: =+PLG!E7+SOL!E7+Mcal.!E7 -> 3980 | F7: =IF(D7=0,0,D7/E7) -> 2.271608 | G7: =IF(C7=0,0,F7*H7) -> 413266.98 | H7: =IF(C7=0,0,C7/D7) -> 181927.06
B8: Mar | C8: =+PLG!C8+SOL!C8+Mcal.!C8 -> 1.7322844e+09 | D8: =+PLG!D8+SOL!D8+Mcal.!D8 -> 9069 | E8: =+PLG!E8+SOL!E8+Mcal.!E8 -> 4075 | F8: =IF(D8=0,0,D8/E8) -> 2.2255215 | G8: =IF(C8=0,0,F8*H8) -> 425100.46 | H8: =IF(C8=0,0,C8/D8) -> 191011.62
B9: Abr | C9: =+PLG!C9+SOL!C9+Mcal.!C9 -> 1.7587432e+09 | D9: =+PLG!D9+SOL!D9+Mcal.!D9 -> 9005 | E9: =+PLG!E9+SOL!E9+Mcal.!E9 -> 4087 | F9: =IF(D9=0,0,D9/E9) -> 2.2033276 | G9: =IF(C9=0,0,F9*H9) -> 430326.2 | H9: =IF(C9=0,0,C9/D9) -> 195307.4
B10: May | C10: =+PLG!C10+SOL!C10+Mcal.!C10 -> 2.1239434e+09 | D10: =+PLG!D10+SOL!D10+Mcal.!D10 -> 9525 | E10: =+PLG!E10+SOL!E10+Mcal.!E10 -> 4400 | F10: =IF(D10=0,0,D10/E10) -> 2.1647727 | G10: =IF(C10=0,0,F10*H10) -> 482714.41 | H10: =IF(C10=0,0,C10/D10) -> 222986.19
B11: Jun | C11: =+PLG!C11+SOL!C11+Mcal.!C11 -> 2.2653672e+09 | D11: =+PLG!D11+SOL!D11+Mcal.!D11 -> 8859 | E11: =+PLG!E11+SOL!E11+Mcal.!E11 -> 4291 | F11: =IF(D11=0,0,D11/E11) -> 2.0645537 | G11: =IF(C11=0,0,F11*H11) -> 527934.57 | H11: =IF(C11=0,0,C11/D11) -> 255713.65
B12: Jul | C12: =+PLG!C12+SOL!C12+Mcal.!C12 -> 1.7848853e+09 | D12: =+PLG!D12+SOL!D12+Mcal.!D12 -> 7751 | E12: =+PLG!E12+SOL!E12+Mcal.!E12 -> 3697 | F12: =IF(D12=0,0,D12/E12) -> 2.0965648 | G12: =IF(C12=0,0,F12*H12) -> 482792.89 | H12: =IF(C12=0,0,C12/D12) -> 230278.07
B13: Ago | C13: =+PLG!C13+SOL!C13+Mcal.!C13 -> 1.9764925e+09 | D13: =+PLG!D13+SOL!D13+Mcal.!D13 -> 10505 | E13: =+PLG!E13+SOL!E13+Mcal.!E13 -> 4794 | F13: =IF(D13=0,0,D13/E13) -> 2.1912808 | G13: =IF(C13=0,0,F13*H13) -> 412284.62 | H13: =IF(C13=0,0,C13/D13) -> 188147.78
B14: Sep | C14: =+PLG!C14+SOL!C14+Mcal.!C14 -> 1.5377852e+09 | D14: =+PLG!D14+SOL!D14+Mcal.!D14 -> 7926 | E14: =+PLG!E14+SOL!E14+Mcal.!E14 -> 3549 | F14: =IF(D14=0,0,D14/E14) -> 2.2333052 | G14: =IF(C14=0,0,F14*H14) -> 433300.99 | H14: =IF(C14=0,0,C14/D14) -> 194017.82
B15: Oct | C15: =+PLG!C15+SOL!C15+Mcal.!C15 -> 1.4314949e+09 | D15: =+PLG!D15+SOL!D15+Mcal.!D15 -> 6897 | E15: =+PLG!E15+SOL!E15+Mcal.!E15 -> 3210 | F15: =IF(D15=0,0,D15/E15) -> 2.1485981 | G15: =IF(C15=0,0,F15*H15) -> 445948.58 | H15: =IF(C15=0,0,C15/D15) -> 207553.28
B16: Nov | C16: =+PLG!C16+SOL!C16+Mcal.!C16 -> 1.6498986e+09 | D16: =+PLG!D16+SOL!D16+Mcal.!D16 -> 9122 | E16: =+PLG!E16+SOL!E16+Mcal.!E16 -> 3921 | F16: =IF(D16=0,0,D16/E16) -> 2.3264473 | G16: =IF(C16=0,0,F16*H16) -> 420785.16 | H16: =IF(C16=0,0,C16/D16) -> 180870.27
B17: Dic | C17: =+PLG!C17+SOL!C17+Mcal.!C17 -> 3.0276957e+09 | D17: =+PLG!D17+SOL!D17+Mcal.!D17 -> 17314 | E17: =+PLG!E17+SOL!E17+Mcal.!E17 -> 7364 | F17: =IF(D17=0,0,D17/E17) -> 2.3511678 | G17: =IF(C17=0,0,F17*H17) -> 411148.25 | H17: =IF(C17=0,0,C17/D17) -> 174869.8
B18: TOTAL | C18: =SUM(C6:C17) -> 2.2606783e+10 | D18: =SUM(D6:D17) -> 115230 | E18: =SUM(E6:E17) -> 51831 | F18: =IFERROR(D18/E18,0) -> 2.2231869 | G18: =IFERROR(IF(C18="",0,F18*H18),0) -> 436163.36 | H18: =IFERROR(C18/D18,0) -> 196188.35
B20: 2019
B22: Mês | C22: Venta Neta | D22: Unidades | E22: Facturas emitidas | F22: P.A. | G22: Ticket Promedio | H22: Precio Promedio
B23: Ene | C23: =+PLG!C23+SOL!C23+Mcal.!C23 -> 1.6039387e+09 | D23: =+PLG!D23+SOL!D23+Mcal.!D23 -> 9062 | E23: =+PLG!E23+SOL!E23+Mcal.!E23 -> 4403 | F23: =IF(D23=0,0,D23/E23) -> 2.0581422 | G23: =IF(C23=0,0,F23*H23) -> 364283.14 | H23: =IF(C23=0,0,C23/D23) -> 176996.1
B24: Feb | C24: =+PLG!C24+SOL!C24+Mcal.!C24 -> 1.6693538e+09 | D24: =+PLG!D24+SOL!D24+Mcal.!D24 -> 8793 | E24: =+PLG!E24+SOL!E24+Mcal.!E24 -> 4145 | F24: =IF(D24=0,0,D24/E24) -> 2.121351 | G24: =IF(C24=0,0,F24*H24) -> 402739.15 | H24: =IF(C24=0,0,C24/D24) -> 189850.31
B25: Mar | C25: =+PLG!C25+SOL!C25+Mcal.!C25 -> 1.6395077e+09 | D25: =+PLG!D25+SOL!D25+Mcal.!D25 -> 8263 | E25: =+PLG!E25+SOL!E25+Mcal.!E25 -> 3653 | F25: =IF(D25=0,0,D25/E25) -> 2.2619765 | G25: =IF(C25=0,0,F25*H25) -> 448811.29 | H25: =IF(C25=0,0,C25/D25) -> 198415.55
B26: Abr | C26: =+PLG!C26+SOL!C26+Mcal.!C26 -> 1.6305369e+09 | D26: =+PLG!D26+SOL!D26+Mcal.!D26 -> 6828 | E26: =+PLG!E26+SOL!E26+Mcal.!E26 -> 3197 | F26: =IF(D26=0,0,D26/E26) -> 2.1357523 | G26: =IF(C26=0,0,F26*H26) -> 510020.93 | H26: =IF(C26=0,0,C26/D26) -> 238801.54
B27: May | C27: =+PLG!C27+SOL!C27+Mcal.!C27 -> 2.3258292e+09 | D27: =+PLG!D27+SOL!D27+Mcal.!D27 -> 9780 | E27: =+PLG!E27+SOL!E27+Mcal.!E27 -> 4431 | F27: =IF(D27=0,0,D27/E27) -> 2.2071767 | G27: =IF(C27=0,0,F27*H27) -> 524899.39 | H27: =IF(C27=0,0,C27/D27) -> 237814.85
B28: Jun | C28: =+PLG!C28+SOL!C28+Mcal.!C28 -> 0 | D28: =+PLG!D28+SOL!D28+Mcal.!D28 -> 0 | E28: =+PLG!E28+SOL!E28+Mcal.!E28 -> 0 | F28: =IF(D28=0,0,D28/E28) -> 0 | G28: =IF(C28=0,0,F28*H28) -> 0 | H28: =IF(C28=0,0,C28/D28) -> 0
B29: Jul | C29: =+PLG!C29+SOL!C29+Mcal.!C29 -> 0 | D29: =+PLG!D29+SOL!D29+Mcal.!D29 -> 0 | E29: =+PLG!E29+SOL!E29+Mcal.!E29 -> 0 | F29: =IF(D29=0,0,D29/E29) -> 0 | G29: =IF(C29=0,0,F29*H29) -> 0 | H29: =IF(C29=0,0,C29/D29) -> 0
B30: Ago | C30: =+PLG!C30+SOL!C30+Mcal.!C30 -> 0 | D30: =+PLG!D30+SOL!D30+Mcal.!D30 -> 0 | E30: =+PLG!E30+SOL!E30+Mcal.!E30 -> 0 | F30: =IF(D30=0,0,D30/E30) -> 0 | G30: =IF(C30=0,0,F30*H30) -> 0 | H30: =IF(C30=0,0,C30/D30) -> 0
B31: Sep | C31: =+PLG!C31+SOL!C31+Mcal.!C31 -> 0 | D31: =+PLG!D31+SOL!D31+Mcal.!D31 -> 0 | E31: =+PLG!E31+SOL!E31+Mcal.!E31 -> 0 | F31: =IF(D31=0,0,D31/E31) -> 0 | G31: =IF(C31=0,0,F31*H31) -> 0 | H31: =IF(C31=0,0,C31/D31) -> 0
B32: Oct | C32: =+PLG!C32+SOL!C32+Mcal.!C32 -> 0 | D32: =+PLG!D32+SOL!D32+Mcal.!D32 -> 0 | E32: =+PLG!E32+SOL!E32+Mcal.!E32 -> 0 | F32: =IF(D32=0,0,D32/E32) -> 0 | G32: =IF(C32=0,0,F32*H32) -> 0 | H32: =IF(C32=0,0,C32/D32) -> 0
B33: Nov | C33: =+PLG!C33+SOL!C33+Mcal.!C33 -> 0 | D33: =+PLG!D33+SOL!D33+Mcal.!D33 -> 0 | E33: =+PLG!E33+SOL!E33+Mcal.!E33 -> 0 | F33: =IF(D33=0,0,D33/E33) -> 0 | G33: =IF(C33=0,0,F33*H33) -> 0 | H33: =IF(C33=0,0,C33/D33) -> 0
B34: Dic | C34: =+PLG!C34+SOL!C34+Mcal.!C34 -> 0 | D34: =+PLG!D34+SOL!D34+Mcal.!D34 -> 0 | E34: =+PLG!E34+SOL!E34+Mcal.!E34 -> 0 | F34: =IF(D34=0,0,D34/E34) -> 0 | G34: =IF(C34=0,0,F34*H34) -> 0 | H34: =IF(C34=0,0,C34/D34) -> 0
B35: TOTAL | C35: =SUM(C23:C34) -> 8.8691662e+09 | D35: =SUM(D23:D34) -> 42726 | E35: =SUM(E23:E34) -> 19829 | F35: =IFERROR(D35/E35,0) -> 2.1547229 | G35: =IFERROR(IF(C35="",0,F35*H35),0) -> 447282.58 | H35: =IFERROR(C35/D35,0) -> 207582.41
B37: =B20&" x "&B3 -> 2019 x 2018
A39: Acumulado | B39: Mês | C39: Venta Neta | D39: Unidades | E39: Facturas emitidas | F39: P.A. | G39: Ticket Promedio | H39: Precio Promedio
A40: =B40 -> Ene | B40: Ene | C40: =IFERROR(IF(C23=0,"-",C23/C6-1),"-") -> -0.041503446 | D40: =IFERROR(IF(D23=0,"-",D23/D6-1),"-") -> -0.11296006 | E40: =IFERROR(IF(E23=0,"-",E23/E6-1),"-") -> -0.013443872 | F40: =IFERROR(IF(F23=0,"-",F23/F6-1),"-") -> -0.10087231 | G40: =IFERROR(IF(G23=0,"-",G23/G6-1),"-") -> -0.028441944 | H40: =IFERROR(IF(H23=0,"-",H23/H6-1),"-") -> 0.080556256
A41: =B41 -> Feb | B41: Feb | C41: =IFERROR(IF(C24=0,"-",C24/C7-1),"-") -> 0.014926553 | D41: =IFERROR(IF(D24=0,"-",D24/D7-1),"-") -> -0.027430594 | E41: =IFERROR(IF(E24=0,"-",E24/E7-1),"-") -> 0.041457286 | F41: =IFERROR(IF(F24=0,"-",F24/F7-1),"-") -> -0.066145661 | G41: =IFERROR(IF(G24=0,"-",G24/G7-1),"-") -> -0.025474625 | H41: =IFERROR(IF(H24=0,"-",H24/H7-1),"-") -> 0.043551799
A42: =B42 -> Mar | B42: Mar | C42: =IFERROR(IF(C25=0,"-",C25/C8-1),"-") -> -0.053557443 | D42: =IFERROR(IF(D25=0,"-",D25/D8-1),"-") -> -0.088874187 | E42: =IFERROR(IF(E25=0,"-",E25/E8-1),"-") -> -0.10355828 | F42: =IFERROR(IF(F25=0,"-",F25/F8-1),"-") -> 0.016380424 | G42: =IFERROR(IF(G25=0,"-",G25/G8-1),"-") -> 0.05577701 | H42: =IFERROR(IF(H25=0,"-",H25/H8-1),"-") -> 0.038761654
A43: =B43 -> Abr | B43: Abr | C43: =IFERROR(IF(C26=0,"-",C26/C9-1),"-") -> -0.072896523 | D43: =IFERROR(IF(D26=0,"-",D26/D9-1),"-") -> -0.24175458 | E43: =IFERROR(IF(E26=0,"-",E26/E9-1),"-") -> -0.21776364 | F43: =IFERROR(IF(F26=0,"-",F26/F9-1),"-") -> -0.030669681 | G43: =IFERROR(IF(G26=0,"-",G26/G9-1),"-") -> 0.18519609 | H43: =IFERROR(IF(H26=0,"-",H26/H9-1),"-") -> 0.22269578
A44: =B44 -> May | B44: May | C44: =IFERROR(IF(C27=0,"-",C27/C10-1),"-") -> 0.095052333 | D44: =IFERROR(IF(D27=0,"-",D27/D10-1),"-") -> 0.026771654 | E44: =IFERROR(IF(E27=0,"-",E27/E10-1),"-") -> 0.0070454545 | F44: =IFERROR(IF(F27=0,"-",F27/F10-1),"-") -> 0.019588191 | G44: =IFERROR(IF(G27=0,"-",G27/G10-1),"-") -> 0.087391168 | H44: =IFERROR(IF(H27=0,"-",H27/H10-1),"-") -> 0.066500355
A45: =B45 -> Jun | B45: Jun | C45: =IFERROR(IF(C28=0,"-",C28/C11-1),"-") -> - | D45: =IFERROR(IF(D28=0,"-",D28/D11-1),"-") -> - | E45: =IFERROR(IF(E28=0,"-",E28/E11-1),"-") -> - | F45: =IFERROR(IF(F28=0,"-",F28/F11-1),"-") -> - | G45: =IFERROR(IF(G28=0,"-",G28/G11-1),"-") -> - | H45: =IFERROR(IF(H28=0,"-",H28/H11-1),"-") -> -
A46: =B46 -> Jul | B46: Jul | C46: =IFERROR(IF(C29=0,"-",C29/C12-1),"-") -> - | D46: =IFERROR(IF(D29=0,"-",D29/D12-1),"-") -> - | E46: =IFERROR(IF(E29=0,"-",E29/E12-1),"-") -> - | F46: =IFERROR(IF(F29=0,"-",F29/F12-1),"-") -> - | G46: =IFERROR(IF(G29=0,"-",G29/G12-1),"-") -> - | H46: =IFERROR(IF(H29=0,"-",H29/H12-1),"-") -> -
...

Sheet PLG
B1: Tienda: | C1: UA - PLG
B3: 2018
B5: Mês | C5: Venta Neta | D5: Unidades | E5: Facturas emitidas | F5: P.A. | G5: Ticket Promedio | H5: Precio Promedio
B6: Ene | C6: 6.3200346e+08 | D6: 3813 | E6: 1551 | F6: =IF(D6=0,0,D6/E6) -> 2.4584139 | G6: =IF(C6=0,0,F6*H6) -> 407481.28 | H6: =IF(C6=0,0,C6/D6) -> 165749.66
B7: Feb | C7: 6.1578395e+08 | D7: 3530 | E7: 1317 | F7: =IF(D7=0,0,D7/E7) -> 2.6803341 | G7: =IF(C7=0,0,F7*H7) -> 467565.64 | H7: =IF(C7=0,0,C7/D7) -> 174443.04
B8: Mar | C8: 6.9136139e+08 | D8: 3817 | E8: 1436 | F8: =IF(D8=0,0,D8/E8) -> 2.658078 | G8: =IF(C8=0,0,F8*H8) -> 481449.43 | H8: =IF(C8=0,0,C8/D8) -> 181126.9
B9: Abr | C9: 6.7709616e+08 | D9: 3627 | E9: 1387 | F9: =IF(D9=0,0,D9/E9) -> 2.6149964 | G9: =IF(C9=0,0,F9*H9) -> 488173.15 | H9: =IF(C9=0,0,C9/D9) -> 186682.15
B10: May | C10: 8.4787097e+08 | D10: 3739 | E10: 1605 | F10: =IF(D10=0,0,D10/E10) -> 2.329595 | G10: =IF(C10=0,0,F10*H10) -> 528268.52 | H10: =IF(C10=0,0,C10/D10) -> 226764.1
B11: Jun | C11: 8.3726957e+08 | D11: 3313 | E11: 1462 | F11: =IF(D11=0,0,D11/E11) -> 2.2660739 | G11: =IF(C11=0,0,F11*H11) -> 572687.8 | H11: =IF(C11=0,0,C11/D11) -> 252722.48
B12: Jul | C12: 7.1887446e+08 | D12: 3085 | E12: 1348 | F12: =IF(D12=0,0,D12/E12) -> 2.2885757 | G12: =IF(C12=0,0,F12*H12) -> 533289.66 | H12: =IF(C12=0,0,C12/D12) -> 233022.52
B13: Ago | C13: 7.4264795e+08 | D13: 3871 | E13: 1721 | F13: =IF(D13=0,0,D13/E13) -> 2.2492737 | G13: =IF(C13=0,0,F13*H13) -> 431521.18 | H13: =IF(C13=0,0,C13/D13) -> 191849.12
B14: Sep | C14: 6.0442707e+08 | D14: 3175 | E14: 1234 | F14: =IF(D14=0,0,D14/E14) -> 2.5729335 | G14: =IF(C14=0,0,F14*H14) -> 489811.24 | H14: =IF(C14=0,0,C14/D14) -> 190370.73
B15: Oct | C15: 5.2184433e+08 | D15: 2620 | E15: 1030 | F15: =IF(D15=0,0,D15/E15) -> 2.5436893 | G15: =IF(C15=0,0,F15*H15) -> 506644.98 | H15: =IF(C15=0,0,C15/D15) -> 199177.23
B16: Nov | C16: 5.812857e+08 | D16: 3215 | E16: 1346 | F16: =IF(D16=0,0,D16/E16) -> 2.3885587 | G16: =IF(C16=0,0,F16*H16) -> 431861.59 | H16: =IF(C16=0,0,C16/D16) -> 180804.26
B17: Dic | C17: 1.1731832e+09 | D17: 6886 | E17: 2626 | F17: =IF(D17=0,0,D17/E17) -> 2.6222391 | G17: =IF(C17=0,0,F17*H17) -> 446756.73 | H17: =IF(C17=0,0,C17/D17) -> 170372.23
B18: TOTAL | C18: =SUM(C6:C17) -> 8.6436482e+09 | D18: =SUM(D6:D17) -> 44691 | E18: =SUM(E6:E17) -> 18063 | F18: =IFERROR(D18/E18,0) -> 2.4741737 | G18: =IFERROR(IF(C18="",0,F18*H18),0) -> 478527.83 | H18: =IFERROR(C18/D18,0) -> 193409.15
B20: 2019
B22: Mês | C22: Venta Neta | D22: Unidades | E22: Facturas emitidas | F22: P.A. | G22: Ticket Promedio | H22: Precio Promedio
B23: Ene | C23: 5.550066e+08 | D23: 3136 | E23: 1436 | F23: =IF(D23=0,0,D23/E23) -> 2.183844 | G23: =IF(C23=0,0,F23*H23) -> 386494.85 | H23: =IF(C23=0,0,C23/D23) -> 176979.15
B24: Feb | C24: 6.1760771e+08 | D24: 3395 | E24: 1332 | F24: =IF(D24=0,0,D24/E24) -> 2.5487988 | G24: =IF(C24=0,0,F24*H24) -> 463669.45 | H24: =IF(C24=0,0,C24/D24) -> 181916.85
B25: Mar | C25: 6.8656277e+08 | D25: 3665 | E25: 1290 | F25: =IF(D25=0,0,D25/E25) -> 2.8410853 | G25: =IF(C25=0,0,F25*H25) -> 532219.2 | H25: =IF(C25=0,0,C25/D25) -> 187329.54
B26: Abr | C26: 6.1063804e+08 | D26: 2602 | E26: 1107 | F26: =IF(D26=0,0,D26/E26) -> 2.3504968 | G26: =IF(C26=0,0,F26*H26) -> 551615.22 | H26: =IF(C26=0,0,C26/D26) -> 234680.26
B27: May | C27: 8.6979725e+08 | D27: 3756 | E27: 1588 | F27: =IF(D27=0,0,D27/E27) -> 2.3652393 | G27: =IF(C27=0,0,F27*H27) -> 547731.27 | H27: =IF(C27=0,0,C27/D27) -> 231575.41
B28: Jun | F28: =IF(D28=0,0,D28/E28) -> 0 | G28: =IF(C28=0,0,F28*H28) -> 0 | H28: =IF(C28=0,0,C28/D28) -> 0
B29: Jul | F29: =IF(D29=0,0,D29/E29) -> 0 | G29: =IF(C29=0,0,F29*H29) -> 0 | H29: =IF(C29=0,0,C29/D29) -> 0
B30: Ago | F30: =IF(D30=0,0,D30/E30) -> 0 | G30: =IF(C30=0,0,F30*H30) -> 0 | H30: =IF(C30=0,0,C30/D30) -> 0
B31: Sep | F31: =IF(D31=0,0,D31/E31) -> 0 | G31: =IF(C31=0,0,F31*H31) -> 0 | H31: =IF(C31=0,0,C31/D31) -> 0
B32: Oct | F32: =IF(D32=0,0,D32/E32) -> 0 | G32: =IF(C32=0,0,F32*H32) -> 0 | H32: =IF(C32=0,0,C32/D32) -> 0
B33: Nov | F33: =IF(D33=0,0,D33/E33) -> 0 | G33: =IF(C33=0,0,F33*H33) -> 0 | H33: =IF(C33=0,0,C33/D33) -> 0
B34: Dic | F34: =IF(D34=0,0,D34/E34) -> 0 | G34: =IF(C34=0,0,F34*H34) -> 0 | H34: =IF(C34=0,0,C34/D34) -> 0
B35: TOTAL | C35: =SUM(C23:C34) -> 3.3396124e+09 | D35: =SUM(D23:D34) -> 16554 | E35: =SUM(E23:E34) -> 6753 | F35: =IFERROR(D35/E35,0) -> 2.451355 | G35: =IFERROR(IF(C35="",0,F35*H35),0) -> 494537.59 | H35: =IFERROR(C35/D35,0) -> 201740.51
B37: =B20&" x "&B3 -> 2019 x 2018
B39: Mês | C39: Venta Neta | D39: Unidades | E39: Facturas emitidas | F39: P.A. | G39: Ticket Promedio | H39: Precio Promedio
B40: Ene | C40: =IFERROR(IF(C23=0,"-",C23/C6-1),"-") -> -0.12182981 | D40: =IFERROR(IF(D23=0,"-",D23/D6-1),"-") -> -0.17755049 | E40: =IFERROR(IF(E23=0,"-",E23/E6-1),"-") -> -0.074145712 | F40: =IFERROR(IF(F23=0,"-",F23/F6-1),"-") -> -0.1116858 | G40: =IFERROR(IF(G23=0,"-",G23/G6-1),"-") -> -0.051502805 | H40: =IFERROR(IF(H23=0,"-",H23/H6-1),"-") -> 0.067749666
B41: Feb | C41: =IFERROR(IF(C24=0,"-",C24/C7-1),"-") -> 0.0029616965 | D41: =IFERROR(IF(D24=0,"-",D24/D7-1),"-") -> -0.038243626 | E41: =IFERROR(IF(E24=0,"-",E24/E7-1),"-") -> 0.011389522 | F41: =IFERROR(IF(F24=0,"-",F24/F7-1),"-") -> -0.049074216 | G41: =IFERROR(IF(G24=0,"-",G24/G7-1),"-") -> -0.0083329172 | H41: =IFERROR(IF(H24=0,"-",H24/H7-1),"-") -> 0.042843826
B42: Mar | C42: =IFERROR(IF(C25=0,"-",C25/C8-1),"-") -> -0.0069408217 | D42: =IFERROR(IF(D25=0,"-",D25/D8-1),"-") -> -0.03982185 | E42: =IFERROR(IF(E25=0,"-",E25/E8-1),"-") -> -0.10167131 | F42: =IFERROR(IF(F25=0,"-",F25/F8-1),"-") -> 0.068849476 | G42: =IFERROR(IF(G25=0,"-",G25/G8-1),"-") -> 0.10545192 | H42: =IFERROR(IF(H25=0,"-",H25/H8-1),"-") -> 0.034244716
B43: Abr | C43: =IFERROR(IF(C26=0,"-",C26/C9-1),"-") -> -0.098151663 | D43: =IFERROR(IF(D26=0,"-",D26/D9-1),"-") -> -0.2826027 | E43: =IFERROR(IF(E26=0,"-",E26/E9-1),"-") -> -0.20187455 | F43: =IFERROR(IF(F26=0,"-",F26/F9-1),"-") -> -0.1011472 | G43: =IFERROR(IF(G26=0,"-",G26/G9-1),"-") -> 0.12995812 | H43: =IFERROR(IF(H26=0,"-",H26/H9-1),"-") -> 0.25711142
B44: May | C44: =IFERROR(IF(C27=0,"-",C27/C10-1),"-") -> 0.025860395 | D44: =IFERROR(IF(D27=0,"-",D27/D10-1),"-") -> 0.0045466702 | E44: =IFERROR(IF(E27=0,"-",E27/E10-1),"-") -> -0.0105919 | F44: =IFERROR(IF(F27=0,"-",F27/F10-1),"-") -> 0.015300633 | G44: =IFERROR(IF(G27=0,"-",G27/G10-1),"-") -> 0.036842528 | H44: =IFERROR(IF(H27=0,"-",H27/H10-1),"-") -> 0.021217257
B45: Jun | C45: =IFERROR(IF(C28=0,"-",C28/C11-1),"-") -> - | D45: =IFERROR(IF(D28=0,"-",D28/D11-1),"-") -> - | E45: =IFERROR(IF(E28=0,"-",E28/E11-1),"-") -> - | F45: =IFERROR(IF(F28=0,"-",F28/F11-1),"-") -> - | G45: =IFERROR(IF(G28=0,"-",G28/G11-1),"-") -> - | H45: =IFERROR(IF(H28=0,"-",H28/H11-1),"-") -> -
B46: Jul | C46: =IFERROR(IF(C29=0,"-",C29/C12-1),"-") -> - | D46: =IFERROR(IF(D29=0,"-",D29/D12-1),"-") -> - | E46: =IFERROR(IF(E29=0,"-",E29/E12-1),"-") -> - | F46: =IFERROR(IF(F29=0,"-",F29/F12-1),"-") -> - | G46: =IFERROR(IF(G29=0,"-",G29/G12-1),"-") -> - | H46: =IFERROR(IF(H29=0,"-",H29/H12-1),"-") -> -
...

Sheet SOL
B1: Tienda: | C1: UA - SOL
B3: 2018
B5: Mês | C5: Venta Neta | D5: Unidades | E5: Facturas emitidas | F5: P.A. | G5: Ticket Promedio | H5: Precio Promedio
B6: Ene | C6: 5.8963595e+08 | D6: 3605 | E6: 1582 | F6: =IF(D6=0,0,D6/E6) -> 2.2787611 | G6: =IF(C6=0,0,F6*H6) -> 372715.52 | H6: =IF(C6=0,0,C6/D6) -> 163560.6
B7: Feb | C7: 5.848938e+08 | D7: 3208 | E7: 1478 | F7: =IF(D7=0,0,D7/E7) -> 2.1705007 | G7: =IF(C7=0,0,F7*H7) -> 395733.29 | H7: =IF(C7=0,0,C7/D7) -> 182323.5
B8: Mar | C8: 6.4144553e+08 | D8: 3264 | E8: 1557 | F8: =IF(D8=0,0,D8/E8) -> 2.0963391 | G8: =IF(C8=0,0,F8*H8) -> 411975.29 | H8: =IF(C8=0,0,C8/D8) -> 196521.3
B9: Abr | C9: 6.9687762e+08 | D9: 3444 | E9: 1631 | F9: =IF(D9=0,0,D9/E9) -> 2.111588 | G9: =IF(C9=0,0,F9*H9) -> 427270.15 | H9: =IF(C9=0,0,C9/D9) -> 202345.42
B10: May | C10: 7.5957101e+08 | D10: 3463 | E10: 1600 | F10: =IF(D10=0,0,D10/E10) -> 2.164375 | G10: =IF(C10=0,0,F10*H10) -> 474731.88 | H10: =IF(C10=0,0,C10/D10) -> 219339.02
B11: Jun | C11: 8.168007e+08 | D11: 3203 | E11: 1582 | F11: =IF(D11=0,0,D11/E11) -> 2.0246523 | G11: =IF(C11=0,0,F11*H11) -> 516308.91 | H11: =IF(C11=0,0,C11/D11) -> 255011.15
B12: Jul | C12: 6.513241e+08 | D12: 2890 | E12: 1392 | F12: =IF(D12=0,0,D12/E12) -> 2.0761494 | G12: =IF(C12=0,0,F12*H12) -> 467905.24 | H12: =IF(C12=0,0,C12/D12) -> 225371.66
B13: Ago | C13: 7.1749141e+08 | D13: 3905 | E13: 1714 | F13: =IF(D13=0,0,D13/E13) -> 2.2782964 | G13: =IF(C13=0,0,F13*H13) -> 418606.42 | H13: =IF(C13=0,0,C13/D13) -> 183736.6
B14: Sep | C14: 5.45794e+08 | D14: 2731 | E14: 1276 | F14: =IF(D14=0,0,D14/E14) -> 2.1402821 | G14: =IF(C14=0,0,F14*H14) -> 427738.24 | H14: =IF(C14=0,0,C14/D14) -> 199851.34
B15: Oct | C15: 5.1695682e+08 | D15: 2475 | E15: 1235 | F15: =IF(D15=0,0,D15/E15) -> 2.0040486 | G15: =IF(C15=0,0,F15*H15) -> 418588.52 | H15: =IF(C15=0,0,C15/D15) -> 208871.44
B16: Nov | C16: 6.5229937e+08 | D16: 3483 | E16: 1467 | F16: =IF(D16=0,0,D16/E16) -> 2.3742331 | G16: =IF(C16=0,0,F16*H16) -> 444648.51 | H16: =IF(C16=0,0,C16/D16) -> 187280.9
B17: Dic | C17: 1.1077864e+09 | D17: 6401 | E17: 2697 | F17: =IF(D17=0,0,D17/E17) -> 2.3733778 | G17: =IF(C17=0,0,F17*H17) -> 410747.65 | H17: =IF(C17=0,0,C17/D17) -> 173064.58
B18: TOTAL | C18: =SUM(C6:C17) -> 8.2808767e+09 | D18: =SUM(D6:D17) -> 42072 | E18: =SUM(E6:E17) -> 19211 | F18: =IFERROR(D18/E18,0) -> 2.1899953 | G18: =IFERROR(IF(C18="",0,F18*H18),0) -> 431048.71 | H18: =IFERROR(C18/D18,0) -> 196826.31
B20: 2019
B22: Mês | C22: Venta Neta | D22: Unidades | E22: Facturas emitidas | F22: P.A. | G22: Ticket Promedio | H22: Precio Promedio
B23: Ene | C23: 5.6559526e+08 | D23: 3253 | E23: 1575 | F23: =IF(D23=0,0,D23/E23) -> 2.0653968 | G23: =IF(C23=0,0,F23*H23) -> 359108.1 | H23: =IF(C23=0,0,C23/D23) -> 173868.82
B24: Feb | C24: 5.9219428e+08 | D24: 3072 | E24: 1473 | F24: =IF(D24=0,0,D24/E24) -> 2.0855397 | G24: =IF(C24=0,0,F24*H24) -> 402032.77 | H24: =IF(C24=0,0,C24/D24) -> 192771.57
B25: Mar | C25: 5.4248291e+08 | D25: 2745 | E25: 1319 | F25: =IF(D25=0,0,D25/E25) -> 2.0811221 | G25: =IF(C25=0,0,F25*H25) -> 411283.48 | H25: =IF(C25=0,0,C25/D25) -> 197625.83
B26: Abr | C26: 6.481086e+08 | D26: 2663 | E26: 1262 | F26: =IF(D26=0,0,D26/E26) -> 2.1101426 | G26: =IF(C26=0,0,F26*H26) -> 513556.74 | H26: =IF(C26=0,0,C26/D26) -> 243375.37
B27: May | C27: 9.0595999e+08 | D27: 3778 | E27: 1711 | F27: =IF(D27=0,0,D27/E27) -> 2.2080655 | G27: =IF(C27=0,0,F27*H27) -> 529491.52 | H27: =IF(C27=0,0,C27/D27) -> 239798.83
B28: Jun | F28: =IF(D28=0,0,D28/E28) -> 0 | G28: =IF(C28=0,0,F28*H28) -> 0 | H28: =IF(C28=0,0,C28/D28) -> 0
B29: Jul | F29: =IF(D29=0,0,D29/E29) -> 0 | G29: =IF(C29=0,0,F29*H29) -> 0 | H29: =IF(C29=0,0,C29/D29) -> 0
B30: Ago | F30: =IF(D30=0,0,D30/E30) -> 0 | G30: =IF(C30=0,0,F30*H30) -> 0 | H30: =IF(C30=0,0,C30/D30) -> 0
B31: Sep | F31: =IF(D31=0,0,D31/E31) -> 0 | G31: =IF(C31=0,0,F31*H31) -> 0 | H31: =IF(C31=0,0,C31/D31) -> 0
B32: Oct | F32: =IF(D32=0,0,D32/E32) -> 0 | G32: =IF(C32=0,0,F32*H32) -> 0 | H32: =IF(C32=0,0,C32/D32) -> 0
B33: Nov | F33: =IF(D33=0,0,D33/E33) -> 0 | G33: =IF(C33=0,0,F33*H33) -> 0 | H33: =IF(C33=0,0,C33/D33) -> 0
B34: Dic | F34: =IF(D34=0,0,D34/E34) -> 0 | G34: =IF(C34=0,0,F34*H34) -> 0 | H34: =IF(C34=0,0,C34/D34) -> 0
B35: TOTAL | C35: =SUM(C23:C34) -> 3.254341e+09 | D35: =SUM(D23:D34) -> 15511 | E35: =SUM(E23:E34) -> 7340 | F35: =IFERROR(D35/E35,0) -> 2.1132153 | G35: =IFERROR(IF(C35="",0,F35*H35),0) -> 443370.71 | H35: =IFERROR(C35/D35,0) -> 209808.59
B37: =B20&" x "&B3 -> 2019 x 2018
B39: Mês | C39: Venta Neta | D39: Unidades | E39: Facturas emitidas | F39: P.A. | G39: Ticket Promedio | H39: Precio Promedio
B40: Ene | C40: =IFERROR(IF(C23=0,"-",C23/C6-1),"-") -> -0.04077208 | D40: =IFERROR(IF(D23=0,"-",D23/D6-1),"-") -> -0.097642164 | E40: =IFERROR(IF(E23=0,"-",E23/E6-1),"-") -> -0.0044247788 | F40: =IFERROR(IF(F23=0,"-",F23/F6-1),"-") -> -0.093631684 | G40: =IFERROR(IF(G23=0,"-",G23/G6-1),"-") -> -0.036508845 | H40: =IFERROR(IF(H23=0,"-",H23/H6-1),"-") -> 0.06302387
B41: Feb | C41: =IFERROR(IF(C24=0,"-",C24/C7-1),"-") -> 0.012481716 | D41: =IFERROR(IF(D24=0,"-",D24/D7-1),"-") -> -0.042394015 | E41: =IFERROR(IF(E24=0,"-",E24/E7-1),"-") -> -0.0033829499 | F41: =IFERROR(IF(F24=0,"-",F24/F7-1),"-") -> -0.039143485 | G41: =IFERROR(IF(G24=0,"-",G24/G7-1),"-") -> 0.015918518 | H41: =IFERROR(IF(H24=0,"-",H24/H7-1),"-") -> 0.057305126
B42: Mar | C42: =IFERROR(IF(C25=0,"-",C25/C8-1),"-") -> -0.15428063 | D42: =IFERROR(IF(D25=0,"-",D25/D8-1),"-") -> -0.15900735 | E42: =IFERROR(IF(E25=0,"-",E25/E8-1),"-") -> -0.15285806 | F42: =IFERROR(IF(F25=0,"-",F25/F8-1),"-") -> -0.0072588692 | G42: =IFERROR(IF(G25=0,"-",G25/G8-1),"-") -> -0.0016792607 | H42: =IFERROR(IF(H25=0,"-",H25/H8-1),"-") -> 0.0056204063
B43: Abr | C43: =IFERROR(IF(C26=0,"-",C26/C9-1),"-") -> -0.069982176 | D43: =IFERROR(IF(D26=0,"-",D26/D9-1),"-") -> -0.2267712 | E43: =IFERROR(IF(E26=0,"-",E26/E9-1),"-") -> -0.22624157 | F43: =IFERROR(IF(F26=0,"-",F26/F9-1),"-") -> -0.00068448585 | G43: =IFERROR(IF(G26=0,"-",G26/G9-1),"-") -> 0.20194855 | H43: =IFERROR(IF(H26=0,"-",H26/H9-1),"-") -> 0.20277183
B44: May | C44: =IFERROR(IF(C27=0,"-",C27/C10-1),"-") -> 0.19272586 | D44: =IFERROR(IF(D27=0,"-",D27/D10-1),"-") -> 0.090961594 | E44: =IFERROR(IF(E27=0,"-",E27/E10-1),"-") -> 0.069375 | F44: =IFERROR(IF(F27=0,"-",F27/F10-1),"-") -> 0.020186178 | G44: =IFERROR(IF(G27=0,"-",G27/G10-1),"-") -> 0.11534856 | H44: =IFERROR(IF(H27=0,"-",H27/H10-1),"-") -> 0.093279424
B45: Jun | C45: =IFERROR(IF(C28=0,"-",C28/C11-1),"-") -> - | D45: =IFERROR(IF(D28=0,"-",D28/D11-1),"-") -> - | E45: =IFERROR(IF(E28=0,"-",E28/E11-1),"-") -> - | F45: =IFERROR(IF(F28=0,"-",F28/F11-1),"-") -> - | G45: =IFERROR(IF(G28=0,"-",G28/G11-1),"-") -> - | H45: =IFERROR(IF(H28=0,"-",H28/H11-1),"-") -> -
B46: Jul | C46: =IFERROR(IF(C29=0,"-",C29/C12-1),"-") -> - | D46: =IFERROR(IF(D29=0,"-",D29/D12-1),"-") -> - | E46: =IFERROR(IF(E29=0,"-",E29/E12-1),"-") -> - | F46: =IFERROR(IF(F29=0,"-",F29/F12-1),"-") -> - | G46: =IFERROR(IF(G29=0,"-",G29/G12-1),"-") -> - | H46: =IFERROR(IF(H29=0,"-",H29/H12-1),"-") -> -
...

Sheet Mcal.
B1: Tienda: | C1: UA - Mcal.
B3: 2018
B5: Mês | C5: Venta Neta | D5: Unidades | E5: Facturas emitidas | F5: P.A. | G5: Ticket Promedio | H5: Precio Promedio
B6: Ene | C6: 4.5175072e+08 | D6: 2798 | E6: 1330 | F6: =IF(D6=0,0,D6/E6) -> 2.1037594 | G6: =IF(C6=0,0,F6*H6) -> 339662.2 | H6: =IF(C6=0,0,C6/D6) -> 161454.87
B7: Feb | C7: 4.4412482e+08 | D7: 2303 | E7: 1185 | F7: =IF(D7=0,0,D7/E7) -> 1.9434599 | G7: =IF(C7=0,0,F7*H7) -> 374788.88 | H7: =IF(C7=0,0,C7/D7) -> 192846.21
B8: Mar | C8: 3.9947746e+08 | D8: 1988 | E8: 1082 | F8: =IF(D8=0,0,D8/E8) -> 1.8373383 | G8: =IF(C8=0,0,F8*H8) -> 369202.83 | H8: =IF(C8=0,0,C8/D8) -> 200944.39
B9: Abr | C9: 3.847694e+08 | D9: 1934 | E9: 1069 | F9: =IF(D9=0,0,D9/E9) -> 1.8091674 | G9: =IF(C9=0,0,F9*H9) -> 359933.96 | H9: =IF(C9=0,0,C9/D9) -> 198950.05
B10: May | C10: 5.1650143e+08 | D10: 2323 | E10: 1195 | F10: =IF(D10=0,0,D10/E10) -> 1.9439331 | G10: =IF(C10=0,0,F10*H10) -> 432218.77 | H10: =IF(C10=0,0,C10/D10) -> 222342.42
B11: Jun | C11: 6.1129697e+08 | D11: 2343 | E11: 1247 | F11: =IF(D11=0,0,D11/E11) -> 1.8789094 | G11: =IF(C11=0,0,F11*H11) -> 490214.09 | H11: =IF(C11=0,0,C11/D11) -> 260903.53
B12: Jul | C12: 4.1468675e+08 | D12: 1776 | E12: 957 | F12: =IF(D12=0,0,D12/E12) -> 1.8557994 | G12: =IF(C12=0,0,F12*H12) -> 433319.49 | H12: =IF(C12=0,0,C12/D12) -> 233494.79
B13: Ago | C13: 5.1635311e+08 | D13: 2729 | E13: 1359 | F13: =IF(D13=0,0,D13/E13) -> 2.0080942 | G13: =IF(C13=0,0,F13*H13) -> 379950.78 | H13: =IF(C13=0,0,C13/D13) -> 189209.64
B14: Sep | C14: 3.8756415e+08 | D14: 2020 | E14: 1039 | F14: =IF(D14=0,0,D14/E14) -> 1.9441771 | G14: =IF(C14=0,0,F14*H14) -> 373016.51 | H14: =IF(C14=0,0,C14/D14) -> 191863.44
B15: Oct | C15: 3.9269379e+08 | D15: 1802 | E15: 945 | F15: =IF(D15=0,0,D15/E15) -> 1.9068783 | G15: =IF(C15=0,0,F15*H15) -> 415548.98 | H15: =IF(C15=0,0,C15/D15) -> 217921.08
B16: Nov | C16: 4.1631355e+08 | D16: 2424 | E16: 1108 | F16: =IF(D16=0,0,D16/E16) -> 2.1877256 | G16: =IF(C16=0,0,F16*H16) -> 375734.25 | H16: =IF(C16=0,0,C16/D16) -> 171746.51
B17: Dic | C17: 7.4672616e+08 | D17: 4027 | E17: 2041 | F17: =IF(D17=0,0,D17/E17) -> 1.9730524 | G17: =IF(C17=0,0,F17*H17) -> 365862.89 | H17: =IF(C17=0,0,C17/D17) -> 185429.89
B18: TOTAL | C18: =SUM(C6:C17) -> 5.6822583e+09 | D18: =SUM(D6:D17) -> 28467 | E18: =SUM(E6:E17) -> 14557 | F18: =IFERROR(D18/E18,0) -> 1.955554 | G18: =IFERROR(IF(C18="",0,F18*H18),0) -> 390345.42 | H18: =IFERROR(C18/D18,0) -> 199608.61
B20: 2019
B22: Mês | C22: Venta Neta | D22: Unidades | E22: Facturas emitidas | F22: P.A. | G22: Ticket Promedio | H22: Precio Promedio
B23: Ene | C23: 4.8333681e+08 | D23: 2673 | E23: 1392 | F23: =IF(D23=0,0,D23/E23) -> 1.9202586 | G23: =IF(C23=0,0,F23*H23) -> 347224.72 | H23: =IF(C23=0,0,C23/D23) -> 180821.85
B24: Feb | C24: 4.5955181e+08 | D24: 2326 | E24: 1340 | F24: =IF(D24=0,0,D24/E24) -> 1.7358209 | G24: =IF(C24=0,0,F24*H24) -> 342949.11 | H24: =IF(C24=0,0,C24/D24) -> 197571.72
B25: Mar | C25: 4.1046197e+08 | D25: 1853 | E25: 1044 | F25: =IF(D25=0,0,D25/E25) -> 1.7749042 | G25: =IF(C25=0,0,F25*H25) -> 393162.81 | H25: =IF(C25=0,0,C25/D25) -> 221512.13
B26: Abr | C26: 3.7179026e+08 | D26: 1563 | E26: 828 | F26: =IF(D26=0,0,D26/E26) -> 1.8876812 | G26: =IF(C26=0,0,F26*H26) -> 449022.06 | H26: =IF(C26=0,0,C26/D26) -> 237869.65
B27: May | C27: 5.5007195e+08 | D27: 2246 | E27: 1132 | F27: =IF(D27=0,0,D27/E27) -> 1.9840989 | G27: =IF(C27=0,0,F27*H27) -> 485929.29 | H27: =IF(C27=0,0,C27/D27) -> 244911.82
B28: Jun | F28: =IF(D28=0,0,D28/E28) -> 0 | G28: =IF(C28=0,0,F28*H28) -> 0 | H28: =IF(C28=0,0,C28/D28) -> 0
B29: Jul | F29: =IF(D29=0,0,D29/E29) -> 0 | G29: =IF(C29=0,0,F29*H29) -> 0 | H29: =IF(C29=0,0,C29/D29) -> 0
B30: Ago | F30: =IF(D30=0,0,D30/E30) -> 0 | G30: =IF(C30=0,0,F30*H30) -> 0 | H30: =IF(C30=0,0,C30/D30) -> 0
B31: Sep | F31: =IF(D31=0,0,D31/E31) -> 0 | G31: =IF(C31=0,0,F31*H31) -> 0 | H31: =IF(C31=0,0,C31/D31) -> 0
B32: Oct | F32: =IF(D32=0,0,D32/E32) -> 0 | G32: =IF(C32=0,0,F32*H32) -> 0 | H32: =IF(C32=0,0,C32/D32) -> 0
B33: Nov | F33: =IF(D33=0,0,D33/E33) -> 0 | G33: =IF(C33=0,0,F33*H33) -> 0 | H33: =IF(C33=0,0,C33/D33) -> 0
B34: Dic | F34: =IF(D34=0,0,D34/E34) -> 0 | G34: =IF(C34=0,0,F34*H34) -> 0 | H34: =IF(C34=0,0,C34/D34) -> 0
B35: TOTAL | C35: =SUM(C23:C34) -> 2.2752128e+09 | D35: =SUM(D23:D34) -> 10661 | E35: =SUM(E23:E34) -> 5736 | F35: =IFERROR(D35/E35,0) -> 1.8586123 | G35: =IFERROR(IF(C35="",0,F35*H35),0) -> 396654.95 | H35: =IFERROR(C35/D35,0) -> 213414.58
B37: =B20&" x "&B3 -> 2019 x 2018
B39: Mês | C39: Venta Neta | D39: Unidades | E39: Facturas emitidas | F39: P.A. | G39: Ticket Promedio | H39: Precio Promedio
B40: Ene | C40: =IFERROR(IF(C23=0,"-",C23/C6-1),"-") -> 0.069919282 | D40: =IFERROR(IF(D23=0,"-",D23/D6-1),"-") -> -0.044674768 | E40: =IFERROR(IF(E23=0,"-",E23/E6-1),"-") -> 0.046616541 | F40: =IFERROR(IF(F23=0,"-",F23/F6-1),"-") -> -0.087225173 | G40: =IFERROR(IF(G23=0,"-",G23/G6-1),"-") -> 0.022264831 | H40: =IFERROR(IF(H23=0,"-",H23/H6-1),"-") -> 0.11995292
B41: Feb | C41: =IFERROR(IF(C24=0,"-",C24/C7-1),"-") -> 0.034735705 | D41: =IFERROR(IF(D24=0,"-",D24/D7-1),"-") -> 0.0099869735 | E41: =IFERROR(IF(E24=0,"-",E24/E7-1),"-") -> 0.13080169 | F41: =IFERROR(IF(F24=0,"-",F24/F7-1),"-") -> -0.10683988 | G41: =IFERROR(IF(G24=0,"-",G24/G7-1),"-") -> -0.084953873 | H41: =IFERROR(IF(H24=0,"-",H24/H7-1),"-") -> 0.024504011
B42: Mar | C42: =IFERROR(IF(C25=0,"-",C25/C8-1),"-") -> 0.027497212 | D42: =IFERROR(IF(D25=0,"-",D25/D8-1),"-") -> -0.067907445 | E42: =IFERROR(IF(E25=0,"-",E25/E8-1),"-") -> -0.035120148 | F42: =IFERROR(IF(F25=0,"-",F25/F8-1),"-") -> -0.033980704 | G42: =IFERROR(IF(G25=0,"-",G25/G8-1),"-") -> 0.064896536 | H42: =IFERROR(IF(H25=0,"-",H25/H8-1),"-") -> 0.10235535
B43: Abr | C43: =IFERROR(IF(C26=0,"-",C26/C9-1),"-") -> -0.033732249 | D43: =IFERROR(IF(D26=0,"-",D26/D9-1),"-") -> -0.1918304 | E43: =IFERROR(IF(E26=0,"-",E26/E9-1),"-") -> -0.22544434 | F43: =IFERROR(IF(F26=0,"-",F26/F9-1),"-") -> 0.043397704 | G43: =IFERROR(IF(G26=0,"-",G26/G9-1),"-") -> 0.24751235 | H43: =IFERROR(IF(H26=0,"-",H26/H9-1),"-") -> 0.19562497
B44: May | C44: =IFERROR(IF(C27=0,"-",C27/C10-1),"-") -> 0.064995985 | D44: =IFERROR(IF(D27=0,"-",D27/D10-1),"-") -> -0.033146793 | E44: =IFERROR(IF(E27=0,"-",E27/E10-1),"-") -> -0.052719665 | F44: =IFERROR(IF(F27=0,"-",F27/F10-1),"-") -> 0.020662175 | G44: =IFERROR(IF(G27=0,"-",G27/G10-1),"-") -> 0.12426696 | H44: =IFERROR(IF(H27=0,"-",H27/H10-1),"-") -> 0.10150742
B45: Jun | C45: =IFERROR(IF(C28=0,"-",C28/C11-1),"-") -> - | D45: =IFERROR(IF(D28=0,"-",D28/D11-1),"-") -> - | E45: =IFERROR(IF(E28=0,"-",E28/E11-1),"-") -> - | F45: =IFERROR(IF(F28=0,"-",F28/F11-1),"-") -> - | G45: =IFERROR(IF(G28=0,"-",G28/G11-1),"-") -> - | H45: =IFERROR(IF(H28=0,"-",H28/H11-1),"-") -> -
B46: Jul | C46: =IFERROR(IF(C29=0,"-",C29/C12-1),"-") -> - | D46: =IFERROR(IF(D29=0,"-",D29/D12-1),"-") -> - | E46: =IFERROR(IF(E29=0,"-",E29/E12-1),"-") -> - | F46: =IFERROR(IF(F29=0,"-",F29/F12-1),"-") -> - | G46: =IFERROR(IF(G29=0,"-",G29/G12-1),"-") -> - | H46: =IFERROR(IF(H29=0,"-",H29/H12-1),"-") -> -
...

Sheet Lazos
C1: Sales Follow-Up | Sell Out
B2: Cliente: | C2: Sallustro | F2: Ciudad: | G2: Asunción
B3: Tienda: | C3: Lazos | F3: País: | G3: Paraguay
B4: Tienda (m²): | C4: =SUM(#REF!,#REF!,PLG!#REF!,SOL!#REF!,#REF!,'HS Mariano'!C4,#REF!,Mcal.!#REF!) -> #REF! | D4: =SUM(#REF!,#REF!,#REF!,PLG!#REF!,SOL!#REF!,#REF!,'HS Mariano'!C4,#REF!,Mcal.!#REF!) -> #REF!
B6: 2017
B7: MONEDA LOCAL | J7: CAMBIO | K7: DÓLAR | O7: MONEDA LOCAL
B8: Mês | C8: Facturación con IVA | D8: Prendas | E8: Clientes Atendidos | F8: P.A. | G8: Ticket Promedio | H8: Precio Promedio | I8: Ventas por m² | J8: Local/Dólar | K8: Facturación con IVA | L8: Ticket Promedio | M8: Precio Promedio | N8: Ventas por m² | O8: CPV | P8: MKP
B9: Ene | C9: =SUM(#REF!,'HS Mariano'!C9) -> #REF! | D9: =SUM(#REF!,'HS Mariano'!D9) -> #REF! | E9: =SUM(#REF!,'HS Mariano'!E9) -> #REF! | F9: =IF(D9=0,0,D9/E9) -> #REF! | G9: =IF(C9=0,0,F9*H9) -> #REF! | H9: =IF(C9=0,0,C9/D9) -> #REF! | I9: =IF(C9="",0,C9/$C$4) -> #REF! | J9: =IFERROR(C9/K9,0) -> 0 | K9: =SUM(#REF!,'HS Mariano'!K9) -> #REF! | L9: =IFERROR(IF(K9="",0,K9/E9),) -> 0 | M9: =IFERROR(IF(K9="",0,K9/D9),) -> 0 | N9: =K9/$C$4 -> #REF! | O9: =SUM(#REF!,'HS Mariano'!O9) -> #REF! | P9: =IFERROR(C9/O9,0) -> 0
B10: Feb | C10: =SUM(#REF!,'HS Mariano'!C10) -> #REF! | D10: =SUM(#REF!,'HS Mariano'!D10) -> #REF! | E10: =SUM(#REF!,'HS Mariano'!E10) -> #REF! | F10: =IF(D10=0,0,D10/E10) -> #REF! | G10: =IF(C10=0,0,F10*H10) -> #REF! | H10: =IF(C10=0,0,C10/D10) -> #REF! | I10: =IF(C10="",0,C10/$C$4) -> #REF! | J10: =IFERROR(C10/K10,0) -> 0 | K10: =SUM(#REF!,'HS Mariano'!K10) -> #REF! | L10: =IFERROR(IF(K10="",0,K10/E10),) -> 0 | M10: =IFERROR(IF(K10="",0,K10/D10),) -> 0 | N10: =K10/$C$4 -> #REF! | O10: =SUM(#REF!,'HS Mariano'!O10) -> #REF! | P10: =IFERROR(C10/O10,0) -> 0
B11: Mar | C11: =SUM(#REF!,'HS Mariano'!C11) -> #REF! | D11: =SUM(#REF!,'HS Mariano'!D11) -> #REF! | E11: =SUM(#REF!,'HS Mariano'!E11) -> #REF! | F11: =IF(D11=0,0,D11/E11) -> #REF! | G11: =IF(C11=0,0,F11*H11) -> #REF! | H11: =IF(C11=0,0,C11/D11) -> #REF! | I11: =IF(C11="",0,C11/$C$4) -> #REF! | J11: =IFERROR(C11/K11,0) -> 0 | K11: =SUM(#REF!,'HS Mariano'!K11) -> #REF! | L11: =IFERROR(IF(K11="",0,K11/E11),) -> 0 | M11: =IFERROR(IF(K11="",0,K11/D11),) -> 0 | N11: =K11/$C$4 -> #REF! | O11: =SUM(#REF!,'HS Mariano'!O11) -> #REF! | P11: =IFERROR(C11/O11,0) -> 0
B12: Abr | C12: =SUM(#REF!,'HS Mariano'!C12) -> #REF! | D12: =SUM(#REF!,'HS Mariano'!D12) -> #REF! | E12: =SUM(#REF!,'HS Mariano'!E12) -> #REF! | F12: =IF(D12=0,0,D12/E12) -> #REF! | G12: =IF(C12=0,0,F12*H12) -> #REF! | H12: =IF(C12=0,0,C12/D12) -> #REF! | I12: =IF(C12="",0,C12/$C$4) -> #REF! | J12: =IFERROR(C12/K12,0) -> 0 | K12: =SUM(#REF!,'HS Mariano'!K12) -> #REF! | L12: =IFERROR(IF(K12="",0,K12/E12),) -> 0 | M12: =IFERROR(IF(K12="",0,K12/D12),) -> 0 | N12: =K12/$C$4 -> #REF! | O12: =SUM(#REF!,'HS Mariano'!O12) -> #REF! | P12: =IFERROR(C12/O12,0) -> 0
B13: May | C13: =SUM(#REF!,'HS Mariano'!C13) -> #REF! | D13: =SUM(#REF!,'HS Mariano'!D13) -> #REF! | E13: =SUM(#REF!,'HS Mariano'!E13) -> #REF! | F13: =IF(D13=0,0,D13/E13) -> #REF! | G13: =IF(C13=0,0,F13*H13) -> #REF! | H13: =IF(C13=0,0,C13/D13) -> #REF! | I13: =IF(C13="",0,C13/$C$4) -> #REF! | J13: =IFERROR(C13/K13,0) -> 0 | K13: =SUM(#REF!,'HS Mariano'!K13) -> #REF! | L13: =IFERROR(IF(K13="",0,K13/E13),) -> 0 | M13: =IFERROR(IF(K13="",0,K13/D13),) -> 0 | N13: =K13/$C$4 -> #REF! | O13: =SUM(#REF!,'HS Mariano'!O13) -> #REF! | P13: =IFERROR(C13/O13,0) -> 0
B14: Jun | C14: =SUM(#REF!,'HS Mariano'!C14) -> #REF! | D14: =SUM(#REF!,'HS Mariano'!D14) -> #REF! | E14: =SUM(#REF!,'HS Mariano'!E14) -> #REF! | F14: =IF(D14=0,0,D14/E14) -> #REF! | G14: =IF(C14=0,0,F14*H14) -> #REF! | H14: =IF(C14=0,0,C14/D14) -> #REF! | I14: =IF(C14="",0,C14/$C$4) -> #REF! | J14: =IFERROR(C14/K14,0) -> 0 | K14: =SUM(#REF!,'HS Mariano'!K14) -> #REF! | L14: =IFERROR(IF(K14="",0,K14/E14),) -> 0 | M14: =IFERROR(IF(K14="",0,K14/D14),) -> 0 | N14: =K14/$C$4 -> #REF! | O14: =SUM(#REF!,'HS Mariano'!O14) -> #REF! | P14: =IFERROR(C14/O14,0) -> 0
B15: Jul | C15: =SUM(#REF!,'HS Mariano'!C15) -> #REF! | D15: =SUM(#REF!,'HS Mariano'!D15) -> #REF! | E15: =SUM(#REF!,'HS Mariano'!E15) -> #REF! | F15: =IF(D15=0,0,D15/E15) -> #REF! | G15: =IF(C15=0,0,F15*H15) -> #REF! | H15: =IF(C15=0,0,C15/D15) -> #REF! | I15: =IF(C15="",0,C15/$C$4) -> #REF! | J15: =IFERROR(C15/K15,0) -> 0 | K15: =SUM(#REF!,'HS Mariano'!K15) -> #REF! | L15: =IFERROR(IF(K15="",0,K15/E15),) -> 0 | M15: =IFERROR(IF(K15="",0,K15/D15),) -> 0 | N15: =K15/$C$4 -> #REF! | O15: =SUM(#REF!,'HS Mariano'!O15) -> #REF! | P15: =IFERROR(C15/O15,0) -> 0
B16: Ago | C16: =SUM(#REF!,'HS Mariano'!C16) -> #REF! | D16: =SUM(#REF!,'HS Mariano'!D16) -> #REF! | E16: =SUM(#REF!,'HS Mariano'!E16) -> #REF! | F16: =IF(D16=0,0,D16/E16) -> #REF! | G16: =IF(C16=0,0,F16*H16) -> #REF! | H16: =IF(C16=0,0,C16/D16) -> #REF! | I16: =IF(C16="",0,C16/$C$4) -> #REF! | J16: =IFERROR(C16/K16,0) -> 0 | K16: =SUM(#REF!,'HS Mariano'!K16) -> #REF! | L16: =IFERROR(IF(K16="",0,K16/E16),) -> 0 | M16: =IFERROR(IF(K16="",0,K16/D16),) -> 0 | N16: =K16/$C$4 -> #REF! | O16: =SUM(#REF!,'HS Mariano'!O16) -> #REF! | P16: =IFERROR(C16/O16,0) -> 0
B17: Sep | C17: =SUM(#REF!,'HS Mariano'!C17) -> #REF! | D17: =SUM(#REF!,'HS Mariano'!D17) -> #REF! | E17: =SUM(#REF!,'HS Mariano'!E17) -> #REF! | F17: =IF(D17=0,0,D17/E17) -> #REF! | G17: =IF(C17=0,0,F17*H17) -> #REF! | H17: =IF(C17=0,0,C17/D17) -> #REF! | I17: =IF(C17="",0,C17/$C$4) -> #REF! | J17: =IFERROR(C17/K17,0) -> 0 | K17: =SUM(#REF!,'HS Mariano'!K17) -> #REF! | L17: =IFERROR(IF(K17="",0,K17/E17),) -> 0 | M17: =IFERROR(IF(K17="",0,K17/D17),) -> 0 | N17: =K17/$C$4 -> #REF! | O17: =SUM(#REF!,'HS Mariano'!O17) -> #REF! | P17: =IFERROR(C17/O17,0) -> 0
B18: Oct | C18: =SUM(#REF!,'HS Mariano'!C18) -> #REF! | D18: =SUM(#REF!,'HS Mariano'!D18) -> #REF! | E18: =SUM(#REF!,'HS Mariano'!E18) -> #REF! | F18: =IF(D18=0,0,D18/E18) -> #REF! | G18: =IF(C18=0,0,F18*H18) -> #REF! | H18: =IF(C18=0,0,C18/D18) -> #REF! | I18: =IF(C18="",0,C18/$C$4) -> #REF! | J18: =IFERROR(C18/K18,0) -> 0 | K18: =SUM(#REF!,'HS Mariano'!K18) -> #REF! | L18: =IFERROR(IF(K18="",0,K18/E18),) -> 0 | M18: =IFERROR(IF(K18="",0,K18/D18),) -> 0 | N18: =K18/$C$4 -> #REF! | O18: =SUM(#REF!,'HS Mariano'!O18) -> #REF! | P18: =IFERROR(C18/O18,0) -> 0
B19: Nov | C19: =SUM(#REF!,'HS Mariano'!C19) -> #REF! | D19: =SUM(#REF!,'HS Mariano'!D19) -> #REF! | E19: =SUM(#REF!,'HS Mariano'!E19) -> #REF! | F19: =IF(D19=0,0,D19/E19) -> #REF! | G19: =IF(C19=0,0,F19*H19) -> #REF! | H19: =IF(C19=0,0,C19/D19) -> #REF! | I19: =IF(C19="",0,C19/$D$4) -> #REF! | J19: =IFERROR(C19/K19,0) -> 0 | K19: =SUM(#REF!,'HS Mariano'!K19) -> #REF! | L19: =IFERROR(IF(K19="",0,K19/E19),) -> 0 | M19: =IFERROR(IF(K19="",0,K19/D19),) -> 0 | N19: =K19/$D$4 -> #REF! | O19: =SUM(#REF!,'HS Mariano'!O19) -> #REF! | P19: =IFERROR(C19/O19,0) -> 0
B20: Dic | C20: =SUM(#REF!,'HS Mariano'!C20) -> #REF! | D20: =SUM(#REF!,'HS Mariano'!D20) -> #REF! | E20: =SUM(#REF!,'HS Mariano'!E20) -> #REF! | F20: =IF(D20=0,0,D20/E20) -> #REF! | G20: =IF(C20=0,0,F20*H20) -> #REF! | H20: =IF(C20=0,0,C20/D20) -> #REF! | I20: =IF(C20="",0,C20/$D$4) -> #REF! | J20: =IFERROR(C20/K20,0) -> 0 | K20: =SUM(#REF!,'HS Mariano'!K20) -> #REF! | L20: =IFERROR(IF(K20="",0,K20/E20),) -> 0 | M20: =IFERROR(IF(K20="",0,K20/D20),) -> 0 | N20: =K20/$D$4 -> #REF! | O20: =SUM(#REF!,'HS Mariano'!O20) -> #REF! | P20: =IFERROR(C20/O20,0) -> 0
B21: TOTAL | C21: =SUM(C9:C20) -> #REF! | D21: =SUM(D9:D20) -> #REF! | E21: =SUM(E9:E20) -> #REF! | F21: =IFERROR(D21/E21,0) -> 0 | G21: =IFERROR(IF(C21="",0,F21*H21),0) -> 0 | H21: =IFERROR(C21/D21,0) -> 0 | I21: =SUM(I9:I20) -> #REF! | J21: =IFERROR(C21/K21,0) -> 0 | K21: =SUM(K9:K20) -> #REF! | L21: =IFERROR(IF(K21="",0,K21/E21),) -> 0 | M21: =IFERROR(IF(K21="",0,K21/D21),) -> 0 | N21: =SUM(N9:N20) -> #REF! | O21: =SUM(O9:O20) -> #REF! | P21: =IFERROR(C21/O21,0) -> 0
B23: 2018
B24: MONEDA LOCAL | J24: CAMBIO | K24: DÓLAR | O24: MONEDA LOCAL
B25: Mês | C25: Facturación con IVA | D25: Prendas | E25: Clientes Atendidos | F25: P.A. | G25: Ticket Promedio | H25: Precio Promedio | I25: Ventas por m² | J25: Local/Dólar | K25: Facturación con IVA | L25: Ticket Promedio | M25: Precio Promedio | N25: Ventas por m² | O25: CPV | P25: MKP
B26: Ene | C26: =SUM(#REF!,'HS Mariano'!C26) -> #REF! | D26: =SUM(#REF!,'HS Mariano'!D26) -> #REF! | E26: =SUM(#REF!,'HS Mariano'!E26) -> #REF! | F26: =IF(D26=0,0,D26/E26) -> #REF! | G26: =IF(C26=0,0,F26*H26) -> #REF! | H26: =IF(C26=0,0,C26/D26) -> #REF! | I26: =IF(C26="",0,C26/$D$4) -> #REF! | J26: =IFERROR(C26/K26,0) -> 0 | K26: =SUM(#REF!,'HS Mariano'!K26) -> #REF! | L26: =IFERROR(IF(K26="",0,K26/E26),) -> 0 | M26: =IFERROR(IF(K26="",0,K26/D26),) -> 0 | N26: =K26/$D$4 -> #REF! | O26: =SUM(#REF!,'HS Mariano'!O26) -> #REF! | P26: =IFERROR(C26/O26,0) -> 0
B27: Feb | C27: =SUM(#REF!,'HS Mariano'!C27) -> #REF! | D27: =SUM(#REF!,'HS Mariano'!D27) -> #REF! | E27: =SUM(#REF!,'HS Mariano'!E27) -> #REF! | F27: =IF(D27=0,0,D27/E27) -> #REF! | G27: =IF(C27=0,0,F27*H27) -> #REF! | H27: =IF(C27=0,0,C27/D27) -> #REF! | I27: =IF(C27="",0,C27/$D$4) -> #REF! | J27: =IFERROR(C27/K27,0) -> 0 | K27: =SUM(#REF!,'HS Mariano'!K27) -> #REF! | L27: =IFERROR(IF(K27="",0,K27/E27),) -> 0 | M27: =IFERROR(IF(K27="",0,K27/D27),) -> 0 | N27: =K27/$D$4 -> #REF! | O27: =SUM(#REF!,'HS Mariano'!O27) -> #REF! | P27: =IFERROR(C27/O27,0) -> 0
B28: Mar | C28: =SUM(#REF!,'HS Mariano'!C28) -> #REF! | D28: =SUM(#REF!,'HS Mariano'!D28) -> #REF! | E28: =SUM(#REF!,'HS Mariano'!E28) -> #REF! | F28: =IF(D28=0,0,D28/E28) -> #REF! | G28: =IF(C28=0,0,F28*H28) -> #REF! | H28: =IF(C28=0,0,C28/D28) -> #REF! | I28: =IF(C28="",0,C28/$D$4) -> #REF! | J28: =IFERROR(C28/K28,0) -> 0 | K28: =SUM(#REF!,'HS Mariano'!K28) -> #REF! | L28: =IFERROR(IF(K28="",0,K28/E28),) -> 0 | M28: =IFERROR(IF(K28="",0,K28/D28),) -> 0 | N28: =K28/$D$4 -> #REF! | O28: =SUM(#REF!,'HS Mariano'!O28) -> #REF! | P28: =IFERROR(C28/O28,0) -> 0
B29: Abr | C29: =SUM(#REF!,'HS Mariano'!C29) -> #REF! | D29: =SUM(#REF!,'HS Mariano'!D29) -> #REF! | E29: =SUM(#REF!,'HS Mariano'!E29) -> #REF! | F29: =IF(D29=0,0,D29/E29) -> #REF! | G29: =IF(C29=0,0,F29*H29) -> #REF! | H29: =IF(C29=0,0,C29/D29) -> #REF! | I29: =IF(C29="",0,C29/$D$4) -> #REF! | J29: =IFERROR(C29/K29,0) -> 0 | K29: =SUM(#REF!,'HS Mariano'!K29) -> #REF! | L29: =IFERROR(IF(K29="",0,K29/E29),) -> 0 | M29: =IFERROR(IF(K29="",0,K29/D29),) -> 0 | N29: =K29/$D$4 -> #REF! | O29: =SUM(#REF!,'HS Mariano'!O29) -> #REF! | P29: =IFERROR(C29/O29,0) -> 0
B30: May | C30: =SUM(#REF!,'HS Mariano'!C30) -> #REF! | D30: =SUM(#REF!,'HS Mariano'!D30) -> #REF! | E30: =SUM(#REF!,'HS Mariano'!E30) -> #REF! | F30: =IF(D30=0,0,D30/E30) -> #REF! | G30: =IF(C30=0,0,F30*H30) -> #REF! | H30: =IF(C30=0,0,C30/D30) -> #REF! | I30: =IF(C30="",0,C30/$D$4) -> #REF! | J30: =IFERROR(C30/K30,0) -> 0 | K30: =SUM(#REF!,'HS Mariano'!K30) -> #REF! | L30: =IFERROR(IF(K30="",0,K30/E30),) -> 0 | M30: =IFERROR(IF(K30="",0,K30/D30),) -> 0 | N30: =K30/$D$4 -> #REF! | O30: =SUM(#REF!,'HS Mariano'!O30) -> #REF! | P30: =IFERROR(C30/O30,0) -> 0
B31: Jun | C31: =SUM(#REF!,'HS Mariano'!C31) -> #REF! | D31: =SUM(#REF!,'HS Mariano'!D31) -> #REF! | E31: =SUM(#REF!,'HS Mariano'!E31) -> #REF! | F31: =IF(D31=0,0,D31/E31) -> #REF! | G31: =IF(C31=0,0,F31*H31) -> #REF! | H31: =IF(C31=0,0,C31/D31) -> #REF! | I31: =IF(C31="",0,C31/$D$4) -> #REF! | J31: =IFERROR(C31/K31,0) -> 0 | K31: =SUM(#REF!,'HS Mariano'!K31) -> #REF! | L31: =IFERROR(IF(K31="",0,K31/E31),) -> 0 | M31: =IFERROR(IF(K31="",0,K31/D31),) -> 0 | N31: =K31/$D$4 -> #REF! | O31: =SUM(#REF!,'HS Mariano'!O31) -> #REF! | P31: =IFERROR(C31/O31,0) -> 0
B32: Jul | C32: =SUM(#REF!,'HS Mariano'!C32) -> #REF! | D32: =SUM(#REF!,'HS Mariano'!D32) -> #REF! | E32: =SUM(#REF!,'HS Mariano'!E32) -> #REF! | F32: =IF(D32=0,0,D32/E32) -> #REF! | G32: =IF(C32=0,0,F32*H32) -> #REF! | H32: =IF(C32=0,0,C32/D32) -> #REF! | I32: =IF(C32="",0,C32/$D$4) -> #REF! | J32: =IFERROR(C32/K32,0) -> 0 | K32: =SUM(#REF!,'HS Mariano'!K32) -> #REF! | L32: =IFERROR(IF(K32="",0,K32/E32),) -> 0 | M32: =IFERROR(IF(K32="",0,K32/D32),) -> 0 | N32: =K32/$D$4 -> #REF! | O32: =SUM(#REF!,'HS Mariano'!O32) -> #REF! | P32: =IFERROR(C32/O32,0) -> 0
B33: Ago | C33: =SUM(#REF!,'HS Mariano'!C33) -> #REF! | D33: =SUM(#REF!,'HS Mariano'!D33) -> #REF! | E33: =SUM(#REF!,'HS Mariano'!E33) -> #REF! | F33: =IF(D33=0,0,D33/E33) -> #REF! | G33: =IF(C33=0,0,F33*H33) -> #REF! | H33: =IF(C33=0,0,C33/D33) -> #REF! | I33: =IF(C33="",0,C33/$D$4) -> #REF! | J33: =IFERROR(C33/K33,0) -> 0 | K33: =SUM(#REF!,'HS Mariano'!K33) -> #REF! | L33: =IFERROR(IF(K33="",0,K33/E33),) -> 0 | M33: =IFERROR(IF(K33="",0,K33/D33),) -> 0 | N33: =K33/$D$4 -> #REF! | O33: =SUM(#REF!,'HS Mariano'!O33) -> #REF! | P33: =IFERROR(C33/O33,0) -> 0
B34: Sep | C34: =SUM(#REF!,'HS Mariano'!C34) -> #REF! | D34: =SUM(#REF!,'HS Mariano'!D34) -> #REF! | E34: =SUM(#REF!,'HS Mariano'!E34) -> #REF! | F34: =IF(D34=0,0,D34/E34) -> #REF! | G34: =IF(C34=0,0,F34*H34) -> #REF! | H34: =IF(C34=0,0,C34/D34) -> #REF! | I34: =IF(C34="",0,C34/$D$4) -> #REF! | J34: =IFERROR(C34/K34,0) -> 0 | K34: =SUM(#REF!,'HS Mariano'!K34) -> #REF! | L34: =IFERROR(IF(K34="",0,K34/E34),) -> 0 | M34: =IFERROR(IF(K34="",0,K34/D34),) -> 0 | N34: =K34/$D$4 -> #REF! | O34: =SUM(#REF!,'HS Mariano'!O34) -> #REF! | P34: =IFERROR(C34/O34,0) -> 0
B35: Oct | C35: =SUM(#REF!,'HS Mariano'!C35) -> #REF! | D35: =SUM(#REF!,'HS Mariano'!D35) -> #REF! | E35: =SUM(#REF!,'HS Mariano'!E35) -> #REF! | F35: =IF(D35=0,0,D35/E35) -> #REF! | G35: =IF(C35=0,0,F35*H35) -> #REF! | H35: =IF(C35=0,0,C35/D35) -> #REF! | I35: =IF(C35="",0,C35/$D$4) -> #REF! | J35: =IFERROR(C35/K35,0) -> 0 | K35: =SUM(#REF!,'HS Mariano'!K35) -> #REF! | L35: =IFERROR(IF(K35="",0,K35/E35),) -> 0 | M35: =IFERROR(IF(K35="",0,K35/D35),) -> 0 | N35: =K35/$D$4 -> #REF! | O35: =SUM(#REF!,'HS Mariano'!O35) -> #REF! | P35: =IFERROR(C35/O35,0) -> 0
B36: Nov | C36: =SUM(#REF!,'HS Mariano'!C36) -> #REF! | D36: =SUM(#REF!,'HS Mariano'!D36) -> #REF! | E36: =SUM(#REF!,'HS Mariano'!E36) -> #REF! | F36: =IF(D36=0,0,D36/E36) -> #REF! | G36: =IF(C36=0,0,F36*H36) -> #REF! | H36: =IF(C36=0,0,C36/D36) -> #REF! | I36: =IF(C36="",0,C36/$D$4) -> #REF! | J36: =IFERROR(C36/K36,0) -> 0 | K36: =SUM(#REF!,'HS Mariano'!K36) -> #REF! | L36: =IFERROR(IF(K36="",0,K36/E36),) -> 0 | M36: =IFERROR(IF(K36="",0,K36/D36),) -> 0 | N36: =K36/$D$4 -> #REF! | O36: =SUM(#REF!,'HS Mariano'!O36) -> #REF! | P36: =IFERROR(C36/O36,0) -> 0
B37: Dic | C37: =SUM(#REF!,'HS Mariano'!C37) -> #REF! | D37: =SUM(#REF!,'HS Mariano'!D37) -> #REF! | E37: =SUM(#REF!,'HS Mariano'!E37) -> #REF! | F37: =IF(D37=0,0,D37/E37) -> #REF! | G37: =IF(C37=0,0,F37*H37) -> #REF! | H37: =IF(C37=0,0,C37/D37) -> #REF! | I37: =IF(C37="",0,C37/$D$4) -> #REF! | J37: =IFERROR(C37/K37,0) -> 0 | K37: =SUM(#REF!,'HS Mariano'!K37) -> #REF! | L37: =IFERROR(IF(K37="",0,K37/E37),) -> 0 | M37: =IFERROR(IF(K37="",0,K37/D37),) -> 0 | N37: =K37/$D$4 -> #REF! | O37: =SUM(#REF!,'HS Mariano'!O37) -> #REF! | P37: =IFERROR(C37/O37,0) -> 0
B38: TOTAL | C38: =SUM(C26:C37) -> #REF! | D38: =SUM(D26:D37) -> #REF! | E38: =SUM(E26:E37) -> #REF! | F38: =IFERROR(D38/E38,0) -> 0 | G38: =IFERROR(IF(C38="",0,F38*H38),0) -> 0 | H38: =IFERROR(C38/D38,0) -> 0 | I38: =SUM(I26:I37) -> #REF! | J38: =IFERROR(C38/K38,0) -> 0 | K38: =SUM(K26:K37) -> #REF! | L38: =IFERROR(IF(K38="",0,K38/E38),) -> 0 | M38: =IFERROR(IF(K38="",0,K38/D38),) -> 0 | N38: =SUM(N26:N37) -> #REF! | O38: =SUM(O26:O37) -> #REF! | P38: =IFERROR(C38/O38,0) -> 0
B40: =B23&" x "&B6 -> 2018 x 2017
B41: MONEDA LOCAL | J41: CAMBIO | K41: DÓLAR | O41: MONEDA LOCAL
A42: Acumulado | B42: Mês | C42: Facturación con IVA | D42: Prendas | E42: Clientes Atendidos | F42: P.A. | G42: Ticket Promedio | H42: Precio Promedio | I42: Ventas por m² | J42: Local/Dólar | K42: Facturación con IVA | L42: Ticket Promedio | M42: Precio Promedio | N42: Ventas por m² | O42: CPV | P42: MKP
A43: =B43 -> Ene | B43: Ene | C43: =IFERROR(IF(C26=0,"-",C26/C9-1),"-") -> - | D43: =IFERROR(IF(D26=0,"-",D26/D9-1),"-") -> - | E43: =IFERROR(IF(E26=0,"-",E26/E9-1),"-") -> - | F43: =IFERROR(IF(F26=0,"-",F26/F9-1),"-") -> - | G43: =IFERROR(IF(G26=0,"-",G26/G9-1),"-") -> - | H43: =IFERROR(IF(H26=0,"-",H26/H9-1),"-") -> - | I43: =IFERROR(IF(I26=0,"-",I26/I9-1),"-") -> - | J43: =IFERROR(IF(J26=0,"-",J26/J9-1),"-") -> - | ... P43: =IFERROR(IF(P26=0,"-",P26/P9-1),"-") -> -
...

Sheet HS Mariano
C1: Sales Follow-Up | Sell Out
B2: Cliente: | C2: =#REF! -> #REF! | F2: Ciudad: | G2: Mariano Roque Alonso
B3: Tienda: | C3: HS Mariano | F3: País: | G3: =#REF! -> #REF!
B4: Tienda (m²): | C4: 158
B6: 2017
B7: MONEDA LOCAL | J7: CAMBIO | K7: DÓLAR | O7: MONEDA LOCAL
B8: Mês | C8: Facturación con IVA | D8: Prendas | E8: Clientes Atendidos | F8: P.A. | G8: Ticket Promedio | H8: Precio Promedio | I8: Ventas por m² | J8: Local/Dólar | K8: Facturación con IVA | L8: Ticket Promedio | M8: Precio Promedio | N8: Ventas por m² | O8: CPV | P8: MKP
B9: Ene | F9: =IF(D9=0,0,D9/E9) -> 0 | G9: =IF(C9=0,0,F9*H9) -> 0 | H9: =IF(C9=0,0,C9/D9) -> 0 | I9: =C9/$C$4 -> 0 | K9: =IF(C9="","",C9/J9) | L9: =IF(K9="",0,K9/E9) -> 0 | M9: =IF(K9="",0,K9/D9) -> 0 | N9: =IF(K9="",0,K9/$C$4) -> 0 | P9: =IFERROR(C9/O9,0) -> 0
B10: Feb | F10: =IF(D10=0,0,D10/E10) -> 0 | G10: =IF(C10=0,0,F10*H10) -> 0 | H10: =IF(C10=0,0,C10/D10) -> 0 | I10: =IF(C10="",0,C10/$C$4) -> 0 | K10: =IF(C10="","",C10/J10) | L10: =IF(K10="",0,K10/E10) -> 0 | M10: =IF(K10="",0,K10/D10) -> 0 | N10: =IF(K10="",0,K10/$C$4) -> 0 | P10: =IFERROR(C10/O10,0) -> 0
B11: Mar | F11: =IF(D11=0,0,D11/E11) -> 0 | G11: =IF(C11=0,0,F11*H11) -> 0 | H11: =IF(C11=0,0,C11/D11) -> 0 | I11: =IF(C11="",0,C11/$C$4) -> 0 | K11: =IF(C11="","",C11/J11) | L11: =IF(K11="",0,K11/E11) -> 0 | M11: =IF(K11="",0,K11/D11) -> 0 | N11: =IF(K11="",0,K11/$C$4) -> 0 | P11: =IFERROR(C11/O11,0) -> 0
B12: Abr | F12: =IF(D12=0,0,D12/E12) -> 0 | G12: =IF(C12=0,0,F12*H12) -> 0 | H12: =IF(C12=0,0,C12/D12) -> 0 | I12: =IF(C12="",0,C12/$C$4) -> 0 | K12: =IF(C12="","",C12/J12) | L12: =IF(K12="",0,K12/E12) -> 0 | M12: =IF(K12="",0,K12/D12) -> 0 | N12: =IF(K12="",0,K12/$C$4) -> 0 | P12: =IFERROR(C12/O12,0) -> 0
B13: May | F13: =IF(D13=0,0,D13/E13) -> 0 | G13: =IF(C13=0,0,F13*H13) -> 0 | H13: =IF(C13=0,0,C13/D13) -> 0 | I13: =IF(C13="",0,C13/$C$4) -> 0 | K13: =IF(C13="","",C13/J13) | L13: =IF(K13="",0,K13/E13) -> 0 | M13: =IF(K13="",0,K13/D13) -> 0 | N13: =IF(K13="",0,K13/$C$4) -> 0 | P13: =IFERROR(C13/O13,0) -> 0
B14: Jun | F14: =IF(D14=0,0,D14/E14) -> 0 | G14: =IF(C14=0,0,F14*H14) -> 0 | H14: =IF(C14=0,0,C14/D14) -> 0 | I14: =IF(C14="",0,C14/$C$4) -> 0 | K14: =IF(C14="","",C14/J14) | L14: =IF(K14="",0,K14/E14) -> 0 | M14: =IF(K14="",0,K14/D14) -> 0 | N14: =IF(K14="",0,K14/$C$4) -> 0 | P14: =IFERROR(C14/O14,0) -> 0
B15: Jul | F15: =IF(D15=0,0,D15/E15) -> 0 | G15: =IF(C15=0,0,F15*H15) -> 0 | H15: =IF(C15=0,0,C15/D15) -> 0 | I15: =IF(C15="",0,C15/$C$4) -> 0 | K15: =IF(C15="","",C15/J15) | L15: =IF(K15="",0,K15/E15) -> 0 | M15: =IF(K15="",0,K15/D15) -> 0 | N15: =IF(K15="",0,K15/$C$4) -> 0 | P15: =IFERROR(C15/O15,0) -> 0
B16: Ago | F16: =IF(D16=0,0,D16/E16) -> 0 | G16: =IF(C16=0,0,F16*H16) -> 0 | H16: =IF(C16=0,0,C16/D16) -> 0 | I16: =IF(C16="",0,C16/$C$4) -> 0 | K16: =IF(C16="","",C16/J16) | L16: =IF(K16="",0,K16/E16) -> 0 | M16: =IF(K16="",0,K16/D16) -> 0 | N16: =IF(K16="",0,K16/$C$4) -> 0 | P16: =IFERROR(C16/O16,0) -> 0
B17: Sep | F17: =IF(D17=0,0,D17/E17) -> 0 | G17: =IF(C17=0,0,F17*H17) -> 0 | H17: =IF(C17=0,0,C17/D17) -> 0 | I17: =IF(C17="",0,C17/$C$4) -> 0 | K17: =IF(C17="","",C17/J17) | L17: =IF(K17="",0,K17/E17) -> 0 | M17: =IF(K17="",0,K17/D17) -> 0 | N17: =IF(K17="",0,K17/$C$4) -> 0 | P17: =IFERROR(C17/O17,0) -> 0
B18: Oct | F18: =IF(D18=0,0,D18/E18) -> 0 | G18: =IF(C18=0,0,F18*H18) -> 0 | H18: =IF(C18=0,0,C18/D18) -> 0 | I18: =IF(C18="",0,C18/$C$4) -> 0 | K18: =IF(C18="","",C18/J18) | L18: =IF(K18="",0,K18/E18) -> 0 | M18: =IF(K18="",0,K18/D18) -> 0 | N18: =IF(K18="",0,K18/$C$4) -> 0 | P18: =IFERROR(C18/O18,0) -> 0
B19: Nov | F19: =IF(D19=0,0,D19/E19) -> 0 | G19: =IF(C19=0,0,F19*H19) -> 0 | H19: =IF(C19=0,0,C19/D19) -> 0 | I19: =IF(C19="",0,C19/$C$4) -> 0 | K19: =IF(C19="","",C19/J19) | L19: =IF(K19="",0,K19/E19) -> 0 | M19: =IF(K19="",0,K19/D19) -> 0 | N19: =IF(K19="",0,K19/$C$4) -> 0 | P19: =IFERROR(C19/O19,0) -> 0
B20: Dic | F20: =IF(D20=0,0,D20/E20) -> 0 | G20: =IF(C20=0,0,F20*H20) -> 0 | H20: =IF(C20=0,0,C20/D20) -> 0 | I20: =IF(C20="",0,C20/$C$4) -> 0 | K20: =IF(C20="","",C20/J20) | L20: =IF(K20="",0,K20/E20) -> 0 | M20: =IF(K20="",0,K20/D20) -> 0 | N20: =IF(K20="",0,K20/$C$4) -> 0 | P20: =IFERROR(C20/O20,0) -> 0
B21: TOTAL | C21: =SUM(C9:C20) -> 0 | D21: =SUM(D9:D20) -> 0 | E21: =SUM(E9:E20) -> 0 | F21: =IFERROR(D21/E21,0) -> 0 | G21: =IFERROR(IF(C21="",0,F21*H21),0) -> 0 | H21: =IFERROR(C21/D21,0) -> 0 | I21: =SUM(I9:I20) -> 0 | J21: =IFERROR(C21/K21,0) -> 0 | K21: =SUM(K9:K20) -> 0 | L21: =IFERROR(IF(K21="",0,K21/E21),) -> 0 | M21: =IFERROR(IF(K21="",0,K21/D21),) -> 0 | N21: =SUM(N9:N20) -> 0 | O21: =SUM(O9:O20) -> 0 | P21: =IFERROR(C21/O21,0) -> 0
B23: 2018
B24: MONEDA LOCAL | J24: CAMBIO | K24: DÓLAR | O24: MONEDA LOCAL
B25: Mês | C25: Facturación con IVA | D25: Prendas | E25: Clientes Atendidos | F25: P.A. | G25: Ticket Promedio | H25: Precio Promedio | I25: Ventas por m² | J25: Local/Dólar | K25: Facturación con IVA | L25: Ticket Promedio | M25: Precio Promedio | N25: Ventas por m² | O25: CPV | P25: MKP
B26: Ene | F26: =IF(D26=0,0,D26/E26) -> 0 | G26: =IF(C26=0,0,F26*H26) -> 0 | H26: =IF(C26=0,0,C26/D26) -> 0 | I26: =C26/$C$4 -> 0 | K26: =IF(C26="",0,C26/J26) -> 0 | L26: =IF(K26=0,0,K26/E26) -> 0 | M26: =IF(K26=0,0,K26/D26) -> 0 | N26: =IF(K26="",0,K26/$C$4) -> 0 | P26: =IFERROR(C26/O26,0) -> 0
B27: Feb | F27: =IF(D27=0,0,D27/E27) -> 0 | G27: =IF(C27=0,0,F27*H27) -> 0 | H27: =IF(C27=0,0,C27/D27) -> 0 | I27: =IF(C27="",0,C27/$C$4) -> 0 | K27: =IF(C27="",0,C27/J27) -> 0 | L27: =IF(K27=0,0,K27/E27) -> 0 | M27: =IF(K27=0,0,K27/D27) -> 0 | N27: =IF(K27="",0,K27/$C$4) -> 0 | P27: =IFERROR(C27/O27,0) -> 0
B28: Mar | F28: =IF(D28=0,0,D28/E28) -> 0 | G28: =IF(C28=0,0,F28*H28) -> 0 | H28: =IF(C28=0,0,C28/D28) -> 0 | I28: =IF(C28="",0,C28/$C$4) -> 0 | K28: =IF(C28="",0,C28/J28) -> 0 | L28: =IF(K28=0,0,K28/E28) -> 0 | M28: =IF(K28=0,0,K28/D28) -> 0 | N28: =IF(K28="",0,K28/$C$4) -> 0 | P28: =IFERROR(C28/O28,0) -> 0
B29: Abr | F29: =IF(D29=0,0,D29/E29) -> 0 | G29: =IF(C29=0,0,F29*H29) -> 0 | H29: =IF(C29=0,0,C29/D29) -> 0 | I29: =IF(C29="",0,C29/$C$4) -> 0 | K29: =IF(C29="",0,C29/J29) -> 0 | L29: =IF(K29=0,0,K29/E29) -> 0 | M29: =IF(K29=0,0,K29/D29) -> 0 | N29: =IF(K29="",0,K29/$C$4) -> 0 | P29: =IFERROR(C29/O29,0) -> 0
B30: May | F30: =IF(D30=0,0,D30/E30) -> 0 | G30: =IF(C30=0,0,F30*H30) -> 0 | H30: =IF(C30=0,0,C30/D30) -> 0 | I30: =IF(C30="",0,C30/$C$4) -> 0 | K30: =IF(C30="",0,C30/J30) -> 0 | L30: =IF(K30=0,0,K30/E30) -> 0 | M30: =IF(K30=0,0,K30/D30) -> 0 | N30: =IF(K30="",0,K30/$C$4) -> 0 | P30: =IFERROR(C30/O30,0) -> 0
B31: Jun | F31: =IF(D31=0,0,D31/E31) -> 0 | G31: =IF(C31=0,0,F31*H31) -> 0 | H31: =IF(C31=0,0,C31/D31) -> 0 | I31: =IF(C31="",0,C31/$C$4) -> 0 | K31: =IF(C31="",0,C31/J31) -> 0 | L31: =IF(K31=0,0,K31/E31) -> 0 | M31: =IF(K31=0,0,K31/D31) -> 0 | N31: =IF(K31="",0,K31/$C$4) -> 0 | P31: =IFERROR(C31/O31,0) -> 0
B32: Jul | F32: =IF(D32=0,0,D32/E32) -> 0 | G32: =IF(C32=0,0,F32*H32) -> 0 | H32: =IF(C32=0,0,C32/D32) -> 0 | I32: =IF(C32="",0,C32/$C$4) -> 0 | K32: =IF(C32="",0,C32/J32) -> 0 | L32: =IF(K32=0,0,K32/E32) -> 0 | M32: =IF(K32=0,0,K32/D32) -> 0 | N32: =IF(K32="",0,K32/$C$4) -> 0 | P32: =IFERROR(C32/O32,0) -> 0
B33: Ago | F33: =IF(D33=0,0,D33/E33) -> 0 | G33: =IF(C33=0,0,F33*H33) -> 0 | H33: =IF(C33=0,0,C33/D33) -> 0 | I33: =IF(C33="",0,C33/$C$4) -> 0 | K33: =IF(C33="",0,C33/J33) -> 0 | L33: =IF(K33=0,0,K33/E33) -> 0 | M33: =IF(K33=0,0,K33/D33) -> 0 | N33: =IF(K33="",0,K33/$C$4) -> 0 | P33: =IFERROR(C33/O33,0) -> 0
B34: Sep | F34: =IF(D34=0,0,D34/E34) -> 0 | G34: =IF(C34=0,0,F34*H34) -> 0 | H34: =IF(C34=0,0,C34/D34) -> 0 | I34: =IF(C34="",0,C34/$C$4) -> 0 | K34: =IF(C34="",0,C34/J34) -> 0 | L34: =IF(K34=0,0,K34/E34) -> 0 | M34: =IF(K34=0,0,K34/D34) -> 0 | N34: =IF(K34="",0,K34/$C$4) -> 0 | P34: =IFERROR(C34/O34,0) -> 0
B35: Oct | F35: =IF(D35=0,0,D35/E35) -> 0 | G35: =IF(C35=0,0,F35*H35) -> 0 | H35: =IF(C35=0,0,C35/D35) -> 0 | I35: =IF(C35="",0,C35/$C$4) -> 0 | K35: =IF(C35="",0,C35/J35) -> 0 | L35: =IF(K35=0,0,K35/E35) -> 0 | M35: =IF(K35=0,0,K35/D35) -> 0 | N35: =IF(K35="",0,K35/$C$4) -> 0 | P35: =IFERROR(C35/O35,0) -> 0
B36: Nov | F36: =IF(D36=0,0,D36/E36) -> 0 | G36: =IF(C36=0,0,F36*H36) -> 0 | H36: =IF(C36=0,0,C36/D36) -> 0 | I36: =IF(C36="",0,C36/$C$4) -> 0 | K36: =IF(C36="",0,C36/J36) -> 0 | L36: =IF(K36=0,0,K36/E36) -> 0 | M36: =IF(K36=0,0,K36/D36) -> 0 | N36: =IF(K36="",0,K36/$C$4) -> 0 | P36: =IFERROR(C36/O36,0) -> 0
B37: Dic | F37: =IF(D37=0,0,D37/E37) -> 0 | G37: =IF(C37=0,0,F37*H37) -> 0 | H37: =IF(C37=0,0,C37/D37) -> 0 | I37: =IF(C37="",0,C37/$C$4) -> 0 | K37: =IF(C37="",0,C37/J37) -> 0 | L37: =IF(K37=0,0,K37/E37) -> 0 | M37: =IF(K37=0,0,K37/D37) -> 0 | N37: =IF(K37="",0,K37/$C$4) -> 0 | P37: =IFERROR(C37/O37,0) -> 0
B38: TOTAL | C38: =SUM(C26:C37) -> 0 | D38: =SUM(D26:D37) -> 0 | E38: =SUM(E26:E37) -> 0 | F38: =IFERROR(D38/E38,0) -> 0 | G38: =IFERROR(IF(C38="",0,F38*H38),0) -> 0 | H38: =IFERROR(C38/D38,0) -> 0 | I38: =SUM(I26:I37) -> 0 | J38: =IFERROR(C38/K38,0) -> 0 | K38: =SUM(K26:K37) -> 0 | L38: =IFERROR(IF(K38="",0,K38/E38),) -> 0 | M38: =IFERROR(IF(K38="",0,K38/D38),) -> 0 | N38: =SUM(N26:N37) -> 0 | O38: =SUM(O26:O37) -> 0 | P38: =IFERROR(C38/O38,0) -> 0
B40: =B23&" x "&B6 -> 2018 x 2017
B41: MONEDA LOCAL | J41: CAMBIO | K41: DÓLAR | O41: MONEDA LOCAL
B42: Mês | C42: Facturación con IVA | D42: Prendas | E42: Clientes Atendidos | F42: P.A. | G42: Ticket Promedio | H42: Precio Promedio | I42: Ventas por m² | J42: Local/Dólar | K42: Facturación con IVA | L42: Ticket Promedio | M42: Precio Promedio | N42: Ventas por m² | O42: CPV | P42: MKP
B43: Ene | C43: =IFERROR(IF(C26=0,"-",C26/C9-1),"-") -> - | D43: =IFERROR(IF(D26=0,"-",D26/D9-1),"-") -> - | E43: =IFERROR(IF(E26=0,"-",E26/E9-1),"-") -> - | F43: =IFERROR(IF(F26=0,"-",F26/F9-1),"-") -> - | G43: =IFERROR(IF(G26=0,"-",G26/G9-1),"-") -> - | H43: =IFERROR(IF(H26=0,"-",H26/H9-1),"-") -> - | I43: =IFERROR(IF(I26=0,"-",I26/I9-1),"-") -> - | J43: =IFERROR(IF(J26=0,"-",J26/J9-1),"-") -> - | ... P43: =IFERROR(IF(P26=0,"-",P26/P9-1),"-") -> -
...
